{
 "currentVersion": 11.5,
 "serviceDescription": "Hosted/20220122_0m38_WV03_VNIR_Nguigmi2_Clip",
 "serviceItemId": "6f1fb55f084649548850e6401a4e50ca",
 "name": "Hosted/20220122_0m38_WV03_VNIR_Nguigmi2_Clip",
 "description": "",
 "extent": {
  "xmin": 1439882.3889999986,
  "ymin": 1589259.3703086309,
  "xmax": 1453803.7563293276,
  "ymax": 1596253.751800001,
  "spatialReference": {
   "wkid": 102100,
   "latestWkid": 3857
  }
 },
 "initialExtent": {
  "xmin": 1439882.3889999986,
  "ymin": 1589259.3703086309,
  "xmax": 1453803.7563293276,
  "ymax": 1596253.751800001,
  "spatialReference": {
   "wkid": 102100,
   "latestWkid": 3857
  }
 },
 "fullExtent": {
  "xmin": 1439882.3889999986,
  "ymin": 1589259.3703086309,
  "xmax": 1453803.7563293276,
  "ymax": 1596253.751800001,
  "spatialReference": {
   "wkid": 102100,
   "latestWkid": 3857
  }
 },
 "sortableFields": "",
 "bandCount": 3,
 "pixelType": "U8",
 "minValues": [
  1,
  1,
  1
 ],
 "maxValues": [
  255,
  255,
  255
 ],
 "meanValues": [
  163.75715980369847,
  157.47764554190795,
  141.60850440558406
 ],
 "stdvValues": [
  36.929269173153095,
  34.350220989802374,
  30.811880102355467
 ],
 "serviceProperties": "Center<\/MosaicMethod>First<\/MosaicOperator>true<\/SortAscending><\/LockImageID><\/TileOrderField>0<\/TileOrderBase>0.000000<\/AvgImageSpacingX>0.000000<\/AvgImageSpacingY>0.0<\/ViewPointX>0.0<\/ViewPointY>0.0<\/ViewPointDefShiftX>0.0<\/ViewPointDefShiftY>None<\/CompressionMethod>75<\/CompressionQuality>0.010000<\/CompressionTolerance>Bilinear<\/SamplingMethod><\/ImageServiceProperties><\/ImageServer>",
 "allowedFields": "",
 "hasMultidimensions": false,
 "pixelSizeX": 0.37862726635468397,
 "pixelSizeY": 0.37862726635468164,
 "meanPixelSize": 0.3786272663546828,
 "datasetFormat": "Cache/LERC2D",
 "uncompressedSize": 2037645792,
 "blockWidth": 256,
 "blockHeight": 256,
 "compressionType": "LERC2D",
 "bandNames": [
  "Band_1",
  "Band_2",
  "Band_3"
 ],
 "allowCopy": true,
 "allowAnalysis": true,
 "itemAccess": false,
 "inspectionCapabilities": "",
 "minPixelSize": 0,
 "maxPixelSize": 0,
 "copyrightText": "",
 "serviceDataType": "esriImageServiceDataTypeRGB",
 "serviceSourceType": "esriImageServiceSourceTypeDataset",
 "objectIdField": "",
 "fields": [],
 "capabilities": "Image, Metadata",
 "defaultMosaicMethod": "Center",
 "allowedMosaicMethods": "",
 "sortField": "",
 "sortValue": null,
 "sortAscending": true,
 "mosaicOperator": "First",
 "defaultCompressionQuality": 75,
 "defaultResamplingMethod": "Bilinear",
 "maxImageHeight": 4100,
 "maxImageWidth": 15000,
 "singleFusedMapCache": true,
 "tileInfo": {
  "rows": 256,
  "cols": 256,
  "dpi": 96,
  "format": "LERC2D",
  "compressionQuality": 100000,
  "lercError": 0.1,
  "origin": {
   "x": 1439882.3889999986,
   "y": 1596253.751800001
  },
  "spatialReference": {
   "wkid": 102100,
   "latestWkid": 3857
  },
  "lods": [
   {
    "level": 0,
    "resolution": 48.46429009339925,
    "scale": 183171.75369380432
   },
   {
    "level": 1,
    "resolution": 24.232145046699625,
    "scale": 91585.87684690216
   },
   {
    "level": 2,
    "resolution": 12.116072523349812,
    "scale": 45792.93842345108
   },
   {
    "level": 3,
    "resolution": 6.058036261674906,
    "scale": 22896.46921172554
   },
   {
    "level": 4,
    "resolution": 3.029018130837453,
    "scale": 11448.23460586277
   },
   {
    "level": 5,
    "resolution": 1.5145090654187265,
    "scale": 5724.117302931385
   },
   {
    "level": 6,
    "resolution": 0.7572545327093633,
    "scale": 2862.0586514656925
   },
   {
    "level": 7,
    "resolution": 0.37862726635468164,
    "scale": 1431.0293257328462
   }
  ]
 },
 "storageInfo": {
  "storageFormat": "esriMapCacheStorageModeCompactV2",
  "packetSize": 16
 },
 "cacheType": "Raster",
 "allowRasterFunction": true,
 "rasterFunctionInfos": [
  {
   "name": "None",
   "description": "",
   "help": ""
  }
 ],
 "rasterTypeInfos": [
  {
   "name": "Raster Dataset",
   "description": "Supports all ArcGIS Raster Datasets",
   "help": ""
  }
 ],
 "mensurationCapabilities": "Basic",
 "hasHistograms": true,
 "hasColormap": false,
 "hasRasterAttributeTable": false,
 "minScale": 0,
 "maxScale": 0,
 "exportTilesAllowed": false,
 "supportsStatistics": false,
 "supportsAdvancedQueries": false,
 "editFieldsInfo": null,
 "ownershipBasedAccessControlForRasters": null,
 "allowComputeTiePoints": false,
 "useStandardizedQueries": true,
 "advancedQueryCapabilities": {
  "useStandardizedQueries": true,
  "supportsStatistics": false,
  "supportsOrderBy": false,
  "supportsDistinct": false,
  "supportsPagination": false
 },
 "spatialReference": {
  "wkid": 102100,
  "latestWkid": 3857
 }
}
