{
 "currentVersion": 11.5,
 "serviceDescription": "Hosted/20220210_MLI_0m35_WV03_VNIR_Bandiagara",
 "serviceItemId": "66eab75647a747e6bcffe949ee0b4f41",
 "name": "Hosted/20220210_MLI_0m35_WV03_VNIR_Bandiagara",
 "description": "",
 "extent": {
  "xmin": -409616.5788999982,
  "ymin": 1611349.7091802333,
  "xmax": -395154.5272780794,
  "ymax": 1617333.6241999988,
  "spatialReference": {
   "wkid": 102100,
   "latestWkid": 3857
  }
 },
 "initialExtent": {
  "xmin": -409616.5788999982,
  "ymin": 1611349.7091802333,
  "xmax": -395154.5272780794,
  "ymax": 1617333.6241999988,
  "spatialReference": {
   "wkid": 102100,
   "latestWkid": 3857
  }
 },
 "fullExtent": {
  "xmin": -409616.5788999982,
  "ymin": 1611349.7091802333,
  "xmax": -395154.5272780794,
  "ymax": 1617333.6241999988,
  "spatialReference": {
   "wkid": 102100,
   "latestWkid": 3857
  }
 },
 "sortableFields": "",
 "bandCount": 3,
 "pixelType": "U8",
 "minValues": [
  1,
  1,
  1
 ],
 "maxValues": [
  255,
  255,
  255
 ],
 "meanValues": [
  178.045720624034,
  158.65858485709438,
  141.59848542521516
 ],
 "stdvValues": [
  31.473489360394325,
  28.076158016222802,
  24.707205005277135
 ],
 "serviceProperties": "Center<\/MosaicMethod>First<\/MosaicOperator>true<\/SortAscending><\/LockImageID><\/TileOrderField>0<\/TileOrderBase>0.000000<\/AvgImageSpacingX>0.000000<\/AvgImageSpacingY>0.0<\/ViewPointX>0.0<\/ViewPointY>0.0<\/ViewPointDefShiftX>0.0<\/ViewPointDefShiftY>None<\/CompressionMethod>75<\/CompressionQuality>0.010000<\/CompressionTolerance>Bilinear<\/SamplingMethod><\/ImageServiceProperties><\/ImageServer>",
 "allowedFields": "",
 "hasMultidimensions": false,
 "pixelSizeX": 0.34637155705982325,
 "pixelSizeY": 0.34637155705982264,
 "meanPixelSize": 0.3463715570598229,
 "datasetFormat": "Cache/LERC2D",
 "uncompressedSize": 2163974484,
 "blockWidth": 256,
 "blockHeight": 256,
 "compressionType": "LERC2D",
 "bandNames": [
  "Band_1",
  "Band_2",
  "Band_3"
 ],
 "allowCopy": true,
 "allowAnalysis": true,
 "itemAccess": false,
 "inspectionCapabilities": "",
 "minPixelSize": 0,
 "maxPixelSize": 0,
 "copyrightText": "",
 "serviceDataType": "esriImageServiceDataTypeRGB",
 "serviceSourceType": "esriImageServiceSourceTypeDataset",
 "objectIdField": "",
 "fields": [],
 "capabilities": "Image, Metadata",
 "defaultMosaicMethod": "Center",
 "allowedMosaicMethods": "",
 "sortField": "",
 "sortValue": null,
 "sortAscending": true,
 "mosaicOperator": "First",
 "defaultCompressionQuality": 75,
 "defaultResamplingMethod": "Bilinear",
 "maxImageHeight": 4100,
 "maxImageWidth": 15000,
 "singleFusedMapCache": true,
 "tileInfo": {
  "rows": 256,
  "cols": 256,
  "dpi": 96,
  "format": "LERC2D",
  "compressionQuality": 100000,
  "lercError": 0.1,
  "origin": {
   "x": -409616.5788999982,
   "y": 1617333.6241999988
  },
  "spatialReference": {
   "wkid": 102100,
   "latestWkid": 3857
  },
  "lods": [
   {
    "level": 0,
    "resolution": 44.3355593036573,
    "scale": 167567.13309935882
   },
   {
    "level": 1,
    "resolution": 22.16777965182865,
    "scale": 83783.56654967941
   },
   {
    "level": 2,
    "resolution": 11.083889825914325,
    "scale": 41891.783274839705
   },
   {
    "level": 3,
    "resolution": 5.541944912957162,
    "scale": 20945.891637419852
   },
   {
    "level": 4,
    "resolution": 2.770972456478581,
    "scale": 10472.945818709926
   },
   {
    "level": 5,
    "resolution": 1.3854862282392906,
    "scale": 5236.472909354963
   },
   {
    "level": 6,
    "resolution": 0.6927431141196453,
    "scale": 2618.2364546774816
   },
   {
    "level": 7,
    "resolution": 0.34637155705982264,
    "scale": 1309.1182273387408
   }
  ]
 },
 "storageInfo": {
  "storageFormat": "esriMapCacheStorageModeCompactV2",
  "packetSize": 16
 },
 "cacheType": "Raster",
 "allowRasterFunction": true,
 "rasterFunctionInfos": [
  {
   "name": "None",
   "description": "",
   "help": ""
  }
 ],
 "rasterTypeInfos": [
  {
   "name": "Raster Dataset",
   "description": "Supports all ArcGIS Raster Datasets",
   "help": ""
  }
 ],
 "mensurationCapabilities": "Basic",
 "hasHistograms": true,
 "hasColormap": false,
 "hasRasterAttributeTable": false,
 "minScale": 0,
 "maxScale": 0,
 "exportTilesAllowed": false,
 "supportsStatistics": false,
 "supportsAdvancedQueries": false,
 "editFieldsInfo": null,
 "ownershipBasedAccessControlForRasters": null,
 "allowComputeTiePoints": false,
 "useStandardizedQueries": true,
 "advancedQueryCapabilities": {
  "useStandardizedQueries": true,
  "supportsStatistics": false,
  "supportsOrderBy": false,
  "supportsDistinct": false,
  "supportsPagination": false
 },
 "spatialReference": {
  "wkid": 102100,
  "latestWkid": 3857
 }
}
