{
 "currentVersion": 11.5,
 "serviceDescription": "Hosted/20220415_MLI_0m35_WV03_VNIR_Doucombo",
 "serviceItemId": "43024c8d68eb4e2a98373f27b82451b0",
 "name": "Hosted/20220415_MLI_0m35_WV03_VNIR_Doucombo",
 "description": "",
 "extent": {
  "xmin": -409069.5782065675,
  "ymin": 1614187.4988753682,
  "xmax": -405247.6333490149,
  "ymax": 1615936.1870675643,
  "spatialReference": {
   "wkid": 102100,
   "latestWkid": 3857
  }
 },
 "initialExtent": {
  "xmin": -409069.5782065675,
  "ymin": 1614187.4988753682,
  "xmax": -405247.6333490149,
  "ymax": 1615936.1870675643,
  "spatialReference": {
   "wkid": 102100,
   "latestWkid": 3857
  }
 },
 "fullExtent": {
  "xmin": -409069.5782065675,
  "ymin": 1614187.4988753682,
  "xmax": -405247.6333490149,
  "ymax": 1615936.1870675643,
  "spatialReference": {
   "wkid": 102100,
   "latestWkid": 3857
  }
 },
 "sortableFields": "",
 "bandCount": 3,
 "pixelType": "U8",
 "minValues": [
  1,
  1,
  1
 ],
 "maxValues": [
  255,
  255,
  255
 ],
 "meanValues": [
  164.31486632848225,
  145.53244331584503,
  117.5417826591051
 ],
 "stdvValues": [
  43.720374784135316,
  31.589738099618597,
  28.168761715213222
 ],
 "serviceProperties": "Center<\/MosaicMethod>First<\/MosaicOperator>true<\/SortAscending><\/LockImageID><\/TileOrderField>0<\/TileOrderBase>0.000000<\/AvgImageSpacingX>0.000000<\/AvgImageSpacingY>0.0<\/ViewPointX>0.0<\/ViewPointY>0.0<\/ViewPointDefShiftX>0.0<\/ViewPointDefShiftY>None<\/CompressionMethod>75<\/CompressionQuality>0.010000<\/CompressionTolerance>Bilinear<\/SamplingMethod><\/ImageServiceProperties><\/ImageServer>",
 "allowedFields": "",
 "hasMultidimensions": false,
 "pixelSizeX": 0.3554966847318937,
 "pixelSizeY": 0.3554966847318948,
 "meanPixelSize": 0.3554966847318942,
 "datasetFormat": "Cache/LERC2D",
 "uncompressedSize": 158652507,
 "blockWidth": 256,
 "blockHeight": 256,
 "compressionType": "LERC2D",
 "bandNames": [
  "Band_1",
  "Band_2",
  "Band_3"
 ],
 "allowCopy": true,
 "allowAnalysis": true,
 "itemAccess": false,
 "inspectionCapabilities": "",
 "minPixelSize": 0,
 "maxPixelSize": 0,
 "copyrightText": "",
 "serviceDataType": "esriImageServiceDataTypeRGB",
 "serviceSourceType": "esriImageServiceSourceTypeDataset",
 "objectIdField": "",
 "fields": [],
 "capabilities": "Image, Metadata",
 "defaultMosaicMethod": "Center",
 "allowedMosaicMethods": "",
 "sortField": "",
 "sortValue": null,
 "sortAscending": true,
 "mosaicOperator": "First",
 "defaultCompressionQuality": 75,
 "defaultResamplingMethod": "Bilinear",
 "maxImageHeight": 4100,
 "maxImageWidth": 15000,
 "singleFusedMapCache": true,
 "tileInfo": {
  "rows": 256,
  "cols": 256,
  "dpi": 96,
  "format": "LERC2D",
  "compressionQuality": 100000,
  "lercError": 0.1,
  "origin": {
   "x": -409069.5782065675,
   "y": 1615936.1870675643
  },
  "spatialReference": {
   "wkid": 102100,
   "latestWkid": 3857
  },
  "lods": [
   {
    "level": 0,
    "resolution": 11.375893911420633,
    "scale": 42995.41855609251
   },
   {
    "level": 1,
    "resolution": 5.687946955710316,
    "scale": 21497.709278046255
   },
   {
    "level": 2,
    "resolution": 2.843973477855158,
    "scale": 10748.854639023128
   },
   {
    "level": 3,
    "resolution": 1.421986738927579,
    "scale": 5374.427319511564
   },
   {
    "level": 4,
    "resolution": 0.7109933694637895,
    "scale": 2687.213659755782
   },
   {
    "level": 5,
    "resolution": 0.3554966847318948,
    "scale": 1343.606829877891
   }
  ]
 },
 "storageInfo": {
  "storageFormat": "esriMapCacheStorageModeCompactV2",
  "packetSize": 16
 },
 "cacheType": "Raster",
 "allowRasterFunction": true,
 "rasterFunctionInfos": [
  {
   "name": "None",
   "description": "",
   "help": ""
  }
 ],
 "rasterTypeInfos": [
  {
   "name": "Raster Dataset",
   "description": "Supports all ArcGIS Raster Datasets",
   "help": ""
  }
 ],
 "mensurationCapabilities": "Basic",
 "hasHistograms": true,
 "hasColormap": false,
 "hasRasterAttributeTable": false,
 "minScale": 0,
 "maxScale": 0,
 "exportTilesAllowed": false,
 "supportsStatistics": false,
 "supportsAdvancedQueries": false,
 "editFieldsInfo": null,
 "ownershipBasedAccessControlForRasters": null,
 "allowComputeTiePoints": false,
 "useStandardizedQueries": true,
 "advancedQueryCapabilities": {
  "useStandardizedQueries": true,
  "supportsStatistics": false,
  "supportsOrderBy": false,
  "supportsDistinct": false,
  "supportsPagination": false
 },
 "spatialReference": {
  "wkid": 102100,
  "latestWkid": 3857
 }
}
