{
 "currentVersion": 11.5,
 "serviceDescription": "Hosted/20220415_MLI_0m50_WV02_Dourou",
 "serviceItemId": "da3c1fa6a97e46b9bda660483639120b",
 "name": "Hosted/20220415_MLI_0m50_WV02_Dourou",
 "description": "",
 "extent": {
  "xmin": -400076.9065999985,
  "ymin": 1569913.9726204593,
  "xmax": -378905.27529107826,
  "ymax": 1694572.8222999999,
  "spatialReference": {
   "wkid": 102100,
   "latestWkid": 3857
  }
 },
 "initialExtent": {
  "xmin": -400076.9065999985,
  "ymin": 1569913.9726204593,
  "xmax": -378905.27529107826,
  "ymax": 1694572.8222999999,
  "spatialReference": {
   "wkid": 102100,
   "latestWkid": 3857
  }
 },
 "fullExtent": {
  "xmin": -400076.9065999985,
  "ymin": 1569913.9726204593,
  "xmax": -378905.27529107826,
  "ymax": 1694572.8222999999,
  "spatialReference": {
   "wkid": 102100,
   "latestWkid": 3857
  }
 },
 "sortableFields": "",
 "bandCount": 1,
 "pixelType": "U8",
 "minValues": [
  1
 ],
 "maxValues": [
  255
 ],
 "meanValues": [
  182.61668035999642
 ],
 "stdvValues": [
  38.17356109662239
 ],
 "serviceProperties": "Center<\/MosaicMethod>First<\/MosaicOperator>true<\/SortAscending><\/LockImageID><\/TileOrderField>0<\/TileOrderBase>0.000000<\/AvgImageSpacingX>0.000000<\/AvgImageSpacingY>0.0<\/ViewPointX>0.0<\/ViewPointY>0.0<\/ViewPointDefShiftX>0.0<\/ViewPointDefShiftY>None<\/CompressionMethod>75<\/CompressionQuality>0.010000<\/CompressionTolerance>Bilinear<\/SamplingMethod><\/ImageServiceProperties><\/ImageServer>",
 "allowedFields": "",
 "hasMultidimensions": false,
 "pixelSizeX": 0.5009377084260888,
 "pixelSizeY": 0.5009377084260888,
 "meanPixelSize": 0.5009377084260888,
 "datasetFormat": "Cache/LERC2D",
 "uncompressedSize": 10517438664,
 "blockWidth": 256,
 "blockHeight": 256,
 "compressionType": "LERC2D",
 "bandNames": [
  "Band_1"
 ],
 "allowCopy": true,
 "allowAnalysis": true,
 "itemAccess": false,
 "inspectionCapabilities": "",
 "minPixelSize": 0,
 "maxPixelSize": 0,
 "copyrightText": "",
 "serviceDataType": "esriImageServiceDataTypeGeneric",
 "serviceSourceType": "esriImageServiceSourceTypeDataset",
 "objectIdField": "",
 "fields": [],
 "capabilities": "Image, Metadata",
 "defaultMosaicMethod": "Center",
 "allowedMosaicMethods": "",
 "sortField": "",
 "sortValue": null,
 "sortAscending": true,
 "mosaicOperator": "First",
 "defaultCompressionQuality": 75,
 "defaultResamplingMethod": "Bilinear",
 "maxImageHeight": 4100,
 "maxImageWidth": 15000,
 "singleFusedMapCache": true,
 "tileInfo": {
  "rows": 256,
  "cols": 256,
  "dpi": 96,
  "format": "LERC2D",
  "compressionQuality": 100000,
  "lercError": 0.1,
  "origin": {
   "x": -400076.9065999985,
   "y": 1694572.8222999999
  },
  "spatialReference": {
   "wkid": 102100,
   "latestWkid": 3857
  },
  "lods": [
   {
    "level": 0,
    "resolution": 128.24005335707872,
    "scale": 484685.84646414616
   },
   {
    "level": 1,
    "resolution": 64.12002667853936,
    "scale": 242342.92323207308
   },
   {
    "level": 2,
    "resolution": 32.06001333926968,
    "scale": 121171.46161603654
   },
   {
    "level": 3,
    "resolution": 16.03000666963484,
    "scale": 60585.73080801827
   },
   {
    "level": 4,
    "resolution": 8.01500333481742,
    "scale": 30292.865404009135
   },
   {
    "level": 5,
    "resolution": 4.00750166740871,
    "scale": 15146.432702004568
   },
   {
    "level": 6,
    "resolution": 2.003750833704355,
    "scale": 7573.216351002284
   },
   {
    "level": 7,
    "resolution": 1.0018754168521775,
    "scale": 3786.608175501142
   },
   {
    "level": 8,
    "resolution": 0.5009377084260888,
    "scale": 1893.304087750571
   }
  ]
 },
 "storageInfo": {
  "storageFormat": "esriMapCacheStorageModeCompactV2",
  "packetSize": 16
 },
 "cacheType": "Raster",
 "allowRasterFunction": true,
 "rasterFunctionInfos": [
  {
   "name": "None",
   "description": "",
   "help": ""
  }
 ],
 "rasterTypeInfos": [
  {
   "name": "Raster Dataset",
   "description": "Supports all ArcGIS Raster Datasets",
   "help": ""
  }
 ],
 "mensurationCapabilities": "Basic",
 "hasHistograms": true,
 "hasColormap": false,
 "hasRasterAttributeTable": false,
 "minScale": 0,
 "maxScale": 0,
 "exportTilesAllowed": false,
 "supportsStatistics": false,
 "supportsAdvancedQueries": false,
 "editFieldsInfo": null,
 "ownershipBasedAccessControlForRasters": null,
 "allowComputeTiePoints": false,
 "useStandardizedQueries": true,
 "advancedQueryCapabilities": {
  "useStandardizedQueries": true,
  "supportsStatistics": false,
  "supportsOrderBy": false,
  "supportsDistinct": false,
  "supportsPagination": false
 },
 "spatialReference": {
  "wkid": 102100,
  "latestWkid": 3857
 }
}
