{
 "currentVersion": 11.5,
 "serviceDescription": "Hosted/20220502_BFA_0m50_WV02_Goulgountou",
 "serviceItemId": "6b36fb9cc4cd4b28bf664be0bdede680",
 "name": "Hosted/20220502_BFA_0m50_WV02_Goulgountou",
 "description": "",
 "extent": {
  "xmin": 392.7351999990642,
  "ymin": 1602110.4567769552,
  "xmax": 19046.15264865986,
  "ymax": 1619680.8468999988,
  "spatialReference": {
   "wkid": 102100,
   "latestWkid": 3857
  }
 },
 "initialExtent": {
  "xmin": 392.7351999990642,
  "ymin": 1602110.4567769552,
  "xmax": 19046.15264865986,
  "ymax": 1619680.8468999988,
  "spatialReference": {
   "wkid": 102100,
   "latestWkid": 3857
  }
 },
 "fullExtent": {
  "xmin": 392.7351999990642,
  "ymin": 1602110.4567769552,
  "xmax": 19046.15264865986,
  "ymax": 1619680.8468999988,
  "spatialReference": {
   "wkid": 102100,
   "latestWkid": 3857
  }
 },
 "sortableFields": "",
 "bandCount": 3,
 "pixelType": "U8",
 "minValues": [
  1,
  1,
  1
 ],
 "maxValues": [
  255,
  255,
  255
 ],
 "meanValues": [
  152.26190789923982,
  121.21449891665868,
  103.58234428735084
 ],
 "stdvValues": [
  19.794975134373217,
  15.885974196309684,
  15.187020599171902
 ],
 "serviceProperties": "Center<\/MosaicMethod>First<\/MosaicOperator>true<\/SortAscending><\/LockImageID><\/TileOrderField>0<\/TileOrderBase>0.000000<\/AvgImageSpacingX>0.000000<\/AvgImageSpacingY>0.0<\/ViewPointX>0.0<\/ViewPointY>0.0<\/ViewPointDefShiftX>0.0<\/ViewPointDefShiftY>None<\/CompressionMethod>75<\/CompressionQuality>0.010000<\/CompressionTolerance>Bilinear<\/SamplingMethod><\/ImageServiceProperties><\/ImageServer>",
 "allowedFields": "",
 "hasMultidimensions": false,
 "pixelSizeX": 0.5009377084260492,
 "pixelSizeY": 0.5009377084260492,
 "meanPixelSize": 0.5009377084260492,
 "datasetFormat": "Cache/LERC2D",
 "uncompressedSize": 3918151614,
 "blockWidth": 256,
 "blockHeight": 256,
 "compressionType": "LERC2D",
 "bandNames": [
  "Band_1",
  "Band_2",
  "Band_3"
 ],
 "allowCopy": true,
 "allowAnalysis": true,
 "itemAccess": false,
 "inspectionCapabilities": "",
 "minPixelSize": 0,
 "maxPixelSize": 0,
 "copyrightText": "",
 "serviceDataType": "esriImageServiceDataTypeRGB",
 "serviceSourceType": "esriImageServiceSourceTypeDataset",
 "objectIdField": "",
 "fields": [],
 "capabilities": "Image, Metadata",
 "defaultMosaicMethod": "Center",
 "allowedMosaicMethods": "",
 "sortField": "",
 "sortValue": null,
 "sortAscending": true,
 "mosaicOperator": "First",
 "defaultCompressionQuality": 75,
 "defaultResamplingMethod": "Bilinear",
 "maxImageHeight": 4100,
 "maxImageWidth": 15000,
 "singleFusedMapCache": true,
 "tileInfo": {
  "rows": 256,
  "cols": 256,
  "dpi": 96,
  "format": "LERC2D",
  "compressionQuality": 100000,
  "lercError": 0.1,
  "origin": {
   "x": 392.7351999990642,
   "y": 1619680.8468999988
  },
  "spatialReference": {
   "wkid": 102100,
   "latestWkid": 3857
  },
  "lods": [
   {
    "level": 0,
    "resolution": 128.2400533570686,
    "scale": 484685.8464641079
   },
   {
    "level": 1,
    "resolution": 64.1200266785343,
    "scale": 242342.92323205396
   },
   {
    "level": 2,
    "resolution": 32.06001333926715,
    "scale": 121171.46161602698
   },
   {
    "level": 3,
    "resolution": 16.030006669633575,
    "scale": 60585.73080801349
   },
   {
    "level": 4,
    "resolution": 8.015003334816788,
    "scale": 30292.865404006745
   },
   {
    "level": 5,
    "resolution": 4.007501667408394,
    "scale": 15146.432702003372
   },
   {
    "level": 6,
    "resolution": 2.003750833704197,
    "scale": 7573.216351001686
   },
   {
    "level": 7,
    "resolution": 1.0018754168520985,
    "scale": 3786.608175500843
   },
   {
    "level": 8,
    "resolution": 0.5009377084260492,
    "scale": 1893.3040877504216
   }
  ]
 },
 "storageInfo": {
  "storageFormat": "esriMapCacheStorageModeCompactV2",
  "packetSize": 16
 },
 "cacheType": "Raster",
 "allowRasterFunction": true,
 "rasterFunctionInfos": [
  {
   "name": "None",
   "description": "",
   "help": ""
  }
 ],
 "rasterTypeInfos": [
  {
   "name": "Raster Dataset",
   "description": "Supports all ArcGIS Raster Datasets",
   "help": ""
  }
 ],
 "mensurationCapabilities": "Basic",
 "hasHistograms": true,
 "hasColormap": false,
 "hasRasterAttributeTable": false,
 "minScale": 0,
 "maxScale": 0,
 "exportTilesAllowed": false,
 "supportsStatistics": false,
 "supportsAdvancedQueries": false,
 "editFieldsInfo": null,
 "ownershipBasedAccessControlForRasters": null,
 "allowComputeTiePoints": false,
 "useStandardizedQueries": true,
 "advancedQueryCapabilities": {
  "useStandardizedQueries": true,
  "supportsStatistics": false,
  "supportsOrderBy": false,
  "supportsDistinct": false,
  "supportsPagination": false
 },
 "spatialReference": {
  "wkid": 102100,
  "latestWkid": 3857
 }
}
