{
 "currentVersion": 11.5,
 "serviceDescription": "Hosted/20221027_NER_0m31_WV03_VNIR_Bosso_Clip",
 "serviceItemId": "c1543d1080e348cab0f831d8cd281689",
 "name": "Hosted/20221027_NER_0m31_WV03_VNIR_Bosso_Clip",
 "description": "",
 "extent": {
  "xmin": 1457928.5544000007,
  "ymin": 1557012.6258521688,
  "xmax": 1472067.1737108305,
  "ymax": 1564006.8407000003,
  "spatialReference": {
   "wkid": 102100,
   "latestWkid": 3857
  }
 },
 "initialExtent": {
  "xmin": 1457928.5544000007,
  "ymin": 1557012.6258521688,
  "xmax": 1472067.1737108305,
  "ymax": 1564006.8407000003,
  "spatialReference": {
   "wkid": 102100,
   "latestWkid": 3857
  }
 },
 "fullExtent": {
  "xmin": 1457928.5544000007,
  "ymin": 1557012.6258521688,
  "xmax": 1472067.1737108305,
  "ymax": 1564006.8407000003,
  "spatialReference": {
   "wkid": 102100,
   "latestWkid": 3857
  }
 },
 "sortableFields": "",
 "bandCount": 3,
 "pixelType": "U8",
 "minValues": [
  1,
  1,
  1
 ],
 "maxValues": [
  255,
  255,
  255
 ],
 "meanValues": [
  158.99121649465778,
  143.55700430842046,
  126.81955507457418
 ],
 "stdvValues": [
  26.000809723117353,
  25.724468651455528,
  23.945016667826376
 ],
 "serviceProperties": "Center<\/MosaicMethod>First<\/MosaicOperator>true<\/SortAscending><\/LockImageID><\/TileOrderField>0<\/TileOrderBase>0.000000<\/AvgImageSpacingX>0.000000<\/AvgImageSpacingY>0.0<\/ViewPointX>0.0<\/ViewPointY>0.0<\/ViewPointDefShiftX>0.0<\/ViewPointDefShiftY>None<\/CompressionMethod>75<\/CompressionQuality>0.010000<\/CompressionTolerance>Bilinear<\/SamplingMethod><\/ImageServiceProperties><\/ImageServer>",
 "allowedFields": "",
 "hasMultidimensions": false,
 "pixelSizeX": 0.3300870663000441,
 "pixelSizeY": 0.33008706630003876,
 "meanPixelSize": 0.3300870663000414,
 "datasetFormat": "Cache/LERC2D",
 "uncompressedSize": 2722765311,
 "blockWidth": 256,
 "blockHeight": 256,
 "compressionType": "LERC2D",
 "bandNames": [
  "Band_1",
  "Band_2",
  "Band_3"
 ],
 "allowCopy": true,
 "allowAnalysis": true,
 "itemAccess": false,
 "inspectionCapabilities": "",
 "minPixelSize": 0,
 "maxPixelSize": 0,
 "copyrightText": "",
 "serviceDataType": "esriImageServiceDataTypeRGB",
 "serviceSourceType": "esriImageServiceSourceTypeDataset",
 "objectIdField": "",
 "fields": [],
 "capabilities": "Image, Metadata",
 "defaultMosaicMethod": "Center",
 "allowedMosaicMethods": "",
 "sortField": "",
 "sortValue": null,
 "sortAscending": true,
 "mosaicOperator": "First",
 "defaultCompressionQuality": 75,
 "defaultResamplingMethod": "Bilinear",
 "maxImageHeight": 4100,
 "maxImageWidth": 15000,
 "singleFusedMapCache": true,
 "tileInfo": {
  "rows": 256,
  "cols": 256,
  "dpi": 96,
  "format": "LERC2D",
  "compressionQuality": 100000,
  "lercError": 0.1,
  "origin": {
   "x": 1457928.5544000007,
   "y": 1564006.8407000003
  },
  "spatialReference": {
   "wkid": 102100,
   "latestWkid": 3857
  },
  "lods": [
   {
    "level": 0,
    "resolution": 42.25114448640564,
    "scale": 159689.04560925983
   },
   {
    "level": 1,
    "resolution": 21.12557224320282,
    "scale": 79844.52280462992
   },
   {
    "level": 2,
    "resolution": 10.56278612160141,
    "scale": 39922.26140231496
   },
   {
    "level": 3,
    "resolution": 5.281393060800705,
    "scale": 19961.13070115748
   },
   {
    "level": 4,
    "resolution": 2.6406965304003527,
    "scale": 9980.56535057874
   },
   {
    "level": 5,
    "resolution": 1.3203482652001763,
    "scale": 4990.28267528937
   },
   {
    "level": 6,
    "resolution": 0.6601741326000882,
    "scale": 2495.141337644685
   },
   {
    "level": 7,
    "resolution": 0.3300870663000441,
    "scale": 1247.5706688223424
   }
  ]
 },
 "storageInfo": {
  "storageFormat": "esriMapCacheStorageModeCompactV2",
  "packetSize": 16
 },
 "cacheType": "Raster",
 "allowRasterFunction": true,
 "rasterFunctionInfos": [
  {
   "name": "None",
   "description": "",
   "help": ""
  }
 ],
 "rasterTypeInfos": [
  {
   "name": "Raster Dataset",
   "description": "Supports all ArcGIS Raster Datasets",
   "help": ""
  }
 ],
 "mensurationCapabilities": "Basic",
 "hasHistograms": true,
 "hasColormap": false,
 "hasRasterAttributeTable": false,
 "minScale": 0,
 "maxScale": 0,
 "exportTilesAllowed": false,
 "supportsStatistics": false,
 "supportsAdvancedQueries": false,
 "editFieldsInfo": null,
 "ownershipBasedAccessControlForRasters": null,
 "allowComputeTiePoints": false,
 "useStandardizedQueries": true,
 "advancedQueryCapabilities": {
  "useStandardizedQueries": true,
  "supportsStatistics": false,
  "supportsOrderBy": false,
  "supportsDistinct": false,
  "supportsPagination": false
 },
 "spatialReference": {
  "wkid": 102100,
  "latestWkid": 3857
 }
}
