{
 "currentVersion": 11.5,
 "serviceDescription": "Hosted/20230127_NER_0m47_WV02_Chtimari_Clip",
 "serviceItemId": "21db4c66912c4d67996c7205ce17d6c3",
 "name": "Hosted/20230127_NER_0m47_WV02_Chtimari_Clip",
 "description": "",
 "extent": {
  "xmin": 1375703.8403000012,
  "ymin": 1477393.7805386703,
  "xmax": 1390408.5770817813,
  "ymax": 1484387.7545999992,
  "spatialReference": {
   "wkid": 102100,
   "latestWkid": 3857
  }
 },
 "initialExtent": {
  "xmin": 1375703.8403000012,
  "ymin": 1477393.7805386703,
  "xmax": 1390408.5770817813,
  "ymax": 1484387.7545999992,
  "spatialReference": {
   "wkid": 102100,
   "latestWkid": 3857
  }
 },
 "fullExtent": {
  "xmin": 1375703.8403000012,
  "ymin": 1477393.7805386703,
  "xmax": 1390408.5770817813,
  "ymax": 1484387.7545999992,
  "spatialReference": {
   "wkid": 102100,
   "latestWkid": 3857
  }
 },
 "sortableFields": "",
 "bandCount": 3,
 "pixelType": "U8",
 "minValues": [
  1,
  1,
  1
 ],
 "maxValues": [
  255,
  255,
  255
 ],
 "meanValues": [
  182.13055053756088,
  164.70381987007676,
  133.8443075512484
 ],
 "stdvValues": [
  38.0814090948511,
  32.272231363033136,
  26.70836371975425
 ],
 "serviceProperties": "Center<\/MosaicMethod>First<\/MosaicOperator>true<\/SortAscending><\/LockImageID><\/TileOrderField>0<\/TileOrderBase>0.000000<\/AvgImageSpacingX>0.000000<\/AvgImageSpacingY>0.0<\/ViewPointX>0.0<\/ViewPointY>0.0<\/ViewPointDefShiftX>0.0<\/ViewPointDefShiftY>None<\/CompressionMethod>75<\/CompressionQuality>0.010000<\/CompressionTolerance>Bilinear<\/SamplingMethod><\/ImageServiceProperties><\/ImageServer>",
 "allowedFields": "",
 "hasMultidimensions": false,
 "pixelSizeX": 0.48042135329914215,
 "pixelSizeY": 0.4804213532991426,
 "meanPixelSize": 0.4804213532991424,
 "datasetFormat": "Cache/LERC2D",
 "uncompressedSize": 1336773792,
 "blockWidth": 256,
 "blockHeight": 256,
 "compressionType": "LERC2D",
 "bandNames": [
  "Band_1",
  "Band_2",
  "Band_3"
 ],
 "allowCopy": true,
 "allowAnalysis": true,
 "itemAccess": false,
 "inspectionCapabilities": "",
 "minPixelSize": 0,
 "maxPixelSize": 0,
 "copyrightText": "",
 "serviceDataType": "esriImageServiceDataTypeRGB",
 "serviceSourceType": "esriImageServiceSourceTypeDataset",
 "objectIdField": "",
 "fields": [],
 "capabilities": "Image, Metadata",
 "defaultMosaicMethod": "Center",
 "allowedMosaicMethods": "",
 "sortField": "",
 "sortValue": null,
 "sortAscending": true,
 "mosaicOperator": "First",
 "defaultCompressionQuality": 75,
 "defaultResamplingMethod": "Bilinear",
 "maxImageHeight": 4100,
 "maxImageWidth": 15000,
 "singleFusedMapCache": true,
 "tileInfo": {
  "rows": 256,
  "cols": 256,
  "dpi": 96,
  "format": "LERC2D",
  "compressionQuality": 100000,
  "lercError": 0.1,
  "origin": {
   "x": 1375703.8403000012,
   "y": 1484387.7545999992
  },
  "spatialReference": {
   "wkid": 102100,
   "latestWkid": 3857
  },
  "lods": [
   {
    "level": 0,
    "resolution": 30.746966611145098,
    "scale": 116208.77524615511
   },
   {
    "level": 1,
    "resolution": 15.373483305572549,
    "scale": 58104.38762307756
   },
   {
    "level": 2,
    "resolution": 7.686741652786274,
    "scale": 29052.19381153878
   },
   {
    "level": 3,
    "resolution": 3.843370826393137,
    "scale": 14526.09690576939
   },
   {
    "level": 4,
    "resolution": 1.9216854131965686,
    "scale": 7263.048452884695
   },
   {
    "level": 5,
    "resolution": 0.9608427065982843,
    "scale": 3631.5242264423473
   },
   {
    "level": 6,
    "resolution": 0.48042135329914215,
    "scale": 1815.7621132211736
   }
  ]
 },
 "storageInfo": {
  "storageFormat": "esriMapCacheStorageModeCompactV2",
  "packetSize": 16
 },
 "cacheType": "Raster",
 "allowRasterFunction": true,
 "rasterFunctionInfos": [
  {
   "name": "None",
   "description": "",
   "help": ""
  }
 ],
 "rasterTypeInfos": [
  {
   "name": "Raster Dataset",
   "description": "Supports all ArcGIS Raster Datasets",
   "help": ""
  }
 ],
 "mensurationCapabilities": "Basic",
 "hasHistograms": true,
 "hasColormap": false,
 "hasRasterAttributeTable": false,
 "minScale": 0,
 "maxScale": 0,
 "exportTilesAllowed": false,
 "supportsStatistics": false,
 "supportsAdvancedQueries": false,
 "editFieldsInfo": null,
 "ownershipBasedAccessControlForRasters": null,
 "allowComputeTiePoints": false,
 "useStandardizedQueries": true,
 "advancedQueryCapabilities": {
  "useStandardizedQueries": true,
  "supportsStatistics": false,
  "supportsOrderBy": false,
  "supportsDistinct": false,
  "supportsPagination": false
 },
 "spatialReference": {
  "wkid": 102100,
  "latestWkid": 3857
 }
}
