{
 "currentVersion": 11.5,
 "serviceDescription": "Hosted/20230305_BFA_0m47_WV02_Orou_daka",
 "serviceItemId": "28b39c2eb9b34d90af657e6005cb7ac7",
 "name": "Hosted/20230305_BFA_0m47_WV02_Orou_daka",
 "description": "",
 "extent": {
  "xmin": 28107.071499999613,
  "ymin": 1419090.8688755212,
  "xmax": 45420.34177038596,
  "ymax": 1582979.303599999,
  "spatialReference": {
   "wkid": 102100,
   "latestWkid": 3857
  }
 },
 "initialExtent": {
  "xmin": 28107.071499999613,
  "ymin": 1419090.8688755212,
  "xmax": 45420.34177038596,
  "ymax": 1582979.303599999,
  "spatialReference": {
   "wkid": 102100,
   "latestWkid": 3857
  }
 },
 "fullExtent": {
  "xmin": 28107.071499999613,
  "ymin": 1419090.8688755212,
  "xmax": 45420.34177038596,
  "ymax": 1582979.303599999,
  "spatialReference": {
   "wkid": 102100,
   "latestWkid": 3857
  }
 },
 "sortableFields": "",
 "bandCount": 3,
 "pixelType": "U8",
 "minValues": [
  0,
  0,
  0
 ],
 "maxValues": [
  255,
  255,
  255
 ],
 "meanValues": [
  188.31173241662233,
  159.6889742568082,
  133.6509883851015
 ],
 "stdvValues": [
  38.97650277426813,
  34.46122157479384,
  28.15024353326015
 ],
 "serviceProperties": "Center<\/MosaicMethod>First<\/MosaicOperator>true<\/SortAscending><\/LockImageID><\/TileOrderField>0<\/TileOrderBase>0.000000<\/AvgImageSpacingX>0.000000<\/AvgImageSpacingY>0.0<\/ViewPointX>0.0<\/ViewPointY>0.0<\/ViewPointDefShiftX>0.0<\/ViewPointDefShiftY>None<\/CompressionMethod>75<\/CompressionQuality>0.010000<\/CompressionTolerance>Bilinear<\/SamplingMethod><\/ImageServiceProperties><\/ImageServer>",
 "allowedFields": "",
 "hasMultidimensions": false,
 "pixelSizeX": 0.46841996348546705,
 "pixelSizeY": 0.46841996348546716,
 "meanPixelSize": 0.4684199634854671,
 "datasetFormat": "Cache/LERC2D",
 "uncompressedSize": 38795189625,
 "blockWidth": 256,
 "blockHeight": 256,
 "compressionType": "LERC2D",
 "bandNames": [
  "Band_1",
  "Band_2",
  "Band_3"
 ],
 "allowCopy": true,
 "allowAnalysis": true,
 "itemAccess": false,
 "inspectionCapabilities": "",
 "minPixelSize": 0,
 "maxPixelSize": 0,
 "copyrightText": "",
 "serviceDataType": "esriImageServiceDataTypeRGB",
 "serviceSourceType": "esriImageServiceSourceTypeDataset",
 "objectIdField": "",
 "fields": [],
 "capabilities": "Image, Metadata",
 "defaultMosaicMethod": "Center",
 "allowedMosaicMethods": "",
 "sortField": "",
 "sortValue": null,
 "sortAscending": true,
 "mosaicOperator": "First",
 "defaultCompressionQuality": 75,
 "defaultResamplingMethod": "Bilinear",
 "maxImageHeight": 4100,
 "maxImageWidth": 15000,
 "singleFusedMapCache": true,
 "tileInfo": {
  "rows": 256,
  "cols": 256,
  "dpi": 96,
  "format": "LERC2D",
  "compressionQuality": 100000,
  "lercError": 0.1,
  "origin": {
   "x": 28107.071499999613,
   "y": 1582979.303599999
  },
  "spatialReference": {
   "wkid": 102100,
   "latestWkid": 3857
  },
  "lods": [
   {
    "level": 0,
    "resolution": 119.91551065227956,
    "scale": 453223.07082050364
   },
   {
    "level": 1,
    "resolution": 59.95775532613978,
    "scale": 226611.53541025182
   },
   {
    "level": 2,
    "resolution": 29.97887766306989,
    "scale": 113305.76770512591
   },
   {
    "level": 3,
    "resolution": 14.989438831534946,
    "scale": 56652.883852562954
   },
   {
    "level": 4,
    "resolution": 7.494719415767473,
    "scale": 28326.441926281477
   },
   {
    "level": 5,
    "resolution": 3.7473597078837364,
    "scale": 14163.220963140739
   },
   {
    "level": 6,
    "resolution": 1.8736798539418682,
    "scale": 7081.610481570369
   },
   {
    "level": 7,
    "resolution": 0.9368399269709341,
    "scale": 3540.8052407851847
   },
   {
    "level": 8,
    "resolution": 0.46841996348546705,
    "scale": 1770.4026203925923
   }
  ]
 },
 "storageInfo": {
  "storageFormat": "esriMapCacheStorageModeCompactV2",
  "packetSize": 16
 },
 "cacheType": "Raster",
 "allowRasterFunction": true,
 "rasterFunctionInfos": [
  {
   "name": "None",
   "description": "",
   "help": ""
  }
 ],
 "rasterTypeInfos": [
  {
   "name": "Raster Dataset",
   "description": "Supports all ArcGIS Raster Datasets",
   "help": ""
  }
 ],
 "mensurationCapabilities": "Basic",
 "hasHistograms": true,
 "hasColormap": false,
 "hasRasterAttributeTable": false,
 "minScale": 0,
 "maxScale": 0,
 "exportTilesAllowed": false,
 "supportsStatistics": false,
 "supportsAdvancedQueries": false,
 "editFieldsInfo": null,
 "ownershipBasedAccessControlForRasters": null,
 "allowComputeTiePoints": false,
 "useStandardizedQueries": true,
 "advancedQueryCapabilities": {
  "useStandardizedQueries": true,
  "supportsStatistics": false,
  "supportsOrderBy": false,
  "supportsDistinct": false,
  "supportsPagination": false
 },
 "spatialReference": {
  "wkid": 102100,
  "latestWkid": 3857
 }
}
