{
 "currentVersion": 11.5,
 "serviceDescription": "Hosted/20230519_UNDP_0m49_WV02_Nagla_Nigeria",
 "serviceItemId": "663eca63466c40f08eee2a8d044dc9a6",
 "name": "Hosted/20230519_UNDP_0m49_WV02_Nagla_Nigeria",
 "description": "",
 "extent": {
  "xmin": 1569613.1777999997,
  "ymin": 1367296.2614303478,
  "xmax": 1587597.182277502,
  "ymax": 1403636.2814000016,
  "spatialReference": {
   "wkid": 102100,
   "latestWkid": 3857
  }
 },
 "initialExtent": {
  "xmin": 1569613.1777999997,
  "ymin": 1367296.2614303478,
  "xmax": 1587597.182277502,
  "ymax": 1403636.2814000016,
  "spatialReference": {
   "wkid": 102100,
   "latestWkid": 3857
  }
 },
 "fullExtent": {
  "xmin": 1569613.1777999997,
  "ymin": 1367296.2614303478,
  "xmax": 1587597.182277502,
  "ymax": 1403636.2814000016,
  "spatialReference": {
   "wkid": 102100,
   "latestWkid": 3857
  }
 },
 "sortableFields": "",
 "bandCount": 3,
 "pixelType": "U8",
 "minValues": [
  1,
  1,
  1
 ],
 "maxValues": [
  255,
  255,
  255
 ],
 "meanValues": [
  163.86572371280468,
  146.956862242602,
  141.11805352106532
 ],
 "stdvValues": [
  29.12078417789838,
  28.38965905218261,
  25.40658307037818
 ],
 "serviceProperties": "Center<\/MosaicMethod>First<\/MosaicOperator>true<\/SortAscending><\/LockImageID><\/TileOrderField>0<\/TileOrderBase>0.000000<\/AvgImageSpacingX>0.000000<\/AvgImageSpacingY>0.0<\/ViewPointX>0.0<\/ViewPointY>0.0<\/ViewPointDefShiftX>0.0<\/ViewPointDefShiftY>None<\/CompressionMethod>75<\/CompressionQuality>0.010000<\/CompressionTolerance>Bilinear<\/SamplingMethod><\/ImageServiceProperties><\/ImageServer>",
 "allowedFields": "",
 "hasMultidimensions": false,
 "pixelSizeX": 0.49601468619859096,
 "pixelSizeY": 0.4960146861985942,
 "meanPixelSize": 0.49601468619859257,
 "datasetFormat": "Cache/LERC2D",
 "uncompressedSize": 7968998544,
 "blockWidth": 256,
 "blockHeight": 256,
 "compressionType": "LERC2D",
 "bandNames": [
  "Band_1",
  "Band_2",
  "Band_3"
 ],
 "allowCopy": true,
 "allowAnalysis": true,
 "itemAccess": false,
 "inspectionCapabilities": "",
 "minPixelSize": 0,
 "maxPixelSize": 0,
 "copyrightText": "",
 "serviceDataType": "esriImageServiceDataTypeRGB",
 "serviceSourceType": "esriImageServiceSourceTypeDataset",
 "objectIdField": "",
 "fields": [],
 "capabilities": "Image, Metadata",
 "defaultMosaicMethod": "Center",
 "allowedMosaicMethods": "",
 "sortField": "",
 "sortValue": null,
 "sortAscending": true,
 "mosaicOperator": "First",
 "defaultCompressionQuality": 75,
 "defaultResamplingMethod": "Bilinear",
 "maxImageHeight": 4100,
 "maxImageWidth": 15000,
 "singleFusedMapCache": true,
 "tileInfo": {
  "rows": 256,
  "cols": 256,
  "dpi": 96,
  "format": "LERC2D",
  "compressionQuality": 100000,
  "lercError": 0.1,
  "origin": {
   "x": 1569613.1777999997,
   "y": 1403636.2814000016
  },
  "spatialReference": {
   "wkid": 102100,
   "latestWkid": 3857
  },
  "lods": [
   {
    "level": 0,
    "resolution": 126.97975966684011,
    "scale": 479922.5412560155
   },
   {
    "level": 1,
    "resolution": 63.489879833420055,
    "scale": 239961.27062800774
   },
   {
    "level": 2,
    "resolution": 31.744939916710027,
    "scale": 119980.63531400387
   },
   {
    "level": 3,
    "resolution": 15.872469958355014,
    "scale": 59990.317657001935
   },
   {
    "level": 4,
    "resolution": 7.936234979177507,
    "scale": 29995.158828500968
   },
   {
    "level": 5,
    "resolution": 3.9681174895887534,
    "scale": 14997.579414250484
   },
   {
    "level": 6,
    "resolution": 1.9840587447943767,
    "scale": 7498.789707125242
   },
   {
    "level": 7,
    "resolution": 0.9920293723971884,
    "scale": 3749.394853562621
   },
   {
    "level": 8,
    "resolution": 0.4960146861985942,
    "scale": 1874.6974267813105
   }
  ]
 },
 "storageInfo": {
  "storageFormat": "esriMapCacheStorageModeCompactV2",
  "packetSize": 16
 },
 "cacheType": "Raster",
 "allowRasterFunction": true,
 "rasterFunctionInfos": [
  {
   "name": "None",
   "description": "",
   "help": ""
  }
 ],
 "rasterTypeInfos": [
  {
   "name": "Raster Dataset",
   "description": "Supports all ArcGIS Raster Datasets",
   "help": ""
  }
 ],
 "mensurationCapabilities": "Basic",
 "hasHistograms": true,
 "hasColormap": false,
 "hasRasterAttributeTable": false,
 "minScale": 0,
 "maxScale": 0,
 "exportTilesAllowed": false,
 "supportsStatistics": false,
 "supportsAdvancedQueries": false,
 "editFieldsInfo": null,
 "ownershipBasedAccessControlForRasters": null,
 "allowComputeTiePoints": false,
 "useStandardizedQueries": true,
 "advancedQueryCapabilities": {
  "useStandardizedQueries": true,
  "supportsStatistics": false,
  "supportsOrderBy": false,
  "supportsDistinct": false,
  "supportsPagination": false
 },
 "spatialReference": {
  "wkid": 102100,
  "latestWkid": 3857
 }
}
