{
 "currentVersion": 11.5,
 "serviceDescription": "Hosted/20230629_MLI_0m32_WV03_VNIR_PignariB",
 "serviceItemId": "c0b1a7295fca40e89dabbe5d9e6d7a59",
 "name": "Hosted/20230629_MLI_0m32_WV03_VNIR_PignariB",
 "description": "",
 "extent": {
  "xmin": -443282.3555999994,
  "ymin": 1629264.7370580288,
  "xmax": -435638.35122947826,
  "ymax": 1632761.8908000013,
  "spatialReference": {
   "wkid": 102100,
   "latestWkid": 3857
  }
 },
 "initialExtent": {
  "xmin": -443282.3555999994,
  "ymin": 1629264.7370580288,
  "xmax": -435638.35122947826,
  "ymax": 1632761.8908000013,
  "spatialReference": {
   "wkid": 102100,
   "latestWkid": 3857
  }
 },
 "fullExtent": {
  "xmin": -443282.3555999994,
  "ymin": 1629264.7370580288,
  "xmax": -435638.35122947826,
  "ymax": 1632761.8908000013,
  "spatialReference": {
   "wkid": 102100,
   "latestWkid": 3857
  }
 },
 "sortableFields": "",
 "bandCount": 3,
 "pixelType": "U8",
 "minValues": [
  1,
  1,
  1
 ],
 "maxValues": [
  255,
  255,
  255
 ],
 "meanValues": [
  187.49835611230753,
  153.19884750894897,
  124.50190033500307
 ],
 "stdvValues": [
  43.23251910286763,
  35.828458317240674,
  26.566481717361537
 ],
 "serviceProperties": "Center<\/MosaicMethod>First<\/MosaicOperator>true<\/SortAscending><\/LockImageID><\/TileOrderField>0<\/TileOrderBase>0.000000<\/AvgImageSpacingX>0.000000<\/AvgImageSpacingY>0.0<\/ViewPointX>0.0<\/ViewPointY>0.0<\/ViewPointDefShiftX>0.0<\/ViewPointDefShiftY>None<\/CompressionMethod>75<\/CompressionQuality>0.010000<\/CompressionTolerance>Bilinear<\/SamplingMethod><\/ImageServiceProperties><\/ImageServer>",
 "allowedFields": "",
 "hasMultidimensions": false,
 "pixelSizeX": 0.32211050400409474,
 "pixelSizeY": 0.3221105040041007,
 "meanPixelSize": 0.3221105040040977,
 "datasetFormat": "Cache/LERC2D",
 "uncompressedSize": 772942401,
 "blockWidth": 256,
 "blockHeight": 256,
 "compressionType": "LERC2D",
 "bandNames": [
  "Band_1",
  "Band_2",
  "Band_3"
 ],
 "allowCopy": true,
 "allowAnalysis": true,
 "itemAccess": false,
 "inspectionCapabilities": "",
 "minPixelSize": 0,
 "maxPixelSize": 0,
 "copyrightText": "",
 "serviceDataType": "esriImageServiceDataTypeRGB",
 "serviceSourceType": "esriImageServiceSourceTypeDataset",
 "objectIdField": "",
 "fields": [],
 "capabilities": "Image, Metadata",
 "defaultMosaicMethod": "Center",
 "allowedMosaicMethods": "",
 "sortField": "",
 "sortValue": null,
 "sortAscending": true,
 "mosaicOperator": "First",
 "defaultCompressionQuality": 75,
 "defaultResamplingMethod": "Bilinear",
 "maxImageHeight": 4100,
 "maxImageWidth": 15000,
 "singleFusedMapCache": true,
 "tileInfo": {
  "rows": 256,
  "cols": 256,
  "dpi": 96,
  "format": "LERC2D",
  "compressionQuality": 100000,
  "lercError": 0.1,
  "origin": {
   "x": -443282.3555999994,
   "y": 1632761.8908000013
  },
  "spatialReference": {
   "wkid": 102100,
   "latestWkid": 3857
  },
  "lods": [
   {
    "level": 0,
    "resolution": 20.615072256262064,
    "scale": 77915.07789398759
   },
   {
    "level": 1,
    "resolution": 10.307536128131032,
    "scale": 38957.538946993795
   },
   {
    "level": 2,
    "resolution": 5.153768064065516,
    "scale": 19478.769473496897
   },
   {
    "level": 3,
    "resolution": 2.576884032032758,
    "scale": 9739.384736748449
   },
   {
    "level": 4,
    "resolution": 1.288442016016379,
    "scale": 4869.692368374224
   },
   {
    "level": 5,
    "resolution": 0.6442210080081895,
    "scale": 2434.846184187112
   },
   {
    "level": 6,
    "resolution": 0.32211050400409474,
    "scale": 1217.423092093556
   }
  ]
 },
 "storageInfo": {
  "storageFormat": "esriMapCacheStorageModeCompactV2",
  "packetSize": 16
 },
 "cacheType": "Raster",
 "allowRasterFunction": true,
 "rasterFunctionInfos": [
  {
   "name": "None",
   "description": "",
   "help": ""
  }
 ],
 "rasterTypeInfos": [
  {
   "name": "Raster Dataset",
   "description": "Supports all ArcGIS Raster Datasets",
   "help": ""
  }
 ],
 "mensurationCapabilities": "Basic",
 "hasHistograms": true,
 "hasColormap": false,
 "hasRasterAttributeTable": false,
 "minScale": 0,
 "maxScale": 0,
 "exportTilesAllowed": false,
 "supportsStatistics": false,
 "supportsAdvancedQueries": false,
 "editFieldsInfo": null,
 "ownershipBasedAccessControlForRasters": null,
 "allowComputeTiePoints": false,
 "useStandardizedQueries": true,
 "advancedQueryCapabilities": {
  "useStandardizedQueries": true,
  "supportsStatistics": false,
  "supportsOrderBy": false,
  "supportsDistinct": false,
  "supportsPagination": false
 },
 "spatialReference": {
  "wkid": 102100,
  "latestWkid": 3857
 }
}
