{
 "currentVersion": 11.5,
 "serviceDescription": "Hosted/20230831_NER_0m50_WV02_Kablewa_Clip",
 "serviceItemId": "15cf607766c44da698838ce7e07d096e",
 "name": "Hosted/20230831_NER_0m50_WV02_Kablewa_Clip",
 "description": "",
 "extent": {
  "xmin": 1436593.1680999994,
  "ymin": 1567111.737642108,
  "xmax": 1451778.092860886,
  "ymax": 1573644.4663000014,
  "spatialReference": {
   "wkid": 102100,
   "latestWkid": 3857
  }
 },
 "initialExtent": {
  "xmin": 1436593.1680999994,
  "ymin": 1567111.737642108,
  "xmax": 1451778.092860886,
  "ymax": 1573644.4663000014,
  "spatialReference": {
   "wkid": 102100,
   "latestWkid": 3857
  }
 },
 "fullExtent": {
  "xmin": 1436593.1680999994,
  "ymin": 1567111.737642108,
  "xmax": 1451778.092860886,
  "ymax": 1573644.4663000014,
  "spatialReference": {
   "wkid": 102100,
   "latestWkid": 3857
  }
 },
 "sortableFields": "",
 "bandCount": 3,
 "pixelType": "U8",
 "minValues": [
  1,
  1,
  1
 ],
 "maxValues": [
  255,
  255,
  255
 ],
 "meanValues": [
  200.24592140722916,
  188.93193046583295,
  162.25669698505774
 ],
 "stdvValues": [
  36.76404600062453,
  38.05613969684441,
  31.823334202948544
 ],
 "serviceProperties": "Center<\/MosaicMethod>First<\/MosaicOperator>true<\/SortAscending><\/LockImageID><\/TileOrderField>0<\/TileOrderBase>0.000000<\/AvgImageSpacingX>0.000000<\/AvgImageSpacingY>0.0<\/ViewPointX>0.0<\/ViewPointY>0.0<\/ViewPointDefShiftX>0.0<\/ViewPointDefShiftY>None<\/CompressionMethod>75<\/CompressionQuality>0.010000<\/CompressionTolerance>Bilinear<\/SamplingMethod><\/ImageServiceProperties><\/ImageServer>",
 "allowedFields": "",
 "hasMultidimensions": false,
 "pixelSizeX": 0.500937708603123,
 "pixelSizeY": 0.5009377086031264,
 "meanPixelSize": 0.5009377086031247,
 "datasetFormat": "Cache/LERC2D",
 "uncompressedSize": 1185935499,
 "blockWidth": 256,
 "blockHeight": 256,
 "compressionType": "LERC2D",
 "bandNames": [
  "Band_1",
  "Band_2",
  "Band_3"
 ],
 "allowCopy": true,
 "allowAnalysis": true,
 "itemAccess": false,
 "inspectionCapabilities": "",
 "minPixelSize": 0,
 "maxPixelSize": 0,
 "copyrightText": "",
 "serviceDataType": "esriImageServiceDataTypeRGB",
 "serviceSourceType": "esriImageServiceSourceTypeDataset",
 "objectIdField": "",
 "fields": [],
 "capabilities": "Image, Metadata",
 "defaultMosaicMethod": "Center",
 "allowedMosaicMethods": "",
 "sortField": "",
 "sortValue": null,
 "sortAscending": true,
 "mosaicOperator": "First",
 "defaultCompressionQuality": 75,
 "defaultResamplingMethod": "Bilinear",
 "maxImageHeight": 4100,
 "maxImageWidth": 15000,
 "singleFusedMapCache": true,
 "tileInfo": {
  "rows": 256,
  "cols": 256,
  "dpi": 96,
  "format": "LERC2D",
  "compressionQuality": 100000,
  "lercError": 0.1,
  "origin": {
   "x": 1436593.1680999994,
   "y": 1573644.4663000014
  },
  "spatialReference": {
   "wkid": 102100,
   "latestWkid": 3857
  },
  "lods": [
   {
    "level": 0,
    "resolution": 32.060013350599874,
    "scale": 121171.46165885923
   },
   {
    "level": 1,
    "resolution": 16.030006675299937,
    "scale": 60585.730829429616
   },
   {
    "level": 2,
    "resolution": 8.015003337649969,
    "scale": 30292.865414714808
   },
   {
    "level": 3,
    "resolution": 4.007501668824984,
    "scale": 15146.432707357404
   },
   {
    "level": 4,
    "resolution": 2.003750834412492,
    "scale": 7573.216353678702
   },
   {
    "level": 5,
    "resolution": 1.001875417206246,
    "scale": 3786.608176839351
   },
   {
    "level": 6,
    "resolution": 0.500937708603123,
    "scale": 1893.3040884196755
   }
  ]
 },
 "storageInfo": {
  "storageFormat": "esriMapCacheStorageModeCompactV2",
  "packetSize": 16
 },
 "cacheType": "Raster",
 "allowRasterFunction": true,
 "rasterFunctionInfos": [
  {
   "name": "None",
   "description": "",
   "help": ""
  }
 ],
 "rasterTypeInfos": [
  {
   "name": "Raster Dataset",
   "description": "Supports all ArcGIS Raster Datasets",
   "help": ""
  }
 ],
 "mensurationCapabilities": "Basic",
 "hasHistograms": true,
 "hasColormap": false,
 "hasRasterAttributeTable": false,
 "minScale": 0,
 "maxScale": 0,
 "exportTilesAllowed": false,
 "supportsStatistics": false,
 "supportsAdvancedQueries": false,
 "editFieldsInfo": null,
 "ownershipBasedAccessControlForRasters": null,
 "allowComputeTiePoints": false,
 "useStandardizedQueries": true,
 "advancedQueryCapabilities": {
  "useStandardizedQueries": true,
  "supportsStatistics": false,
  "supportsOrderBy": false,
  "supportsDistinct": false,
  "supportsPagination": false
 },
 "spatialReference": {
  "wkid": 102100,
  "latestWkid": 3857
 }
}
