{
 "currentVersion": 11.5,
 "serviceDescription": "Hosted/20230901_MLI_0m34_WV03_VNIR_Bandiagara",
 "serviceItemId": "fe70655c653d4e3a91517632c6700296",
 "name": "Hosted/20230901_MLI_0m34_WV03_VNIR_Bandiagara",
 "description": "",
 "extent": {
  "xmin": -408305.24069999903,
  "ymin": 1611349.551667853,
  "xmax": -394328.92933727225,
  "ymax": 1618234.6956999998,
  "spatialReference": {
   "wkid": 102100,
   "latestWkid": 3857
  }
 },
 "initialExtent": {
  "xmin": -408305.24069999903,
  "ymin": 1611349.551667853,
  "xmax": -394328.92933727225,
  "ymax": 1618234.6956999998,
  "spatialReference": {
   "wkid": 102100,
   "latestWkid": 3857
  }
 },
 "fullExtent": {
  "xmin": -408305.24069999903,
  "ymin": 1611349.551667853,
  "xmax": -394328.92933727225,
  "ymax": 1618234.6956999998,
  "spatialReference": {
   "wkid": 102100,
   "latestWkid": 3857
  }
 },
 "sortableFields": "",
 "bandCount": 3,
 "pixelType": "U8",
 "minValues": [
  1,
  1,
  1
 ],
 "maxValues": [
  255,
  255,
  255
 ],
 "meanValues": [
  112.41022480778399,
  128.88259659230198,
  107.96903712501391
 ],
 "stdvValues": [
  30.60708754740977,
  25.415536101790835,
  24.358959551157504
 ],
 "serviceProperties": "Center<\/MosaicMethod>First<\/MosaicOperator>true<\/SortAscending><\/LockImageID><\/TileOrderField>0<\/TileOrderBase>0.000000<\/AvgImageSpacingX>0.000000<\/AvgImageSpacingY>0.0<\/ViewPointX>0.0<\/ViewPointY>0.0<\/ViewPointDefShiftX>0.0<\/ViewPointDefShiftY>None<\/CompressionMethod>75<\/CompressionQuality>0.010000<\/CompressionTolerance>Bilinear<\/SamplingMethod><\/ImageServiceProperties><\/ImageServer>",
 "allowedFields": "",
 "hasMultidimensions": false,
 "pixelSizeX": 0.3360902095160945,
 "pixelSizeY": 0.3360902095160979,
 "meanPixelSize": 0.3360902095160962,
 "datasetFormat": "Cache/LERC2D",
 "uncompressedSize": 2555730930,
 "blockWidth": 256,
 "blockHeight": 256,
 "compressionType": "LERC2D",
 "bandNames": [
  "Band_1",
  "Band_2",
  "Band_3"
 ],
 "allowCopy": true,
 "allowAnalysis": true,
 "itemAccess": false,
 "inspectionCapabilities": "",
 "minPixelSize": 0,
 "maxPixelSize": 0,
 "copyrightText": "",
 "serviceDataType": "esriImageServiceDataTypeRGB",
 "serviceSourceType": "esriImageServiceSourceTypeDataset",
 "objectIdField": "",
 "fields": [],
 "capabilities": "Image, Metadata",
 "defaultMosaicMethod": "Center",
 "allowedMosaicMethods": "",
 "sortField": "",
 "sortValue": null,
 "sortAscending": true,
 "mosaicOperator": "First",
 "defaultCompressionQuality": 75,
 "defaultResamplingMethod": "Bilinear",
 "maxImageHeight": 4100,
 "maxImageWidth": 15000,
 "singleFusedMapCache": true,
 "tileInfo": {
  "rows": 256,
  "cols": 256,
  "dpi": 96,
  "format": "LERC2D",
  "compressionQuality": 100000,
  "lercError": 0.1,
  "origin": {
   "x": -408305.24069999903,
   "y": 1618234.6956999998
  },
  "spatialReference": {
   "wkid": 102100,
   "latestWkid": 3857
  },
  "lods": [
   {
    "level": 0,
    "resolution": 43.01954681806009,
    "scale": 162593.23758979447
   },
   {
    "level": 1,
    "resolution": 21.509773409030046,
    "scale": 81296.61879489724
   },
   {
    "level": 2,
    "resolution": 10.754886704515023,
    "scale": 40648.30939744862
   },
   {
    "level": 3,
    "resolution": 5.377443352257512,
    "scale": 20324.15469872431
   },
   {
    "level": 4,
    "resolution": 2.688721676128756,
    "scale": 10162.077349362155
   },
   {
    "level": 5,
    "resolution": 1.344360838064378,
    "scale": 5081.038674681077
   },
   {
    "level": 6,
    "resolution": 0.672180419032189,
    "scale": 2540.5193373405386
   },
   {
    "level": 7,
    "resolution": 0.3360902095160945,
    "scale": 1270.2596686702693
   }
  ]
 },
 "storageInfo": {
  "storageFormat": "esriMapCacheStorageModeCompactV2",
  "packetSize": 16
 },
 "cacheType": "Raster",
 "allowRasterFunction": true,
 "rasterFunctionInfos": [
  {
   "name": "None",
   "description": "",
   "help": ""
  }
 ],
 "rasterTypeInfos": [
  {
   "name": "Raster Dataset",
   "description": "Supports all ArcGIS Raster Datasets",
   "help": ""
  }
 ],
 "mensurationCapabilities": "Basic",
 "hasHistograms": true,
 "hasColormap": false,
 "hasRasterAttributeTable": false,
 "minScale": 0,
 "maxScale": 0,
 "exportTilesAllowed": false,
 "supportsStatistics": false,
 "supportsAdvancedQueries": false,
 "editFieldsInfo": null,
 "ownershipBasedAccessControlForRasters": null,
 "allowComputeTiePoints": false,
 "useStandardizedQueries": true,
 "advancedQueryCapabilities": {
  "useStandardizedQueries": true,
  "supportsStatistics": false,
  "supportsOrderBy": false,
  "supportsDistinct": false,
  "supportsPagination": false
 },
 "spatialReference": {
  "wkid": 102100,
  "latestWkid": 3857
 }
}
