{
 "currentVersion": 11.5,
 "serviceDescription": "Hosted/20230911_NER_0m58_WV02_GarinDogo_Clip",
 "serviceItemId": "e53fc0fd723349289735eeaa79b36d94",
 "name": "Hosted/20230911_NER_0m58_WV02_GarinDogo_Clip",
 "description": "",
 "extent": {
  "xmin": 1417715.8315282017,
  "ymin": 1505173.8982173756,
  "xmax": 1425359.9130077276,
  "ymax": 1508670.8750271122,
  "spatialReference": {
   "wkid": 102100,
   "latestWkid": 3857
  }
 },
 "initialExtent": {
  "xmin": 1417715.8315282017,
  "ymin": 1505173.8982173756,
  "xmax": 1425359.9130077276,
  "ymax": 1508670.8750271122,
  "spatialReference": {
   "wkid": 102100,
   "latestWkid": 3857
  }
 },
 "fullExtent": {
  "xmin": 1417715.8315282017,
  "ymin": 1505173.8982173756,
  "xmax": 1425359.9130077276,
  "ymax": 1508670.8750271122,
  "spatialReference": {
   "wkid": 102100,
   "latestWkid": 3857
  }
 },
 "sortableFields": "",
 "bandCount": 3,
 "pixelType": "U8",
 "minValues": [
  1,
  1,
  1
 ],
 "maxValues": [
  255,
  255,
  255
 ],
 "meanValues": [
  183.3767557375999,
  175.59490675654368,
  147.3698901960207
 ],
 "stdvValues": [
  53.93477156920011,
  47.829912721573706,
  40.19106007395146
 ],
 "serviceProperties": "Center<\/MosaicMethod>First<\/MosaicOperator>true<\/SortAscending><\/LockImageID><\/TileOrderField>0<\/TileOrderBase>0.000000<\/AvgImageSpacingX>0.000000<\/AvgImageSpacingY>0.0<\/ViewPointX>0.0<\/ViewPointY>0.0<\/ViewPointDefShiftX>0.0<\/ViewPointDefShiftY>None<\/CompressionMethod>75<\/CompressionQuality>0.010000<\/CompressionTolerance>Bilinear<\/SamplingMethod><\/ImageServiceProperties><\/ImageServer>",
 "allowedFields": "",
 "hasMultidimensions": false,
 "pixelSizeX": 0.5079123906661722,
 "pixelSizeY": 0.5079123906661691,
 "meanPixelSize": 0.5079123906661707,
 "datasetFormat": "Cache/LERC2D",
 "uncompressedSize": 310812600,
 "blockWidth": 256,
 "blockHeight": 256,
 "compressionType": "LERC2D",
 "bandNames": [
  "Band_1",
  "Band_2",
  "Band_3"
 ],
 "allowCopy": true,
 "allowAnalysis": true,
 "itemAccess": false,
 "inspectionCapabilities": "",
 "minPixelSize": 0,
 "maxPixelSize": 0,
 "copyrightText": "",
 "serviceDataType": "esriImageServiceDataTypeRGB",
 "serviceSourceType": "esriImageServiceSourceTypeDataset",
 "objectIdField": "",
 "fields": [],
 "capabilities": "Image, Metadata",
 "defaultMosaicMethod": "Center",
 "allowedMosaicMethods": "",
 "sortField": "",
 "sortValue": null,
 "sortAscending": true,
 "mosaicOperator": "First",
 "defaultCompressionQuality": 75,
 "defaultResamplingMethod": "Bilinear",
 "maxImageHeight": 4100,
 "maxImageWidth": 15000,
 "singleFusedMapCache": true,
 "tileInfo": {
  "rows": 256,
  "cols": 256,
  "dpi": 96,
  "format": "LERC2D",
  "compressionQuality": 100000,
  "lercError": 0.1,
  "origin": {
   "x": 1417715.8315282017,
   "y": 1508670.8750271122
  },
  "spatialReference": {
   "wkid": 102100,
   "latestWkid": 3857
  },
  "lods": [
   {
    "level": 0,
    "resolution": 16.25319650131741,
    "scale": 61429.28124065918
   },
   {
    "level": 1,
    "resolution": 8.126598250658706,
    "scale": 30714.64062032959
   },
   {
    "level": 2,
    "resolution": 4.063299125329353,
    "scale": 15357.320310164794
   },
   {
    "level": 3,
    "resolution": 2.0316495626646764,
    "scale": 7678.660155082397
   },
   {
    "level": 4,
    "resolution": 1.0158247813323382,
    "scale": 3839.3300775411985
   },
   {
    "level": 5,
    "resolution": 0.5079123906661691,
    "scale": 1919.6650387705993
   }
  ]
 },
 "storageInfo": {
  "storageFormat": "esriMapCacheStorageModeCompactV2",
  "packetSize": 16
 },
 "cacheType": "Raster",
 "allowRasterFunction": true,
 "rasterFunctionInfos": [
  {
   "name": "None",
   "description": "",
   "help": ""
  }
 ],
 "rasterTypeInfos": [
  {
   "name": "Raster Dataset",
   "description": "Supports all ArcGIS Raster Datasets",
   "help": ""
  }
 ],
 "mensurationCapabilities": "Basic",
 "hasHistograms": true,
 "hasColormap": false,
 "hasRasterAttributeTable": false,
 "minScale": 0,
 "maxScale": 0,
 "exportTilesAllowed": false,
 "supportsStatistics": false,
 "supportsAdvancedQueries": false,
 "editFieldsInfo": null,
 "ownershipBasedAccessControlForRasters": null,
 "allowComputeTiePoints": false,
 "useStandardizedQueries": true,
 "advancedQueryCapabilities": {
  "useStandardizedQueries": true,
  "supportsStatistics": false,
  "supportsOrderBy": false,
  "supportsDistinct": false,
  "supportsPagination": false
 },
 "spatialReference": {
  "wkid": 102100,
  "latestWkid": 3857
 }
}
