{
 "currentVersion": 11.5,
 "serviceDescription": "Hosted/20231011_NER_0m50_WV02_Nguigmi_Clip",
 "serviceItemId": "0a6803eb265146c7a2e302cb7b150157",
 "name": "Hosted/20231011_NER_0m50_WV02_Nguigmi_Clip",
 "description": "",
 "extent": {
  "xmin": 1452666.7564000003,
  "ymin": 1599415.805914956,
  "xmax": 1467953.872448039,
  "ymax": 1606409.8982000009,
  "spatialReference": {
   "wkid": 102100,
   "latestWkid": 3857
  }
 },
 "initialExtent": {
  "xmin": 1452666.7564000003,
  "ymin": 1599415.805914956,
  "xmax": 1467953.872448039,
  "ymax": 1606409.8982000009,
  "spatialReference": {
   "wkid": 102100,
   "latestWkid": 3857
  }
 },
 "fullExtent": {
  "xmin": 1452666.7564000003,
  "ymin": 1599415.805914956,
  "xmax": 1467953.872448039,
  "ymax": 1606409.8982000009,
  "spatialReference": {
   "wkid": 102100,
   "latestWkid": 3857
  }
 },
 "sortableFields": "",
 "bandCount": 3,
 "pixelType": "U8",
 "minValues": [
  1,
  1,
  1
 ],
 "maxValues": [
  255,
  255,
  255
 ],
 "meanValues": [
  193.31507131432465,
  184.5605326878445,
  157.80311054947472
 ],
 "stdvValues": [
  50.30353505144309,
  46.441353023649896,
  39.20393832585437
 ],
 "serviceProperties": "Center<\/MosaicMethod>First<\/MosaicOperator>true<\/SortAscending><\/LockImageID><\/TileOrderField>0<\/TileOrderBase>0.000000<\/AvgImageSpacingX>0.000000<\/AvgImageSpacingY>0.0<\/ViewPointX>0.0<\/ViewPointY>0.0<\/ViewPointDefShiftX>0.0<\/ViewPointDefShiftY>None<\/CompressionMethod>75<\/CompressionQuality>0.010000<\/CompressionTolerance>Bilinear<\/SamplingMethod><\/ImageServiceProperties><\/ImageServer>",
 "allowedFields": "",
 "hasMultidimensions": false,
 "pixelSizeX": 0.5009377084260807,
 "pixelSizeY": 0.500937708426082,
 "meanPixelSize": 0.5009377084260813,
 "datasetFormat": "Cache/LERC2D",
 "uncompressedSize": 1278235062,
 "blockWidth": 256,
 "blockHeight": 256,
 "compressionType": "LERC2D",
 "bandNames": [
  "Band_1",
  "Band_2",
  "Band_3"
 ],
 "allowCopy": true,
 "allowAnalysis": true,
 "itemAccess": false,
 "inspectionCapabilities": "",
 "minPixelSize": 0,
 "maxPixelSize": 0,
 "copyrightText": "",
 "serviceDataType": "esriImageServiceDataTypeRGB",
 "serviceSourceType": "esriImageServiceSourceTypeDataset",
 "objectIdField": "",
 "fields": [],
 "capabilities": "Image, Metadata",
 "defaultMosaicMethod": "Center",
 "allowedMosaicMethods": "",
 "sortField": "",
 "sortValue": null,
 "sortAscending": true,
 "mosaicOperator": "First",
 "defaultCompressionQuality": 75,
 "defaultResamplingMethod": "Bilinear",
 "maxImageHeight": 4100,
 "maxImageWidth": 15000,
 "singleFusedMapCache": true,
 "tileInfo": {
  "rows": 256,
  "cols": 256,
  "dpi": 96,
  "format": "LERC2D",
  "compressionQuality": 100000,
  "lercError": 0.1,
  "origin": {
   "x": 1452666.7564000003,
   "y": 1606409.8982000009
  },
  "spatialReference": {
   "wkid": 102100,
   "latestWkid": 3857
  },
  "lods": [
   {
    "level": 0,
    "resolution": 32.06001333926925,
    "scale": 121171.4616160349
   },
   {
    "level": 1,
    "resolution": 16.030006669634624,
    "scale": 60585.73080801745
   },
   {
    "level": 2,
    "resolution": 8.015003334817312,
    "scale": 30292.865404008724
   },
   {
    "level": 3,
    "resolution": 4.007501667408656,
    "scale": 15146.432702004362
   },
   {
    "level": 4,
    "resolution": 2.003750833704328,
    "scale": 7573.216351002181
   },
   {
    "level": 5,
    "resolution": 1.001875416852164,
    "scale": 3786.6081755010905
   },
   {
    "level": 6,
    "resolution": 0.500937708426082,
    "scale": 1893.3040877505452
   }
  ]
 },
 "storageInfo": {
  "storageFormat": "esriMapCacheStorageModeCompactV2",
  "packetSize": 16
 },
 "cacheType": "Raster",
 "allowRasterFunction": true,
 "rasterFunctionInfos": [
  {
   "name": "None",
   "description": "",
   "help": ""
  }
 ],
 "rasterTypeInfos": [
  {
   "name": "Raster Dataset",
   "description": "Supports all ArcGIS Raster Datasets",
   "help": ""
  }
 ],
 "mensurationCapabilities": "Basic",
 "hasHistograms": true,
 "hasColormap": false,
 "hasRasterAttributeTable": false,
 "minScale": 0,
 "maxScale": 0,
 "exportTilesAllowed": false,
 "supportsStatistics": false,
 "supportsAdvancedQueries": false,
 "editFieldsInfo": null,
 "ownershipBasedAccessControlForRasters": null,
 "allowComputeTiePoints": false,
 "useStandardizedQueries": true,
 "advancedQueryCapabilities": {
  "useStandardizedQueries": true,
  "supportsStatistics": false,
  "supportsOrderBy": false,
  "supportsDistinct": false,
  "supportsPagination": false
 },
 "spatialReference": {
  "wkid": 102100,
  "latestWkid": 3857
 }
}
