{
 "currentVersion": 11.5,
 "serviceDescription": "Hosted/20231213_CMR_0m31_WV03_VNIR_Mokolo",
 "serviceItemId": "d403375e88694a63b4480f813fb75d6c",
 "name": "Hosted/20231213_CMR_0m31_WV03_VNIR_Mokolo",
 "description": "",
 "extent": {
  "xmin": 1529336.9987000003,
  "ymin": 1194192.1545189146,
  "xmax": 1542687.3328448746,
  "ymax": 1206786.0430999987,
  "spatialReference": {
   "wkid": 102100,
   "latestWkid": 3857
  }
 },
 "initialExtent": {
  "xmin": 1529336.9987000003,
  "ymin": 1194192.1545189146,
  "xmax": 1542687.3328448746,
  "ymax": 1206786.0430999987,
  "spatialReference": {
   "wkid": 102100,
   "latestWkid": 3857
  }
 },
 "fullExtent": {
  "xmin": 1529336.9987000003,
  "ymin": 1194192.1545189146,
  "xmax": 1542687.3328448746,
  "ymax": 1206786.0430999987,
  "spatialReference": {
   "wkid": 102100,
   "latestWkid": 3857
  }
 },
 "sortableFields": "",
 "bandCount": 3,
 "pixelType": "U8",
 "minValues": [
  1,
  1,
  1
 ],
 "maxValues": [
  255,
  255,
  255
 ],
 "meanValues": [
  108.4052533493065,
  106.19880040719511,
  102.09630620145329
 ],
 "stdvValues": [
  20.841961876631178,
  19.470583911688877,
  17.7993681195785
 ],
 "serviceProperties": "Center<\/MosaicMethod>First<\/MosaicOperator>true<\/SortAscending><\/LockImageID><\/TileOrderField>0<\/TileOrderBase>0.000000<\/AvgImageSpacingX>0.000000<\/AvgImageSpacingY>0.0<\/ViewPointX>0.0<\/ViewPointY>0.0<\/ViewPointDefShiftX>0.0<\/ViewPointDefShiftY>None<\/CompressionMethod>75<\/CompressionQuality>0.010000<\/CompressionTolerance>Bilinear<\/SamplingMethod><\/ImageServiceProperties><\/ImageServer>",
 "allowedFields": "",
 "hasMultidimensions": false,
 "pixelSizeX": 0.31001867368446795,
 "pixelSizeY": 0.3100186736844666,
 "meanPixelSize": 0.3100186736844673,
 "datasetFormat": "Cache/LERC2D",
 "uncompressedSize": 5248044747,
 "blockWidth": 256,
 "blockHeight": 256,
 "compressionType": "LERC2D",
 "bandNames": [
  "Band_1",
  "Band_2",
  "Band_3"
 ],
 "allowCopy": true,
 "allowAnalysis": true,
 "itemAccess": false,
 "inspectionCapabilities": "",
 "minPixelSize": 0,
 "maxPixelSize": 0,
 "copyrightText": "",
 "serviceDataType": "esriImageServiceDataTypeRGB",
 "serviceSourceType": "esriImageServiceSourceTypeDataset",
 "objectIdField": "",
 "fields": [],
 "capabilities": "Image, Metadata",
 "defaultMosaicMethod": "Center",
 "allowedMosaicMethods": "",
 "sortField": "",
 "sortValue": null,
 "sortAscending": true,
 "mosaicOperator": "First",
 "defaultCompressionQuality": 75,
 "defaultResamplingMethod": "Bilinear",
 "maxImageHeight": 4100,
 "maxImageWidth": 15000,
 "singleFusedMapCache": true,
 "tileInfo": {
  "rows": 256,
  "cols": 256,
  "dpi": 96,
  "format": "LERC2D",
  "compressionQuality": 100000,
  "lercError": 0.1,
  "origin": {
   "x": 1529336.9987000003,
   "y": 1206786.0430999987
  },
  "spatialReference": {
   "wkid": 102100,
   "latestWkid": 3857
  },
  "lods": [
   {
    "level": 0,
    "resolution": 79.36478046322345,
    "scale": 299960.77505636227
   },
   {
    "level": 1,
    "resolution": 39.68239023161173,
    "scale": 149980.38752818113
   },
   {
    "level": 2,
    "resolution": 19.841195115805863,
    "scale": 74990.19376409057
   },
   {
    "level": 3,
    "resolution": 9.920597557902932,
    "scale": 37495.09688204528
   },
   {
    "level": 4,
    "resolution": 4.960298778951466,
    "scale": 18747.54844102264
   },
   {
    "level": 5,
    "resolution": 2.480149389475733,
    "scale": 9373.77422051132
   },
   {
    "level": 6,
    "resolution": 1.2400746947378665,
    "scale": 4686.88711025566
   },
   {
    "level": 7,
    "resolution": 0.6200373473689332,
    "scale": 2343.44355512783
   },
   {
    "level": 8,
    "resolution": 0.3100186736844666,
    "scale": 1171.721777563915
   }
  ]
 },
 "storageInfo": {
  "storageFormat": "esriMapCacheStorageModeCompactV2",
  "packetSize": 16
 },
 "cacheType": "Raster",
 "allowRasterFunction": true,
 "rasterFunctionInfos": [
  {
   "name": "None",
   "description": "",
   "help": ""
  }
 ],
 "rasterTypeInfos": [
  {
   "name": "Raster Dataset",
   "description": "Supports all ArcGIS Raster Datasets",
   "help": ""
  }
 ],
 "mensurationCapabilities": "Basic",
 "hasHistograms": true,
 "hasColormap": false,
 "hasRasterAttributeTable": false,
 "minScale": 0,
 "maxScale": 0,
 "exportTilesAllowed": false,
 "supportsStatistics": false,
 "supportsAdvancedQueries": false,
 "editFieldsInfo": null,
 "ownershipBasedAccessControlForRasters": null,
 "allowComputeTiePoints": false,
 "useStandardizedQueries": true,
 "advancedQueryCapabilities": {
  "useStandardizedQueries": true,
  "supportsStatistics": false,
  "supportsOrderBy": false,
  "supportsDistinct": false,
  "supportsPagination": false
 },
 "spatialReference": {
  "wkid": 102100,
  "latestWkid": 3857
 }
}
