{
 "currentVersion": 11.5,
 "serviceDescription": "Hosted/20240115_NER_0m42_GE01_Nguigmi3_Clip",
 "serviceItemId": "fa74be7b451e4332b10d24f8729ce5d7",
 "name": "Hosted/20240115_NER_0m42_GE01_Nguigmi3_Clip",
 "description": "",
 "extent": {
  "xmin": 1439695.4754000008,
  "ymin": 1584701.996012485,
  "xmax": 1452494.4338548104,
  "ymax": 1591696.0883000016,
  "spatialReference": {
   "wkid": 102100,
   "latestWkid": 3857
  }
 },
 "initialExtent": {
  "xmin": 1439695.4754000008,
  "ymin": 1584701.996012485,
  "xmax": 1452494.4338548104,
  "ymax": 1591696.0883000016,
  "spatialReference": {
   "wkid": 102100,
   "latestWkid": 3857
  }
 },
 "fullExtent": {
  "xmin": 1439695.4754000008,
  "ymin": 1584701.996012485,
  "xmax": 1452494.4338548104,
  "ymax": 1591696.0883000016,
  "spatialReference": {
   "wkid": 102100,
   "latestWkid": 3857
  }
 },
 "sortableFields": "",
 "bandCount": 3,
 "pixelType": "U8",
 "minValues": [
  1,
  1,
  1
 ],
 "maxValues": [
  255,
  255,
  255
 ],
 "meanValues": [
  176.8224300505186,
  168.15251913136845,
  135.68185912329466
 ],
 "stdvValues": [
  49.0060126689376,
  44.3495776913475,
  36.04162742260578
 ],
 "serviceProperties": "Center<\/MosaicMethod>First<\/MosaicOperator>true<\/SortAscending><\/LockImageID><\/TileOrderField>0<\/TileOrderBase>0.000000<\/AvgImageSpacingX>0.000000<\/AvgImageSpacingY>0.0<\/ViewPointX>0.0<\/ViewPointY>0.0<\/ViewPointDefShiftX>0.0<\/ViewPointDefShiftY>None<\/CompressionMethod>75<\/CompressionQuality>0.010000<\/CompressionTolerance>Bilinear<\/SamplingMethod><\/ImageServiceProperties><\/ImageServer>",
 "allowedFields": "",
 "hasMultidimensions": false,
 "pixelSizeX": 0.5009377086031161,
 "pixelSizeY": 0.5009377086031147,
 "meanPixelSize": 0.5009377086031155,
 "datasetFormat": "Cache/LERC2D",
 "uncompressedSize": 1070110650,
 "blockWidth": 256,
 "blockHeight": 256,
 "compressionType": "LERC2D",
 "bandNames": [
  "Band_1",
  "Band_2",
  "Band_3"
 ],
 "allowCopy": true,
 "allowAnalysis": true,
 "itemAccess": false,
 "inspectionCapabilities": "",
 "minPixelSize": 0,
 "maxPixelSize": 0,
 "copyrightText": "",
 "serviceDataType": "esriImageServiceDataTypeRGB",
 "serviceSourceType": "esriImageServiceSourceTypeDataset",
 "objectIdField": "",
 "fields": [],
 "capabilities": "Image, Metadata",
 "defaultMosaicMethod": "Center",
 "allowedMosaicMethods": "",
 "sortField": "",
 "sortValue": null,
 "sortAscending": true,
 "mosaicOperator": "First",
 "defaultCompressionQuality": 75,
 "defaultResamplingMethod": "Bilinear",
 "maxImageHeight": 4100,
 "maxImageWidth": 15000,
 "singleFusedMapCache": true,
 "tileInfo": {
  "rows": 256,
  "cols": 256,
  "dpi": 96,
  "format": "LERC2D",
  "compressionQuality": 100000,
  "lercError": 0.1,
  "origin": {
   "x": 1439695.4754000008,
   "y": 1591696.0883000016
  },
  "spatialReference": {
   "wkid": 102100,
   "latestWkid": 3857
  },
  "lods": [
   {
    "level": 0,
    "resolution": 32.06001335059934,
    "scale": 121171.46165885721
   },
   {
    "level": 1,
    "resolution": 16.03000667529967,
    "scale": 60585.730829428605
   },
   {
    "level": 2,
    "resolution": 8.015003337649835,
    "scale": 30292.865414714302
   },
   {
    "level": 3,
    "resolution": 4.007501668824918,
    "scale": 15146.432707357151
   },
   {
    "level": 4,
    "resolution": 2.003750834412459,
    "scale": 7573.216353678576
   },
   {
    "level": 5,
    "resolution": 1.0018754172062294,
    "scale": 3786.608176839288
   },
   {
    "level": 6,
    "resolution": 0.5009377086031147,
    "scale": 1893.304088419644
   }
  ]
 },
 "storageInfo": {
  "storageFormat": "esriMapCacheStorageModeCompactV2",
  "packetSize": 16
 },
 "cacheType": "Raster",
 "allowRasterFunction": true,
 "rasterFunctionInfos": [
  {
   "name": "None",
   "description": "",
   "help": ""
  }
 ],
 "rasterTypeInfos": [
  {
   "name": "Raster Dataset",
   "description": "Supports all ArcGIS Raster Datasets",
   "help": ""
  }
 ],
 "mensurationCapabilities": "Basic",
 "hasHistograms": true,
 "hasColormap": false,
 "hasRasterAttributeTable": false,
 "minScale": 0,
 "maxScale": 0,
 "exportTilesAllowed": false,
 "supportsStatistics": false,
 "supportsAdvancedQueries": false,
 "editFieldsInfo": null,
 "ownershipBasedAccessControlForRasters": null,
 "allowComputeTiePoints": false,
 "useStandardizedQueries": true,
 "advancedQueryCapabilities": {
  "useStandardizedQueries": true,
  "supportsStatistics": false,
  "supportsOrderBy": false,
  "supportsDistinct": false,
  "supportsPagination": false
 },
 "spatialReference": {
  "wkid": 102100,
  "latestWkid": 3857
 }
}
