{
 "currentVersion": 11.5,
 "serviceDescription": "Hosted/HTI_Drone_AviationMilitaire",
 "serviceItemId": "71f0aae381fb47528f4bb195af08970d",
 "name": "Hosted/HTI_Drone_AviationMilitaire",
 "description": "",
 "extent": {
  "xmin": -8052031.646911045,
  "ymin": 2101050.994203114,
  "xmax": -8049475.574654036,
  "ymax": 2103436.482180014,
  "spatialReference": {
   "wkid": 102100,
   "latestWkid": 3857
  }
 },
 "initialExtent": {
  "xmin": -8052031.646911045,
  "ymin": 2101050.994203114,
  "xmax": -8049475.574654036,
  "ymax": 2103436.482180014,
  "spatialReference": {
   "wkid": 102100,
   "latestWkid": 3857
  }
 },
 "fullExtent": {
  "xmin": -8052031.646911045,
  "ymin": 2101050.994203114,
  "xmax": -8049475.574654036,
  "ymax": 2103436.482180014,
  "spatialReference": {
   "wkid": 102100,
   "latestWkid": 3857
  }
 },
 "sortableFields": "",
 "bandCount": 4,
 "pixelType": "U8",
 "minValues": [
  1,
  1,
  1,
  255
 ],
 "maxValues": [
  255,
  255,
  255,
  255
 ],
 "meanValues": [
  126.58775475539741,
  125.14475105373624,
  120.66693552976108,
  255
 ],
 "stdvValues": [
  61.17955831844309,
  59.127754957385996,
  60.149423234983026,
  0
 ],
 "serviceProperties": "Center<\/MosaicMethod>First<\/MosaicOperator>true<\/SortAscending><\/LockImageID><\/TileOrderField>0<\/TileOrderBase>0.000000<\/AvgImageSpacingX>0.000000<\/AvgImageSpacingY>0.0<\/ViewPointX>0.0<\/ViewPointY>0.0<\/ViewPointDefShiftX>0.0<\/ViewPointDefShiftY>None<\/CompressionMethod>75<\/CompressionQuality>0.010000<\/CompressionTolerance>Bilinear<\/SamplingMethod><\/ImageServiceProperties><\/ImageServer>",
 "allowedFields": "",
 "hasMultidimensions": false,
 "pixelSizeX": 0.04722709859040341,
 "pixelSizeY": 0.047227098590402805,
 "meanPixelSize": 0.04722709859040311,
 "datasetFormat": "Cache/LERC2D",
 "uncompressedSize": 10935227412,
 "blockWidth": 256,
 "blockHeight": 256,
 "compressionType": "LERC2D",
 "bandNames": [
  "Band_1",
  "Band_2",
  "Band_3",
  "Band_4"
 ],
 "allowCopy": true,
 "allowAnalysis": true,
 "itemAccess": false,
 "inspectionCapabilities": "",
 "minPixelSize": 0,
 "maxPixelSize": 0,
 "copyrightText": "",
 "serviceDataType": "esriImageServiceDataTypeGeneric",
 "serviceSourceType": "esriImageServiceSourceTypeDataset",
 "objectIdField": "",
 "fields": [],
 "capabilities": "Image, Metadata",
 "defaultMosaicMethod": "Center",
 "allowedMosaicMethods": "",
 "sortField": "",
 "sortValue": null,
 "sortAscending": true,
 "mosaicOperator": "First",
 "defaultCompressionQuality": 75,
 "defaultResamplingMethod": "Bilinear",
 "maxImageHeight": 4100,
 "maxImageWidth": 15000,
 "singleFusedMapCache": true,
 "tileInfo": {
  "rows": 256,
  "cols": 256,
  "dpi": 96,
  "format": "LERC2D",
  "compressionQuality": 100000,
  "lercError": 0.1,
  "origin": {
   "x": -8052031.646911045,
   "y": 2103436.482180014
  },
  "spatialReference": {
   "wkid": 102100,
   "latestWkid": 3857
  },
  "lods": [
   {
    "level": 0,
    "resolution": 12.090137239143118,
    "scale": 45694.91549808619
   },
   {
    "level": 1,
    "resolution": 6.045068619571559,
    "scale": 22847.457749043097
   },
   {
    "level": 2,
    "resolution": 3.0225343097857795,
    "scale": 11423.728874521548
   },
   {
    "level": 3,
    "resolution": 1.5112671548928898,
    "scale": 5711.864437260774
   },
   {
    "level": 4,
    "resolution": 0.7556335774464449,
    "scale": 2855.932218630387
   },
   {
    "level": 5,
    "resolution": 0.37781678872322244,
    "scale": 1427.9661093151935
   },
   {
    "level": 6,
    "resolution": 0.18890839436161122,
    "scale": 713.9830546575968
   },
   {
    "level": 7,
    "resolution": 0.09445419718080561,
    "scale": 356.9915273287984
   },
   {
    "level": 8,
    "resolution": 0.047227098590402805,
    "scale": 178.4957636643992
   }
  ]
 },
 "storageInfo": {
  "storageFormat": "esriMapCacheStorageModeCompactV2",
  "packetSize": 16
 },
 "cacheType": "Raster",
 "allowRasterFunction": true,
 "rasterFunctionInfos": [
  {
   "name": "None",
   "description": "",
   "help": ""
  }
 ],
 "rasterTypeInfos": [
  {
   "name": "Raster Dataset",
   "description": "Supports all ArcGIS Raster Datasets",
   "help": ""
  }
 ],
 "mensurationCapabilities": "Basic",
 "hasHistograms": true,
 "hasColormap": false,
 "hasRasterAttributeTable": false,
 "minScale": 0,
 "maxScale": 0,
 "exportTilesAllowed": false,
 "supportsStatistics": false,
 "supportsAdvancedQueries": false,
 "editFieldsInfo": null,
 "ownershipBasedAccessControlForRasters": null,
 "allowComputeTiePoints": false,
 "useStandardizedQueries": true,
 "advancedQueryCapabilities": {
  "useStandardizedQueries": true,
  "supportsStatistics": false,
  "supportsOrderBy": false,
  "supportsDistinct": false,
  "supportsPagination": false
 },
 "spatialReference": {
  "wkid": 102100,
  "latestWkid": 3857
 }
}
