{
 "currentVersion": 11.5,
 "serviceDescription": "Hosted/HTI_Drone_Bicentenaire",
 "serviceItemId": "987a3a579dfd460787a27a9cf308c118",
 "name": "Hosted/HTI_Drone_Bicentenaire",
 "description": "",
 "extent": {
  "xmin": -8054219.319737732,
  "ymin": 2099935.1535350815,
  "xmax": -8051791.952755482,
  "ymax": 2102278.9757031254,
  "spatialReference": {
   "wkid": 102100,
   "latestWkid": 3857
  }
 },
 "initialExtent": {
  "xmin": -8054219.319737732,
  "ymin": 2099935.1535350815,
  "xmax": -8051791.952755482,
  "ymax": 2102278.9757031254,
  "spatialReference": {
   "wkid": 102100,
   "latestWkid": 3857
  }
 },
 "fullExtent": {
  "xmin": -8054219.319737732,
  "ymin": 2099935.1535350815,
  "xmax": -8051791.952755482,
  "ymax": 2102278.9757031254,
  "spatialReference": {
   "wkid": 102100,
   "latestWkid": 3857
  }
 },
 "sortableFields": "",
 "bandCount": 4,
 "pixelType": "U8",
 "minValues": [
  1,
  1,
  1,
  255
 ],
 "maxValues": [
  255,
  255,
  255,
  255
 ],
 "meanValues": [
  117.22637632982779,
  116.35066345734182,
  107.6492009473583,
  255
 ],
 "stdvValues": [
  60.086117231412494,
  56.96619255398834,
  58.479969172699505,
  0
 ],
 "serviceProperties": "Center<\/MosaicMethod>First<\/MosaicOperator>true<\/SortAscending><\/LockImageID><\/TileOrderField>0<\/TileOrderBase>0.000000<\/AvgImageSpacingX>0.000000<\/AvgImageSpacingY>0.0<\/ViewPointX>0.0<\/ViewPointY>0.0<\/ViewPointDefShiftX>0.0<\/ViewPointDefShiftY>None<\/CompressionMethod>75<\/CompressionQuality>0.010000<\/CompressionTolerance>Bilinear<\/SamplingMethod><\/ImageServiceProperties><\/ImageServer>",
 "allowedFields": "",
 "hasMultidimensions": false,
 "pixelSizeX": 0.04757677346629703,
 "pixelSizeY": 0.04757677346630023,
 "meanPixelSize": 0.04757677346629863,
 "datasetFormat": "Cache/LERC2D",
 "uncompressedSize": 10053797120,
 "blockWidth": 256,
 "blockHeight": 256,
 "compressionType": "LERC2D",
 "bandNames": [
  "Band_1",
  "Band_2",
  "Band_3",
  "Band_4"
 ],
 "allowCopy": true,
 "allowAnalysis": true,
 "itemAccess": false,
 "inspectionCapabilities": "",
 "minPixelSize": 0,
 "maxPixelSize": 0,
 "copyrightText": "",
 "serviceDataType": "esriImageServiceDataTypeGeneric",
 "serviceSourceType": "esriImageServiceSourceTypeDataset",
 "objectIdField": "",
 "fields": [],
 "capabilities": "Image, Metadata",
 "defaultMosaicMethod": "Center",
 "allowedMosaicMethods": "",
 "sortField": "",
 "sortValue": null,
 "sortAscending": true,
 "mosaicOperator": "First",
 "defaultCompressionQuality": 75,
 "defaultResamplingMethod": "Bilinear",
 "maxImageHeight": 4100,
 "maxImageWidth": 15000,
 "singleFusedMapCache": true,
 "tileInfo": {
  "rows": 256,
  "cols": 256,
  "dpi": 96,
  "format": "LERC2D",
  "compressionQuality": 100000,
  "lercError": 0.1,
  "origin": {
   "x": -8054219.319737732,
   "y": 2102278.9757031254
  },
  "spatialReference": {
   "wkid": 102100,
   "latestWkid": 3857
  },
  "lods": [
   {
    "level": 0,
    "resolution": 12.179654007372859,
    "scale": 46033.245913945866
   },
   {
    "level": 1,
    "resolution": 6.0898270036864295,
    "scale": 23016.622956972933
   },
   {
    "level": 2,
    "resolution": 3.0449135018432147,
    "scale": 11508.311478486467
   },
   {
    "level": 3,
    "resolution": 1.5224567509216074,
    "scale": 5754.155739243233
   },
   {
    "level": 4,
    "resolution": 0.7612283754608037,
    "scale": 2877.0778696216166
   },
   {
    "level": 5,
    "resolution": 0.38061418773040184,
    "scale": 1438.5389348108083
   },
   {
    "level": 6,
    "resolution": 0.19030709386520092,
    "scale": 719.2694674054042
   },
   {
    "level": 7,
    "resolution": 0.09515354693260046,
    "scale": 359.6347337027021
   },
   {
    "level": 8,
    "resolution": 0.04757677346630023,
    "scale": 179.81736685135104
   }
  ]
 },
 "storageInfo": {
  "storageFormat": "esriMapCacheStorageModeCompactV2",
  "packetSize": 16
 },
 "cacheType": "Raster",
 "allowRasterFunction": true,
 "rasterFunctionInfos": [
  {
   "name": "None",
   "description": "",
   "help": ""
  }
 ],
 "rasterTypeInfos": [
  {
   "name": "Raster Dataset",
   "description": "Supports all ArcGIS Raster Datasets",
   "help": ""
  }
 ],
 "mensurationCapabilities": "Basic",
 "hasHistograms": true,
 "hasColormap": false,
 "hasRasterAttributeTable": false,
 "minScale": 0,
 "maxScale": 0,
 "exportTilesAllowed": false,
 "supportsStatistics": false,
 "supportsAdvancedQueries": false,
 "editFieldsInfo": null,
 "ownershipBasedAccessControlForRasters": null,
 "allowComputeTiePoints": false,
 "useStandardizedQueries": true,
 "advancedQueryCapabilities": {
  "useStandardizedQueries": true,
  "supportsStatistics": false,
  "supportsOrderBy": false,
  "supportsDistinct": false,
  "supportsPagination": false
 },
 "spatialReference": {
  "wkid": 102100,
  "latestWkid": 3857
 }
}
