{
 "currentVersion": 11.5,
 "serviceDescription": "Hosted/HTI_Drone_CiteMilitaire",
 "serviceItemId": "8d0b410271184234a1f78207d6d33c2e",
 "name": "Hosted/HTI_Drone_CiteMilitaire",
 "description": "",
 "extent": {
  "xmin": -8051562.83973126,
  "ymin": 2103129.434344989,
  "xmax": -8049919.591841449,
  "ymax": 2104014.5228662803,
  "spatialReference": {
   "wkid": 102100,
   "latestWkid": 3857
  }
 },
 "initialExtent": {
  "xmin": -8051562.83973126,
  "ymin": 2103129.434344989,
  "xmax": -8049919.591841449,
  "ymax": 2104014.5228662803,
  "spatialReference": {
   "wkid": 102100,
   "latestWkid": 3857
  }
 },
 "fullExtent": {
  "xmin": -8051562.83973126,
  "ymin": 2103129.434344989,
  "xmax": -8049919.591841449,
  "ymax": 2104014.5228662803,
  "spatialReference": {
   "wkid": 102100,
   "latestWkid": 3857
  }
 },
 "sortableFields": "",
 "bandCount": 4,
 "pixelType": "U8",
 "minValues": [
  1,
  1,
  1,
  255
 ],
 "maxValues": [
  255,
  255,
  255,
  255
 ],
 "meanValues": [
  119.84548268840945,
  121.59415792453869,
  119.80840037276826,
  255
 ],
 "stdvValues": [
  54.132498525226204,
  50.96943041846064,
  49.72328994188591,
  0
 ],
 "serviceProperties": "Center<\/MosaicMethod>First<\/MosaicOperator>true<\/SortAscending><\/LockImageID><\/TileOrderField>0<\/TileOrderBase>0.000000<\/AvgImageSpacingX>0.000000<\/AvgImageSpacingY>0.0<\/ViewPointX>0.0<\/ViewPointY>0.0<\/ViewPointDefShiftX>0.0<\/ViewPointDefShiftY>None<\/CompressionMethod>75<\/CompressionQuality>0.010000<\/CompressionTolerance>Bilinear<\/SamplingMethod><\/ImageServiceProperties><\/ImageServer>",
 "allowedFields": "",
 "hasMultidimensions": false,
 "pixelSizeX": 0.04615605555337265,
 "pixelSizeY": 0.046156055553374105,
 "meanPixelSize": 0.046156055553373376,
 "datasetFormat": "Cache/LERC2D",
 "uncompressedSize": 2730815808,
 "blockWidth": 256,
 "blockHeight": 256,
 "compressionType": "LERC2D",
 "bandNames": [
  "Band_1",
  "Band_2",
  "Band_3",
  "Band_4"
 ],
 "allowCopy": true,
 "allowAnalysis": true,
 "itemAccess": false,
 "inspectionCapabilities": "",
 "minPixelSize": 0,
 "maxPixelSize": 0,
 "copyrightText": "",
 "serviceDataType": "esriImageServiceDataTypeGeneric",
 "serviceSourceType": "esriImageServiceSourceTypeDataset",
 "objectIdField": "",
 "fields": [],
 "capabilities": "Image, Metadata",
 "defaultMosaicMethod": "Center",
 "allowedMosaicMethods": "",
 "sortField": "",
 "sortValue": null,
 "sortAscending": true,
 "mosaicOperator": "First",
 "defaultCompressionQuality": 75,
 "defaultResamplingMethod": "Bilinear",
 "maxImageHeight": 4100,
 "maxImageWidth": 15000,
 "singleFusedMapCache": true,
 "tileInfo": {
  "rows": 256,
  "cols": 256,
  "dpi": 96,
  "format": "LERC2D",
  "compressionQuality": 100000,
  "lercError": 0.1,
  "origin": {
   "x": -8051562.83973126,
   "y": 2104014.5228662803
  },
  "spatialReference": {
   "wkid": 102100,
   "latestWkid": 3857
  },
  "lods": [
   {
    "level": 0,
    "resolution": 5.907975110831699,
    "scale": 22329.31009089062
   },
   {
    "level": 1,
    "resolution": 2.9539875554158495,
    "scale": 11164.65504544531
   },
   {
    "level": 2,
    "resolution": 1.4769937777079247,
    "scale": 5582.327522722655
   },
   {
    "level": 3,
    "resolution": 0.7384968888539624,
    "scale": 2791.1637613613275
   },
   {
    "level": 4,
    "resolution": 0.3692484444269812,
    "scale": 1395.5818806806637
   },
   {
    "level": 5,
    "resolution": 0.1846242222134906,
    "scale": 697.7909403403319
   },
   {
    "level": 6,
    "resolution": 0.0923121111067453,
    "scale": 348.89547017016594
   },
   {
    "level": 7,
    "resolution": 0.04615605555337265,
    "scale": 174.44773508508297
   }
  ]
 },
 "storageInfo": {
  "storageFormat": "esriMapCacheStorageModeCompactV2",
  "packetSize": 16
 },
 "cacheType": "Raster",
 "allowRasterFunction": true,
 "rasterFunctionInfos": [
  {
   "name": "None",
   "description": "",
   "help": ""
  }
 ],
 "rasterTypeInfos": [
  {
   "name": "Raster Dataset",
   "description": "Supports all ArcGIS Raster Datasets",
   "help": ""
  }
 ],
 "mensurationCapabilities": "Basic",
 "hasHistograms": true,
 "hasColormap": false,
 "hasRasterAttributeTable": false,
 "minScale": 0,
 "maxScale": 0,
 "exportTilesAllowed": false,
 "supportsStatistics": false,
 "supportsAdvancedQueries": false,
 "editFieldsInfo": null,
 "ownershipBasedAccessControlForRasters": null,
 "allowComputeTiePoints": false,
 "useStandardizedQueries": true,
 "advancedQueryCapabilities": {
  "useStandardizedQueries": true,
  "supportsStatistics": false,
  "supportsOrderBy": false,
  "supportsDistinct": false,
  "supportsPagination": false
 },
 "spatialReference": {
  "wkid": 102100,
  "latestWkid": 3857
 }
}
