{
 "currentVersion": 11.5,
 "serviceDescription": "Hosted/HTI_Drone_ConstellationHotel",
 "serviceItemId": "6e3221c5bd204031a62f4da66e8c54ce",
 "name": "Hosted/HTI_Drone_ConstellationHotel",
 "description": "",
 "extent": {
  "xmin": -8050798.392352873,
  "ymin": 2102925.6956815342,
  "xmax": -8050302.206953309,
  "ymax": 2103383.3034135504,
  "spatialReference": {
   "wkid": 102100,
   "latestWkid": 3857
  }
 },
 "initialExtent": {
  "xmin": -8050798.392352873,
  "ymin": 2102925.6956815342,
  "xmax": -8050302.206953309,
  "ymax": 2103383.3034135504,
  "spatialReference": {
   "wkid": 102100,
   "latestWkid": 3857
  }
 },
 "fullExtent": {
  "xmin": -8050798.392352873,
  "ymin": 2102925.6956815342,
  "xmax": -8050302.206953309,
  "ymax": 2103383.3034135504,
  "spatialReference": {
   "wkid": 102100,
   "latestWkid": 3857
  }
 },
 "sortableFields": "",
 "bandCount": 4,
 "pixelType": "U8",
 "minValues": [
  1,
  1,
  1,
  255
 ],
 "maxValues": [
  255,
  255,
  255,
  255
 ],
 "meanValues": [
  113.371452070925,
  111.56120486855258,
  107.64989958938021,
  255
 ],
 "stdvValues": [
  59.18312390230493,
  57.27621543764703,
  57.186159232126286,
  0
 ],
 "serviceProperties": "Center<\/MosaicMethod>First<\/MosaicOperator>true<\/SortAscending><\/LockImageID><\/TileOrderField>0<\/TileOrderBase>0.000000<\/AvgImageSpacingX>0.000000<\/AvgImageSpacingY>0.0<\/ViewPointX>0.0<\/ViewPointY>0.0<\/ViewPointDefShiftX>0.0<\/ViewPointDefShiftY>None<\/CompressionMethod>75<\/CompressionQuality>0.010000<\/CompressionTolerance>Bilinear<\/SamplingMethod><\/ImageServiceProperties><\/ImageServer>",
 "allowedFields": "",
 "hasMultidimensions": false,
 "pixelSizeX": 0.046704198001215586,
 "pixelSizeY": 0.046704198001237755,
 "meanPixelSize": 0.046704198001226674,
 "datasetFormat": "Cache/LERC2D",
 "uncompressedSize": 416375808,
 "blockWidth": 256,
 "blockHeight": 256,
 "compressionType": "LERC2D",
 "bandNames": [
  "Band_1",
  "Band_2",
  "Band_3",
  "Band_4"
 ],
 "allowCopy": true,
 "allowAnalysis": true,
 "itemAccess": false,
 "inspectionCapabilities": "",
 "minPixelSize": 0,
 "maxPixelSize": 0,
 "copyrightText": "",
 "serviceDataType": "esriImageServiceDataTypeGeneric",
 "serviceSourceType": "esriImageServiceSourceTypeDataset",
 "objectIdField": "",
 "fields": [],
 "capabilities": "Image, Metadata",
 "defaultMosaicMethod": "Center",
 "allowedMosaicMethods": "",
 "sortField": "",
 "sortValue": null,
 "sortAscending": true,
 "mosaicOperator": "First",
 "defaultCompressionQuality": 75,
 "defaultResamplingMethod": "Bilinear",
 "maxImageHeight": 4100,
 "maxImageWidth": 15000,
 "singleFusedMapCache": true,
 "tileInfo": {
  "rows": 256,
  "cols": 256,
  "dpi": 96,
  "format": "LERC2D",
  "compressionQuality": 100000,
  "lercError": 0.1,
  "origin": {
   "x": -8050798.392352873,
   "y": 2103383.3034135504
  },
  "spatialReference": {
   "wkid": 102100,
   "latestWkid": 3857
  },
  "lods": [
   {
    "level": 0,
    "resolution": 2.9890686720777975,
    "scale": 11297.244827491477
   },
   {
    "level": 1,
    "resolution": 1.4945343360388987,
    "scale": 5648.622413745738
   },
   {
    "level": 2,
    "resolution": 0.7472671680194494,
    "scale": 2824.311206872869
   },
   {
    "level": 3,
    "resolution": 0.3736335840097247,
    "scale": 1412.1556034364346
   },
   {
    "level": 4,
    "resolution": 0.18681679200486234,
    "scale": 706.0778017182173
   },
   {
    "level": 5,
    "resolution": 0.09340839600243117,
    "scale": 353.03890085910865
   },
   {
    "level": 6,
    "resolution": 0.046704198001215586,
    "scale": 176.51945042955433
   }
  ]
 },
 "storageInfo": {
  "storageFormat": "esriMapCacheStorageModeCompactV2",
  "packetSize": 16
 },
 "cacheType": "Raster",
 "allowRasterFunction": true,
 "rasterFunctionInfos": [
  {
   "name": "None",
   "description": "",
   "help": ""
  }
 ],
 "rasterTypeInfos": [
  {
   "name": "Raster Dataset",
   "description": "Supports all ArcGIS Raster Datasets",
   "help": ""
  }
 ],
 "mensurationCapabilities": "Basic",
 "hasHistograms": true,
 "hasColormap": false,
 "hasRasterAttributeTable": false,
 "minScale": 0,
 "maxScale": 0,
 "exportTilesAllowed": false,
 "supportsStatistics": false,
 "supportsAdvancedQueries": false,
 "editFieldsInfo": null,
 "ownershipBasedAccessControlForRasters": null,
 "allowComputeTiePoints": false,
 "useStandardizedQueries": true,
 "advancedQueryCapabilities": {
  "useStandardizedQueries": true,
  "supportsStatistics": false,
  "supportsOrderBy": false,
  "supportsDistinct": false,
  "supportsPagination": false
 },
 "spatialReference": {
  "wkid": 102100,
  "latestWkid": 3857
 }
}
