{
 "currentVersion": 11.5,
 "serviceDescription": "Hosted/HTI_Drone_Delmas2_BelAir",
 "serviceItemId": "344d356da20d4c4aa9bb96823b1b81de",
 "name": "Hosted/HTI_Drone_Delmas2_BelAir",
 "description": "",
 "extent": {
  "xmin": -8052588.460336825,
  "ymin": 2101275.8484758935,
  "xmax": -8051048.6800685385,
  "ymax": 2102954.506272124,
  "spatialReference": {
   "wkid": 102100,
   "latestWkid": 3857
  }
 },
 "initialExtent": {
  "xmin": -8052588.460336825,
  "ymin": 2101275.8484758935,
  "xmax": -8051048.6800685385,
  "ymax": 2102954.506272124,
  "spatialReference": {
   "wkid": 102100,
   "latestWkid": 3857
  }
 },
 "fullExtent": {
  "xmin": -8052588.460336825,
  "ymin": 2101275.8484758935,
  "xmax": -8051048.6800685385,
  "ymax": 2102954.506272124,
  "spatialReference": {
   "wkid": 102100,
   "latestWkid": 3857
  }
 },
 "sortableFields": "",
 "bandCount": 4,
 "pixelType": "U8",
 "minValues": [
  1,
  1,
  1,
  255
 ],
 "maxValues": [
  255,
  255,
  255,
  255
 ],
 "meanValues": [
  125.57762571162787,
  123.51735225699203,
  119.44548858720411,
  255
 ],
 "stdvValues": [
  63.726354968774494,
  62.27093175010208,
  62.56257513276129,
  0
 ],
 "serviceProperties": "Center<\/MosaicMethod>First<\/MosaicOperator>true<\/SortAscending><\/LockImageID><\/TileOrderField>0<\/TileOrderBase>0.000000<\/AvgImageSpacingX>0.000000<\/AvgImageSpacingY>0.0<\/ViewPointX>0.0<\/ViewPointY>0.0<\/ViewPointDefShiftX>0.0<\/ViewPointDefShiftY>None<\/CompressionMethod>75<\/CompressionQuality>0.010000<\/CompressionTolerance>Bilinear<\/SamplingMethod><\/ImageServiceProperties><\/ImageServer>",
 "allowedFields": "",
 "hasMultidimensions": false,
 "pixelSizeX": 0.045251719760377195,
 "pixelSizeY": 0.045251719760368576,
 "meanPixelSize": 0.045251719760372885,
 "datasetFormat": "Cache/LERC2D",
 "uncompressedSize": 5049062368,
 "blockWidth": 256,
 "blockHeight": 256,
 "compressionType": "LERC2D",
 "bandNames": [
  "Band_1",
  "Band_2",
  "Band_3",
  "Band_4"
 ],
 "allowCopy": true,
 "allowAnalysis": true,
 "itemAccess": false,
 "inspectionCapabilities": "",
 "minPixelSize": 0,
 "maxPixelSize": 0,
 "copyrightText": "",
 "serviceDataType": "esriImageServiceDataTypeGeneric",
 "serviceSourceType": "esriImageServiceSourceTypeDataset",
 "objectIdField": "",
 "fields": [],
 "capabilities": "Image, Metadata",
 "defaultMosaicMethod": "Center",
 "allowedMosaicMethods": "",
 "sortField": "",
 "sortValue": null,
 "sortAscending": true,
 "mosaicOperator": "First",
 "defaultCompressionQuality": 75,
 "defaultResamplingMethod": "Bilinear",
 "maxImageHeight": 4100,
 "maxImageWidth": 15000,
 "singleFusedMapCache": true,
 "tileInfo": {
  "rows": 256,
  "cols": 256,
  "dpi": 96,
  "format": "LERC2D",
  "compressionQuality": 100000,
  "lercError": 0.1,
  "origin": {
   "x": -8052588.460336825,
   "y": 2102954.506272124
  },
  "spatialReference": {
   "wkid": 102100,
   "latestWkid": 3857
  },
  "lods": [
   {
    "level": 0,
    "resolution": 11.584440258654356,
    "scale": 43783.62364638931
   },
   {
    "level": 1,
    "resolution": 5.792220129327178,
    "scale": 21891.811823194654
   },
   {
    "level": 2,
    "resolution": 2.896110064663589,
    "scale": 10945.905911597327
   },
   {
    "level": 3,
    "resolution": 1.4480550323317944,
    "scale": 5472.952955798663
   },
   {
    "level": 4,
    "resolution": 0.7240275161658972,
    "scale": 2736.4764778993317
   },
   {
    "level": 5,
    "resolution": 0.3620137580829486,
    "scale": 1368.2382389496659
   },
   {
    "level": 6,
    "resolution": 0.1810068790414743,
    "scale": 684.1191194748329
   },
   {
    "level": 7,
    "resolution": 0.09050343952073715,
    "scale": 342.05955973741646
   },
   {
    "level": 8,
    "resolution": 0.045251719760368576,
    "scale": 171.02977986870823
   }
  ]
 },
 "storageInfo": {
  "storageFormat": "esriMapCacheStorageModeCompactV2",
  "packetSize": 16
 },
 "cacheType": "Raster",
 "allowRasterFunction": true,
 "rasterFunctionInfos": [
  {
   "name": "None",
   "description": "",
   "help": ""
  }
 ],
 "rasterTypeInfos": [
  {
   "name": "Raster Dataset",
   "description": "Supports all ArcGIS Raster Datasets",
   "help": ""
  }
 ],
 "mensurationCapabilities": "Basic",
 "hasHistograms": true,
 "hasColormap": false,
 "hasRasterAttributeTable": false,
 "minScale": 0,
 "maxScale": 0,
 "exportTilesAllowed": false,
 "supportsStatistics": false,
 "supportsAdvancedQueries": false,
 "editFieldsInfo": null,
 "ownershipBasedAccessControlForRasters": null,
 "allowComputeTiePoints": false,
 "useStandardizedQueries": true,
 "advancedQueryCapabilities": {
  "useStandardizedQueries": true,
  "supportsStatistics": false,
  "supportsOrderBy": false,
  "supportsDistinct": false,
  "supportsPagination": false
 },
 "spatialReference": {
  "wkid": 102100,
  "latestWkid": 3857
 }
}
