{
 "currentVersion": 11.5,
 "serviceDescription": "Hosted/HTI_Drone_Delmas2_StMarti",
 "serviceItemId": "06c0ef426cba4bc48f47a5a09e209c59",
 "name": "Hosted/HTI_Drone_Delmas2_StMarti",
 "description": "",
 "extent": {
  "xmin": -8052614.009761194,
  "ymin": 2101247.334952746,
  "xmax": -8051025.704583079,
  "ymax": 2102974.346487491,
  "spatialReference": {
   "wkid": 102100,
   "latestWkid": 3857
  }
 },
 "initialExtent": {
  "xmin": -8052614.009761194,
  "ymin": 2101247.334952746,
  "xmax": -8051025.704583079,
  "ymax": 2102974.346487491,
  "spatialReference": {
   "wkid": 102100,
   "latestWkid": 3857
  }
 },
 "fullExtent": {
  "xmin": -8052614.009761194,
  "ymin": 2101247.334952746,
  "xmax": -8051025.704583079,
  "ymax": 2102974.346487491,
  "spatialReference": {
   "wkid": 102100,
   "latestWkid": 3857
  }
 },
 "sortableFields": "",
 "bandCount": 4,
 "pixelType": "U8",
 "minValues": [
  1,
  1,
  1,
  255
 ],
 "maxValues": [
  255,
  255,
  255,
  255
 ],
 "meanValues": [
  124.54192669297564,
  122.6877432010686,
  118.50316030690857,
  255
 ],
 "stdvValues": [
  63.031590714492815,
  61.58742121927211,
  62.124576516214496,
  0
 ],
 "serviceProperties": "Center<\/MosaicMethod>First<\/MosaicOperator>true<\/SortAscending><\/LockImageID><\/TileOrderField>0<\/TileOrderBase>0.000000<\/AvgImageSpacingX>0.000000<\/AvgImageSpacingY>0.0<\/ViewPointX>0.0<\/ViewPointY>0.0<\/ViewPointDefShiftX>0.0<\/ViewPointDefShiftY>None<\/CompressionMethod>75<\/CompressionQuality>0.010000<\/CompressionTolerance>Bilinear<\/SamplingMethod><\/ImageServiceProperties><\/ImageServer>",
 "allowedFields": "",
 "hasMultidimensions": false,
 "pixelSizeX": 0.04515180879879309,
 "pixelSizeY": 0.04515180879878882,
 "meanPixelSize": 0.04515180879879095,
 "datasetFormat": "Cache/LERC2D",
 "uncompressedSize": 5381940292,
 "blockWidth": 256,
 "blockHeight": 256,
 "compressionType": "LERC2D",
 "bandNames": [
  "Band_1",
  "Band_2",
  "Band_3",
  "Band_4"
 ],
 "allowCopy": true,
 "allowAnalysis": true,
 "itemAccess": false,
 "inspectionCapabilities": "",
 "minPixelSize": 0,
 "maxPixelSize": 0,
 "copyrightText": "",
 "serviceDataType": "esriImageServiceDataTypeGeneric",
 "serviceSourceType": "esriImageServiceSourceTypeDataset",
 "objectIdField": "",
 "fields": [],
 "capabilities": "Image, Metadata",
 "defaultMosaicMethod": "Center",
 "allowedMosaicMethods": "",
 "sortField": "",
 "sortValue": null,
 "sortAscending": true,
 "mosaicOperator": "First",
 "defaultCompressionQuality": 75,
 "defaultResamplingMethod": "Bilinear",
 "maxImageHeight": 4100,
 "maxImageWidth": 15000,
 "singleFusedMapCache": true,
 "tileInfo": {
  "rows": 256,
  "cols": 256,
  "dpi": 96,
  "format": "LERC2D",
  "compressionQuality": 100000,
  "lercError": 0.1,
  "origin": {
   "x": -8052614.009761194,
   "y": 2102974.346487491
  },
  "spatialReference": {
   "wkid": 102100,
   "latestWkid": 3857
  },
  "lods": [
   {
    "level": 0,
    "resolution": 11.55886305249103,
    "scale": 43686.9540841509
   },
   {
    "level": 1,
    "resolution": 5.779431526245515,
    "scale": 21843.47704207545
   },
   {
    "level": 2,
    "resolution": 2.8897157631227577,
    "scale": 10921.738521037725
   },
   {
    "level": 3,
    "resolution": 1.4448578815613788,
    "scale": 5460.869260518863
   },
   {
    "level": 4,
    "resolution": 0.7224289407806894,
    "scale": 2730.4346302594313
   },
   {
    "level": 5,
    "resolution": 0.3612144703903447,
    "scale": 1365.2173151297156
   },
   {
    "level": 6,
    "resolution": 0.18060723519517236,
    "scale": 682.6086575648578
   },
   {
    "level": 7,
    "resolution": 0.09030361759758618,
    "scale": 341.3043287824289
   },
   {
    "level": 8,
    "resolution": 0.04515180879879309,
    "scale": 170.65216439121446
   }
  ]
 },
 "storageInfo": {
  "storageFormat": "esriMapCacheStorageModeCompactV2",
  "packetSize": 16
 },
 "cacheType": "Raster",
 "allowRasterFunction": true,
 "rasterFunctionInfos": [
  {
   "name": "None",
   "description": "",
   "help": ""
  }
 ],
 "rasterTypeInfos": [
  {
   "name": "Raster Dataset",
   "description": "Supports all ArcGIS Raster Datasets",
   "help": ""
  }
 ],
 "mensurationCapabilities": "Basic",
 "hasHistograms": true,
 "hasColormap": false,
 "hasRasterAttributeTable": false,
 "minScale": 0,
 "maxScale": 0,
 "exportTilesAllowed": false,
 "supportsStatistics": false,
 "supportsAdvancedQueries": false,
 "editFieldsInfo": null,
 "ownershipBasedAccessControlForRasters": null,
 "allowComputeTiePoints": false,
 "useStandardizedQueries": true,
 "advancedQueryCapabilities": {
  "useStandardizedQueries": true,
  "supportsStatistics": false,
  "supportsOrderBy": false,
  "supportsDistinct": false,
  "supportsPagination": false
 },
 "spatialReference": {
  "wkid": 102100,
  "latestWkid": 3857
 }
}
