{
 "currentVersion": 11.5,
 "serviceDescription": "Hosted/HTI_Drone_Juvenat",
 "serviceItemId": "60c973ba95db4b9a918fcd3c1ea89890",
 "name": "Hosted/HTI_Drone_Juvenat",
 "description": "",
 "extent": {
  "xmin": -8049709.658008988,
  "ymin": 2097425.7849061657,
  "xmax": -8046422.882345704,
  "ymax": 2099841.432109557,
  "spatialReference": {
   "wkid": 102100,
   "latestWkid": 3857
  }
 },
 "initialExtent": {
  "xmin": -8049709.658008988,
  "ymin": 2097425.7849061657,
  "xmax": -8046422.882345704,
  "ymax": 2099841.432109557,
  "spatialReference": {
   "wkid": 102100,
   "latestWkid": 3857
  }
 },
 "fullExtent": {
  "xmin": -8049709.658008988,
  "ymin": 2097425.7849061657,
  "xmax": -8046422.882345704,
  "ymax": 2099841.432109557,
  "spatialReference": {
   "wkid": 102100,
   "latestWkid": 3857
  }
 },
 "sortableFields": "",
 "bandCount": 4,
 "pixelType": "U8",
 "minValues": [
  1,
  1,
  1,
  255
 ],
 "maxValues": [
  255,
  255,
  255,
  255
 ],
 "meanValues": [
  121.6113280800415,
  120.25925467138934,
  108.42483768129212,
  255
 ],
 "stdvValues": [
  56.78186999896656,
  54.048613961923294,
  58.689240054251094,
  0
 ],
 "serviceProperties": "Center<\/MosaicMethod>First<\/MosaicOperator>true<\/SortAscending><\/LockImageID><\/TileOrderField>0<\/TileOrderBase>0.000000<\/AvgImageSpacingX>0.000000<\/AvgImageSpacingY>0.0<\/ViewPointX>0.0<\/ViewPointY>0.0<\/ViewPointDefShiftX>0.0<\/ViewPointDefShiftY>None<\/CompressionMethod>75<\/CompressionQuality>0.010000<\/CompressionTolerance>Bilinear<\/SamplingMethod><\/ImageServiceProperties><\/ImageServer>",
 "allowedFields": "",
 "hasMultidimensions": false,
 "pixelSizeX": 0.04780903681974245,
 "pixelSizeY": 0.04780903681974821,
 "meanPixelSize": 0.047809036819745326,
 "datasetFormat": "Cache/LERC2D",
 "uncompressedSize": 13894520784,
 "blockWidth": 256,
 "blockHeight": 256,
 "compressionType": "LERC2D",
 "bandNames": [
  "Band_1",
  "Band_2",
  "Band_3",
  "Band_4"
 ],
 "allowCopy": true,
 "allowAnalysis": true,
 "itemAccess": false,
 "inspectionCapabilities": "",
 "minPixelSize": 0,
 "maxPixelSize": 0,
 "copyrightText": "",
 "serviceDataType": "esriImageServiceDataTypeGeneric",
 "serviceSourceType": "esriImageServiceSourceTypeDataset",
 "objectIdField": "",
 "fields": [],
 "capabilities": "Image, Metadata",
 "defaultMosaicMethod": "Center",
 "allowedMosaicMethods": "",
 "sortField": "",
 "sortValue": null,
 "sortAscending": true,
 "mosaicOperator": "First",
 "defaultCompressionQuality": 75,
 "defaultResamplingMethod": "Bilinear",
 "maxImageHeight": 4100,
 "maxImageWidth": 15000,
 "singleFusedMapCache": true,
 "tileInfo": {
  "rows": 256,
  "cols": 256,
  "dpi": 96,
  "format": "LERC2D",
  "compressionQuality": 100000,
  "lercError": 0.1,
  "origin": {
   "x": -8049709.658008988,
   "y": 2099841.432109557
  },
  "spatialReference": {
   "wkid": 102100,
   "latestWkid": 3857
  },
  "lods": [
   {
    "level": 0,
    "resolution": 12.239113425855543,
    "scale": 46257.97397528954
   },
   {
    "level": 1,
    "resolution": 6.119556712927771,
    "scale": 23128.98698764477
   },
   {
    "level": 2,
    "resolution": 3.0597783564638856,
    "scale": 11564.493493822385
   },
   {
    "level": 3,
    "resolution": 1.5298891782319428,
    "scale": 5782.2467469111925
   },
   {
    "level": 4,
    "resolution": 0.7649445891159714,
    "scale": 2891.1233734555963
   },
   {
    "level": 5,
    "resolution": 0.3824722945579857,
    "scale": 1445.5616867277981
   },
   {
    "level": 6,
    "resolution": 0.19123614727899285,
    "scale": 722.7808433638991
   },
   {
    "level": 7,
    "resolution": 0.09561807363949643,
    "scale": 361.39042168194953
   },
   {
    "level": 8,
    "resolution": 0.04780903681974821,
    "scale": 180.69521084097477
   }
  ]
 },
 "storageInfo": {
  "storageFormat": "esriMapCacheStorageModeCompactV2",
  "packetSize": 16
 },
 "cacheType": "Raster",
 "allowRasterFunction": true,
 "rasterFunctionInfos": [
  {
   "name": "None",
   "description": "",
   "help": ""
  }
 ],
 "rasterTypeInfos": [
  {
   "name": "Raster Dataset",
   "description": "Supports all ArcGIS Raster Datasets",
   "help": ""
  }
 ],
 "mensurationCapabilities": "Basic",
 "hasHistograms": true,
 "hasColormap": false,
 "hasRasterAttributeTable": false,
 "minScale": 0,
 "maxScale": 0,
 "exportTilesAllowed": false,
 "supportsStatistics": false,
 "supportsAdvancedQueries": false,
 "editFieldsInfo": null,
 "ownershipBasedAccessControlForRasters": null,
 "allowComputeTiePoints": false,
 "useStandardizedQueries": true,
 "advancedQueryCapabilities": {
  "useStandardizedQueries": true,
  "supportsStatistics": false,
  "supportsOrderBy": false,
  "supportsDistinct": false,
  "supportsPagination": false
 },
 "spatialReference": {
  "wkid": 102100,
  "latestWkid": 3857
 }
}
