{
 "currentVersion": 11.5,
 "serviceDescription": "Hosted/HTI_Drone_Lalue_v2",
 "serviceItemId": "6a15aabb3e7e4225af5ea5e9894ad8e7",
 "name": "Hosted/HTI_Drone_Lalue_v2",
 "description": "",
 "extent": {
  "xmin": -8051757.129015313,
  "ymin": 2100838.6052239463,
  "xmax": -8051074.922118951,
  "ymax": 2101532.6345320614,
  "spatialReference": {
   "wkid": 102100,
   "latestWkid": 3857
  }
 },
 "initialExtent": {
  "xmin": -8051757.129015313,
  "ymin": 2100838.6052239463,
  "xmax": -8051074.922118951,
  "ymax": 2101532.6345320614,
  "spatialReference": {
   "wkid": 102100,
   "latestWkid": 3857
  }
 },
 "fullExtent": {
  "xmin": -8051757.129015313,
  "ymin": 2100838.6052239463,
  "xmax": -8051074.922118951,
  "ymax": 2101532.6345320614,
  "spatialReference": {
   "wkid": 102100,
   "latestWkid": 3857
  }
 },
 "sortableFields": "",
 "bandCount": 4,
 "pixelType": "U8",
 "minValues": [
  1,
  1,
  1,
  255
 ],
 "maxValues": [
  255,
  255,
  255,
  255
 ],
 "meanValues": [
  115.11924103223222,
  114.12870310578622,
  107.83962397499835,
  255
 ],
 "stdvValues": [
  60.267846305879814,
  56.42462114446385,
  55.30157681384952,
  0
 ],
 "serviceProperties": "Center<\/MosaicMethod>First<\/MosaicOperator>true<\/SortAscending><\/LockImageID><\/TileOrderField>0<\/TileOrderBase>0.000000<\/AvgImageSpacingX>0.000000<\/AvgImageSpacingY>0.0<\/ViewPointX>0.0<\/ViewPointY>0.0<\/ViewPointDefShiftX>0.0<\/ViewPointDefShiftY>None<\/CompressionMethod>75<\/CompressionQuality>0.010000<\/CompressionTolerance>Bilinear<\/SamplingMethod><\/ImageServiceProperties><\/ImageServer>",
 "allowedFields": "",
 "hasMultidimensions": false,
 "pixelSizeX": 0.04478186269941094,
 "pixelSizeY": 0.044781862699389094,
 "meanPixelSize": 0.044781862699400016,
 "datasetFormat": "Cache/LERC2D",
 "uncompressedSize": 944386128,
 "blockWidth": 256,
 "blockHeight": 256,
 "compressionType": "LERC2D",
 "bandNames": [
  "Band_1",
  "Band_2",
  "Band_3",
  "Band_4"
 ],
 "allowCopy": true,
 "allowAnalysis": true,
 "itemAccess": false,
 "inspectionCapabilities": "",
 "minPixelSize": 0,
 "maxPixelSize": 0,
 "copyrightText": "",
 "serviceDataType": "esriImageServiceDataTypeGeneric",
 "serviceSourceType": "esriImageServiceSourceTypeDataset",
 "objectIdField": "",
 "fields": [],
 "capabilities": "Image, Metadata",
 "defaultMosaicMethod": "Center",
 "allowedMosaicMethods": "",
 "sortField": "",
 "sortValue": null,
 "sortAscending": true,
 "mosaicOperator": "First",
 "defaultCompressionQuality": 75,
 "defaultResamplingMethod": "Bilinear",
 "maxImageHeight": 4100,
 "maxImageWidth": 15000,
 "singleFusedMapCache": true,
 "tileInfo": {
  "rows": 256,
  "cols": 256,
  "dpi": 96,
  "format": "LERC2D",
  "compressionQuality": 100000,
  "lercError": 0.1,
  "origin": {
   "x": -8051757.129015313,
   "y": 2101532.6345320614
  },
  "spatialReference": {
   "wkid": 102100,
   "latestWkid": 3857
  },
  "lods": [
   {
    "level": 0,
    "resolution": 2.866039212760902,
    "scale": 10832.252525414084
   },
   {
    "level": 1,
    "resolution": 1.433019606380451,
    "scale": 5416.126262707042
   },
   {
    "level": 2,
    "resolution": 0.7165098031902255,
    "scale": 2708.063131353521
   },
   {
    "level": 3,
    "resolution": 0.35825490159511275,
    "scale": 1354.0315656767605
   },
   {
    "level": 4,
    "resolution": 0.17912745079755638,
    "scale": 677.0157828383802
   },
   {
    "level": 5,
    "resolution": 0.08956372539877819,
    "scale": 338.5078914191901
   },
   {
    "level": 6,
    "resolution": 0.044781862699389094,
    "scale": 169.25394570959506
   }
  ]
 },
 "storageInfo": {
  "storageFormat": "esriMapCacheStorageModeCompactV2",
  "packetSize": 16
 },
 "cacheType": "Raster",
 "allowRasterFunction": true,
 "rasterFunctionInfos": [
  {
   "name": "None",
   "description": "",
   "help": ""
  }
 ],
 "rasterTypeInfos": [
  {
   "name": "Raster Dataset",
   "description": "Supports all ArcGIS Raster Datasets",
   "help": ""
  }
 ],
 "mensurationCapabilities": "Basic",
 "hasHistograms": true,
 "hasColormap": false,
 "hasRasterAttributeTable": false,
 "minScale": 0,
 "maxScale": 0,
 "exportTilesAllowed": false,
 "supportsStatistics": false,
 "supportsAdvancedQueries": false,
 "editFieldsInfo": null,
 "ownershipBasedAccessControlForRasters": null,
 "allowComputeTiePoints": false,
 "useStandardizedQueries": true,
 "advancedQueryCapabilities": {
  "useStandardizedQueries": true,
  "supportsStatistics": false,
  "supportsOrderBy": false,
  "supportsDistinct": false,
  "supportsPagination": false
 },
 "spatialReference": {
  "wkid": 102100,
  "latestWkid": 3857
 }
}
