{
 "currentVersion": 11.5,
 "serviceDescription": "Hosted/HTI_Drone_Lelio",
 "serviceItemId": "7777451535aa4c5cb267a78e9455bd7c",
 "name": "Hosted/HTI_Drone_Lelio",
 "description": "",
 "extent": {
  "xmin": -8053104.415325559,
  "ymin": 2099360.46547065,
  "xmax": -8052105.583665091,
  "ymax": 2099978.3887026017,
  "spatialReference": {
   "wkid": 102100,
   "latestWkid": 3857
  }
 },
 "initialExtent": {
  "xmin": -8053104.415325559,
  "ymin": 2099360.46547065,
  "xmax": -8052105.583665091,
  "ymax": 2099978.3887026017,
  "spatialReference": {
   "wkid": 102100,
   "latestWkid": 3857
  }
 },
 "fullExtent": {
  "xmin": -8053104.415325559,
  "ymin": 2099360.46547065,
  "xmax": -8052105.583665091,
  "ymax": 2099978.3887026017,
  "spatialReference": {
   "wkid": 102100,
   "latestWkid": 3857
  }
 },
 "sortableFields": "",
 "bandCount": 4,
 "pixelType": "U8",
 "minValues": [
  1,
  1,
  1,
  255
 ],
 "maxValues": [
  255,
  255,
  255,
  255
 ],
 "meanValues": [
  125.4158417042626,
  124.36741521568416,
  112.11404669807382,
  255
 ],
 "stdvValues": [
  63.492779893128706,
  60.2463807119549,
  61.19397432874321,
  0
 ],
 "serviceProperties": "Center<\/MosaicMethod>First<\/MosaicOperator>true<\/SortAscending><\/LockImageID><\/TileOrderField>0<\/TileOrderBase>0.000000<\/AvgImageSpacingX>0.000000<\/AvgImageSpacingY>0.0<\/ViewPointX>0.0<\/ViewPointY>0.0<\/ViewPointDefShiftX>0.0<\/ViewPointDefShiftY>None<\/CompressionMethod>75<\/CompressionQuality>0.010000<\/CompressionTolerance>Bilinear<\/SamplingMethod><\/ImageServiceProperties><\/ImageServer>",
 "allowedFields": "",
 "hasMultidimensions": false,
 "pixelSizeX": 0.04603123003217343,
 "pixelSizeY": 0.04603123003217315,
 "meanPixelSize": 0.04603123003217329,
 "datasetFormat": "Cache/LERC2D",
 "uncompressedSize": 1165149504,
 "blockWidth": 256,
 "blockHeight": 256,
 "compressionType": "LERC2D",
 "bandNames": [
  "Band_1",
  "Band_2",
  "Band_3",
  "Band_4"
 ],
 "allowCopy": true,
 "allowAnalysis": true,
 "itemAccess": false,
 "inspectionCapabilities": "",
 "minPixelSize": 0,
 "maxPixelSize": 0,
 "copyrightText": "",
 "serviceDataType": "esriImageServiceDataTypeGeneric",
 "serviceSourceType": "esriImageServiceSourceTypeDataset",
 "objectIdField": "",
 "fields": [],
 "capabilities": "Image, Metadata",
 "defaultMosaicMethod": "Center",
 "allowedMosaicMethods": "",
 "sortField": "",
 "sortValue": null,
 "sortAscending": true,
 "mosaicOperator": "First",
 "defaultCompressionQuality": 75,
 "defaultResamplingMethod": "Bilinear",
 "maxImageHeight": 4100,
 "maxImageWidth": 15000,
 "singleFusedMapCache": true,
 "tileInfo": {
  "rows": 256,
  "cols": 256,
  "dpi": 96,
  "format": "LERC2D",
  "compressionQuality": 100000,
  "lercError": 0.1,
  "origin": {
   "x": -8053104.415325559,
   "y": 2099978.3887026017
  },
  "spatialReference": {
   "wkid": 102100,
   "latestWkid": 3857
  },
  "lods": [
   {
    "level": 0,
    "resolution": 2.9459987220590818,
    "scale": 11134.46108999674
   },
   {
    "level": 1,
    "resolution": 1.4729993610295409,
    "scale": 5567.23054499837
   },
   {
    "level": 2,
    "resolution": 0.7364996805147704,
    "scale": 2783.615272499185
   },
   {
    "level": 3,
    "resolution": 0.3682498402573852,
    "scale": 1391.8076362495924
   },
   {
    "level": 4,
    "resolution": 0.1841249201286926,
    "scale": 695.9038181247962
   },
   {
    "level": 5,
    "resolution": 0.0920624600643463,
    "scale": 347.9519090623981
   },
   {
    "level": 6,
    "resolution": 0.04603123003217315,
    "scale": 173.97595453119905
   }
  ]
 },
 "storageInfo": {
  "storageFormat": "esriMapCacheStorageModeCompactV2",
  "packetSize": 16
 },
 "cacheType": "Raster",
 "allowRasterFunction": true,
 "rasterFunctionInfos": [
  {
   "name": "None",
   "description": "",
   "help": ""
  }
 ],
 "rasterTypeInfos": [
  {
   "name": "Raster Dataset",
   "description": "Supports all ArcGIS Raster Datasets",
   "help": ""
  }
 ],
 "mensurationCapabilities": "Basic",
 "hasHistograms": true,
 "hasColormap": false,
 "hasRasterAttributeTable": false,
 "minScale": 0,
 "maxScale": 0,
 "exportTilesAllowed": false,
 "supportsStatistics": false,
 "supportsAdvancedQueries": false,
 "editFieldsInfo": null,
 "ownershipBasedAccessControlForRasters": null,
 "allowComputeTiePoints": false,
 "useStandardizedQueries": true,
 "advancedQueryCapabilities": {
  "useStandardizedQueries": true,
  "supportsStatistics": false,
  "supportsOrderBy": false,
  "supportsDistinct": false,
  "supportsPagination": false
 },
 "spatialReference": {
  "wkid": 102100,
  "latestWkid": 3857
 }
}
