{
 "currentVersion": 11.5,
 "serviceDescription": "Hosted/HTI_Drone_MorneATuf",
 "serviceItemId": "b6d7984e19de4d1d93385eec5a68d89f",
 "name": "Hosted/HTI_Drone_MorneATuf",
 "description": "",
 "extent": {
  "xmin": -8053870.556277075,
  "ymin": 2099347.010565329,
  "xmax": -8052453.235808492,
  "ymax": 2100733.0250399797,
  "spatialReference": {
   "wkid": 102100,
   "latestWkid": 3857
  }
 },
 "initialExtent": {
  "xmin": -8053870.556277075,
  "ymin": 2099347.010565329,
  "xmax": -8052453.235808492,
  "ymax": 2100733.0250399797,
  "spatialReference": {
   "wkid": 102100,
   "latestWkid": 3857
  }
 },
 "fullExtent": {
  "xmin": -8053870.556277075,
  "ymin": 2099347.010565329,
  "xmax": -8052453.235808492,
  "ymax": 2100733.0250399797,
  "spatialReference": {
   "wkid": 102100,
   "latestWkid": 3857
  }
 },
 "sortableFields": "",
 "bandCount": 4,
 "pixelType": "U8",
 "minValues": [
  1,
  1,
  1,
  255
 ],
 "maxValues": [
  255,
  255,
  255,
  255
 ],
 "meanValues": [
  119.31075499965935,
  117.33819676088902,
  111.23267026068132,
  255
 ],
 "stdvValues": [
  60.285506835259,
  57.23625646614404,
  57.09377039256061,
  0
 ],
 "serviceProperties": "Center<\/MosaicMethod>First<\/MosaicOperator>true<\/SortAscending><\/LockImageID><\/TileOrderField>0<\/TileOrderBase>0.000000<\/AvgImageSpacingX>0.000000<\/AvgImageSpacingY>0.0<\/ViewPointX>0.0<\/ViewPointY>0.0<\/ViewPointDefShiftX>0.0<\/ViewPointDefShiftY>None<\/CompressionMethod>75<\/CompressionQuality>0.010000<\/CompressionTolerance>Bilinear<\/SamplingMethod><\/ImageServiceProperties><\/ImageServer>",
 "allowedFields": "",
 "hasMultidimensions": false,
 "pixelSizeX": 0.04672536407817045,
 "pixelSizeY": 0.04672536407817297,
 "meanPixelSize": 0.04672536407817171,
 "datasetFormat": "Cache/LERC2D",
 "uncompressedSize": 3599071116,
 "blockWidth": 256,
 "blockHeight": 256,
 "compressionType": "LERC2D",
 "bandNames": [
  "Band_1",
  "Band_2",
  "Band_3",
  "Band_4"
 ],
 "allowCopy": true,
 "allowAnalysis": true,
 "itemAccess": false,
 "inspectionCapabilities": "",
 "minPixelSize": 0,
 "maxPixelSize": 0,
 "copyrightText": "",
 "serviceDataType": "esriImageServiceDataTypeGeneric",
 "serviceSourceType": "esriImageServiceSourceTypeDataset",
 "objectIdField": "",
 "fields": [],
 "capabilities": "Image, Metadata",
 "defaultMosaicMethod": "Center",
 "allowedMosaicMethods": "",
 "sortField": "",
 "sortValue": null,
 "sortAscending": true,
 "mosaicOperator": "First",
 "defaultCompressionQuality": 75,
 "defaultResamplingMethod": "Bilinear",
 "maxImageHeight": 4100,
 "maxImageWidth": 15000,
 "singleFusedMapCache": true,
 "tileInfo": {
  "rows": 256,
  "cols": 256,
  "dpi": 96,
  "format": "LERC2D",
  "compressionQuality": 100000,
  "lercError": 0.1,
  "origin": {
   "x": -8053870.556277075,
   "y": 2100733.0250399797
  },
  "spatialReference": {
   "wkid": 102100,
   "latestWkid": 3857
  },
  "lods": [
   {
    "level": 0,
    "resolution": 5.980846602005817,
    "scale": 22604.729349213027
   },
   {
    "level": 1,
    "resolution": 2.9904233010029087,
    "scale": 11302.364674606513
   },
   {
    "level": 2,
    "resolution": 1.4952116505014543,
    "scale": 5651.182337303257
   },
   {
    "level": 3,
    "resolution": 0.7476058252507272,
    "scale": 2825.5911686516283
   },
   {
    "level": 4,
    "resolution": 0.3738029126253636,
    "scale": 1412.7955843258142
   },
   {
    "level": 5,
    "resolution": 0.1869014563126818,
    "scale": 706.3977921629071
   },
   {
    "level": 6,
    "resolution": 0.0934507281563409,
    "scale": 353.19889608145354
   },
   {
    "level": 7,
    "resolution": 0.04672536407817045,
    "scale": 176.59944804072677
   }
  ]
 },
 "storageInfo": {
  "storageFormat": "esriMapCacheStorageModeCompactV2",
  "packetSize": 16
 },
 "cacheType": "Raster",
 "allowRasterFunction": true,
 "rasterFunctionInfos": [
  {
   "name": "None",
   "description": "",
   "help": ""
  }
 ],
 "rasterTypeInfos": [
  {
   "name": "Raster Dataset",
   "description": "Supports all ArcGIS Raster Datasets",
   "help": ""
  }
 ],
 "mensurationCapabilities": "Basic",
 "hasHistograms": true,
 "hasColormap": false,
 "hasRasterAttributeTable": false,
 "minScale": 0,
 "maxScale": 0,
 "exportTilesAllowed": false,
 "supportsStatistics": false,
 "supportsAdvancedQueries": false,
 "editFieldsInfo": null,
 "ownershipBasedAccessControlForRasters": null,
 "allowComputeTiePoints": false,
 "useStandardizedQueries": true,
 "advancedQueryCapabilities": {
  "useStandardizedQueries": true,
  "supportsStatistics": false,
  "supportsOrderBy": false,
  "supportsDistinct": false,
  "supportsPagination": false
 },
 "spatialReference": {
  "wkid": 102100,
  "latestWkid": 3857
 }
}
