{
 "currentVersion": 11.5,
 "serviceDescription": "Hosted/HTI_Drone_Pacot",
 "serviceItemId": "4e97f59a25214079991711265bb2e997",
 "name": "Hosted/HTI_Drone_Pacot",
 "description": "",
 "extent": {
  "xmin": -8051748.850905182,
  "ymin": 2098573.2098050294,
  "xmax": -8050682.36013333,
  "ymax": 2099480.3918781593,
  "spatialReference": {
   "wkid": 102100,
   "latestWkid": 3857
  }
 },
 "initialExtent": {
  "xmin": -8051748.850905182,
  "ymin": 2098573.2098050294,
  "xmax": -8050682.36013333,
  "ymax": 2099480.3918781593,
  "spatialReference": {
   "wkid": 102100,
   "latestWkid": 3857
  }
 },
 "fullExtent": {
  "xmin": -8051748.850905182,
  "ymin": 2098573.2098050294,
  "xmax": -8050682.36013333,
  "ymax": 2099480.3918781593,
  "spatialReference": {
   "wkid": 102100,
   "latestWkid": 3857
  }
 },
 "sortableFields": "",
 "bandCount": 4,
 "pixelType": "U8",
 "minValues": [
  1,
  1,
  1,
  255
 ],
 "maxValues": [
  255,
  255,
  255,
  255
 ],
 "meanValues": [
  111.26985176308095,
  111.022605653601,
  95.89359797277987,
  255
 ],
 "stdvValues": [
  57.809654046082514,
  53.54775529337802,
  53.09029152875682,
  0
 ],
 "serviceProperties": "Center<\/MosaicMethod>First<\/MosaicOperator>true<\/SortAscending><\/LockImageID><\/TileOrderField>0<\/TileOrderBase>0.000000<\/AvgImageSpacingX>0.000000<\/AvgImageSpacingY>0.0<\/ViewPointX>0.0<\/ViewPointY>0.0<\/ViewPointDefShiftX>0.0<\/ViewPointDefShiftY>None<\/CompressionMethod>75<\/CompressionQuality>0.010000<\/CompressionTolerance>Bilinear<\/SamplingMethod><\/ImageServiceProperties><\/ImageServer>",
 "allowedFields": "",
 "hasMultidimensions": false,
 "pixelSizeX": 0.045232452788680225,
 "pixelSizeY": 0.04523245278868202,
 "meanPixelSize": 0.04523245278868113,
 "datasetFormat": "Cache/LERC2D",
 "uncompressedSize": 1891521472,
 "blockWidth": 256,
 "blockHeight": 256,
 "compressionType": "LERC2D",
 "bandNames": [
  "Band_1",
  "Band_2",
  "Band_3",
  "Band_4"
 ],
 "allowCopy": true,
 "allowAnalysis": true,
 "itemAccess": false,
 "inspectionCapabilities": "",
 "minPixelSize": 0,
 "maxPixelSize": 0,
 "copyrightText": "",
 "serviceDataType": "esriImageServiceDataTypeGeneric",
 "serviceSourceType": "esriImageServiceSourceTypeDataset",
 "objectIdField": "",
 "fields": [],
 "capabilities": "Image, Metadata",
 "defaultMosaicMethod": "Center",
 "allowedMosaicMethods": "",
 "sortField": "",
 "sortValue": null,
 "sortAscending": true,
 "mosaicOperator": "First",
 "defaultCompressionQuality": 75,
 "defaultResamplingMethod": "Bilinear",
 "maxImageHeight": 4100,
 "maxImageWidth": 15000,
 "singleFusedMapCache": true,
 "tileInfo": {
  "rows": 256,
  "cols": 256,
  "dpi": 96,
  "format": "LERC2D",
  "compressionQuality": 100000,
  "lercError": 0.1,
  "origin": {
   "x": -8051748.850905182,
   "y": 2099480.3918781593
  },
  "spatialReference": {
   "wkid": 102100,
   "latestWkid": 3857
  },
  "lods": [
   {
    "level": 0,
    "resolution": 5.789753956951069,
    "scale": 21882.4908753757
   },
   {
    "level": 1,
    "resolution": 2.8948769784755344,
    "scale": 10941.24543768785
   },
   {
    "level": 2,
    "resolution": 1.4474384892377672,
    "scale": 5470.622718843925
   },
   {
    "level": 3,
    "resolution": 0.7237192446188836,
    "scale": 2735.3113594219626
   },
   {
    "level": 4,
    "resolution": 0.3618596223094418,
    "scale": 1367.6556797109813
   },
   {
    "level": 5,
    "resolution": 0.1809298111547209,
    "scale": 683.8278398554907
   },
   {
    "level": 6,
    "resolution": 0.09046490557736045,
    "scale": 341.9139199277453
   },
   {
    "level": 7,
    "resolution": 0.045232452788680225,
    "scale": 170.95695996387266
   }
  ]
 },
 "storageInfo": {
  "storageFormat": "esriMapCacheStorageModeCompactV2",
  "packetSize": 16
 },
 "cacheType": "Raster",
 "allowRasterFunction": true,
 "rasterFunctionInfos": [
  {
   "name": "None",
   "description": "",
   "help": ""
  }
 ],
 "rasterTypeInfos": [
  {
   "name": "Raster Dataset",
   "description": "Supports all ArcGIS Raster Datasets",
   "help": ""
  }
 ],
 "mensurationCapabilities": "Basic",
 "hasHistograms": true,
 "hasColormap": false,
 "hasRasterAttributeTable": false,
 "minScale": 0,
 "maxScale": 0,
 "exportTilesAllowed": false,
 "supportsStatistics": false,
 "supportsAdvancedQueries": false,
 "editFieldsInfo": null,
 "ownershipBasedAccessControlForRasters": null,
 "allowComputeTiePoints": false,
 "useStandardizedQueries": true,
 "advancedQueryCapabilities": {
  "useStandardizedQueries": true,
  "supportsStatistics": false,
  "supportsOrderBy": false,
  "supportsDistinct": false,
  "supportsPagination": false
 },
 "spatialReference": {
  "wkid": 102100,
  "latestWkid": 3857
 }
}
