{
 "currentVersion": 11.5,
 "serviceDescription": "Hosted/HTI_Drone_Port_CroixBossales",
 "serviceItemId": "b5251105c18f42328b6238f5b672daeb",
 "name": "Hosted/HTI_Drone_Port_CroixBossales",
 "description": "",
 "extent": {
  "xmin": -8054151.615141719,
  "ymin": 2101102.8258813047,
  "xmax": -8051705.622953015,
  "ymax": 2103446.2113810433,
  "spatialReference": {
   "wkid": 102100,
   "latestWkid": 3857
  }
 },
 "initialExtent": {
  "xmin": -8054151.615141719,
  "ymin": 2101102.8258813047,
  "xmax": -8051705.622953015,
  "ymax": 2103446.2113810433,
  "spatialReference": {
   "wkid": 102100,
   "latestWkid": 3857
  }
 },
 "fullExtent": {
  "xmin": -8054151.615141719,
  "ymin": 2101102.8258813047,
  "xmax": -8051705.622953015,
  "ymax": 2103446.2113810433,
  "spatialReference": {
   "wkid": 102100,
   "latestWkid": 3857
  }
 },
 "sortableFields": "",
 "bandCount": 4,
 "pixelType": "U8",
 "minValues": [
  1,
  1,
  1,
  255
 ],
 "maxValues": [
  255,
  255,
  255,
  255
 ],
 "meanValues": [
  107.88872707119674,
  108.73788109373929,
  100.76102926712923,
  255
 ],
 "stdvValues": [
  57.436140924806956,
  53.31627667071059,
  53.34035210692303,
  0
 ],
 "serviceProperties": "Center<\/MosaicMethod>First<\/MosaicOperator>true<\/SortAscending><\/LockImageID><\/TileOrderField>0<\/TileOrderBase>0.000000<\/AvgImageSpacingX>0.000000<\/AvgImageSpacingY>0.0<\/ViewPointX>0.0<\/ViewPointY>0.0<\/ViewPointDefShiftX>0.0<\/ViewPointDefShiftY>None<\/CompressionMethod>75<\/CompressionQuality>0.010000<\/CompressionTolerance>Bilinear<\/SamplingMethod><\/ImageServiceProperties><\/ImageServer>",
 "allowedFields": "",
 "hasMultidimensions": false,
 "pixelSizeX": 0.04502268054600333,
 "pixelSizeY": 0.04502268054599747,
 "meanPixelSize": 0.0450226805460004,
 "datasetFormat": "Cache/LERC2D",
 "uncompressedSize": 11310872288,
 "blockWidth": 256,
 "blockHeight": 256,
 "compressionType": "LERC2D",
 "bandNames": [
  "Band_1",
  "Band_2",
  "Band_3",
  "Band_4"
 ],
 "allowCopy": true,
 "allowAnalysis": true,
 "itemAccess": false,
 "inspectionCapabilities": "",
 "minPixelSize": 0,
 "maxPixelSize": 0,
 "copyrightText": "",
 "serviceDataType": "esriImageServiceDataTypeGeneric",
 "serviceSourceType": "esriImageServiceSourceTypeDataset",
 "objectIdField": "",
 "fields": [],
 "capabilities": "Image, Metadata",
 "defaultMosaicMethod": "Center",
 "allowedMosaicMethods": "",
 "sortField": "",
 "sortValue": null,
 "sortAscending": true,
 "mosaicOperator": "First",
 "defaultCompressionQuality": 75,
 "defaultResamplingMethod": "Bilinear",
 "maxImageHeight": 4100,
 "maxImageWidth": 15000,
 "singleFusedMapCache": true,
 "tileInfo": {
  "rows": 256,
  "cols": 256,
  "dpi": 96,
  "format": "LERC2D",
  "compressionQuality": 100000,
  "lercError": 0.1,
  "origin": {
   "x": -8054151.615141719,
   "y": 2103446.2113810433
  },
  "spatialReference": {
   "wkid": 102100,
   "latestWkid": 3857
  },
  "lods": [
   {
    "level": 0,
    "resolution": 11.525806219775353,
    "scale": 43562.01512376534
   },
   {
    "level": 1,
    "resolution": 5.762903109887676,
    "scale": 21781.00756188267
   },
   {
    "level": 2,
    "resolution": 2.881451554943838,
    "scale": 10890.503780941335
   },
   {
    "level": 3,
    "resolution": 1.440725777471919,
    "scale": 5445.251890470668
   },
   {
    "level": 4,
    "resolution": 0.7203628887359596,
    "scale": 2722.625945235334
   },
   {
    "level": 5,
    "resolution": 0.3601814443679798,
    "scale": 1361.312972617667
   },
   {
    "level": 6,
    "resolution": 0.1800907221839899,
    "scale": 680.6564863088335
   },
   {
    "level": 7,
    "resolution": 0.09004536109199494,
    "scale": 340.3282431544167
   },
   {
    "level": 8,
    "resolution": 0.04502268054599747,
    "scale": 170.16412157720836
   }
  ]
 },
 "storageInfo": {
  "storageFormat": "esriMapCacheStorageModeCompactV2",
  "packetSize": 16
 },
 "cacheType": "Raster",
 "allowRasterFunction": true,
 "rasterFunctionInfos": [
  {
   "name": "None",
   "description": "",
   "help": ""
  }
 ],
 "rasterTypeInfos": [
  {
   "name": "Raster Dataset",
   "description": "Supports all ArcGIS Raster Datasets",
   "help": ""
  }
 ],
 "mensurationCapabilities": "Basic",
 "hasHistograms": true,
 "hasColormap": false,
 "hasRasterAttributeTable": false,
 "minScale": 0,
 "maxScale": 0,
 "exportTilesAllowed": false,
 "supportsStatistics": false,
 "supportsAdvancedQueries": false,
 "editFieldsInfo": null,
 "ownershipBasedAccessControlForRasters": null,
 "allowComputeTiePoints": false,
 "useStandardizedQueries": true,
 "advancedQueryCapabilities": {
  "useStandardizedQueries": true,
  "supportsStatistics": false,
  "supportsOrderBy": false,
  "supportsDistinct": false,
  "supportsPagination": false
 },
 "spatialReference": {
  "wkid": 102100,
  "latestWkid": 3857
 }
}
