{
 "currentVersion": 11.5,
 "serviceDescription": "Hosted/HTI_Drone_Port_Rue",
 "serviceItemId": "82194a77981e40e9857620ad054372d9",
 "name": "Hosted/HTI_Drone_Port_Rue",
 "description": "",
 "extent": {
  "xmin": -8053838.4351745825,
  "ymin": 2102075.1649886905,
  "xmax": -8052614.078281573,
  "ymax": 2103418.5176921114,
  "spatialReference": {
   "wkid": 102100,
   "latestWkid": 3857
  }
 },
 "initialExtent": {
  "xmin": -8053838.4351745825,
  "ymin": 2102075.1649886905,
  "xmax": -8052614.078281573,
  "ymax": 2103418.5176921114,
  "spatialReference": {
   "wkid": 102100,
   "latestWkid": 3857
  }
 },
 "fullExtent": {
  "xmin": -8053838.4351745825,
  "ymin": 2102075.1649886905,
  "xmax": -8052614.078281573,
  "ymax": 2103418.5176921114,
  "spatialReference": {
   "wkid": 102100,
   "latestWkid": 3857
  }
 },
 "sortableFields": "",
 "bandCount": 4,
 "pixelType": "U8",
 "minValues": [
  0,
  0,
  0,
  255
 ],
 "maxValues": [
  255,
  255,
  255,
  255
 ],
 "meanValues": [
  113.58771740751034,
  114.15766952320791,
  111.3440966032306,
  255
 ],
 "stdvValues": [
  56.666198276677974,
  51.71614560968235,
  49.324794688962825,
  0
 ],
 "serviceProperties": "Center<\/MosaicMethod>First<\/MosaicOperator>true<\/SortAscending><\/LockImageID><\/TileOrderField>0<\/TileOrderBase>0.000000<\/AvgImageSpacingX>0.000000<\/AvgImageSpacingY>0.0<\/ViewPointX>0.0<\/ViewPointY>0.0<\/ViewPointDefShiftX>0.0<\/ViewPointDefShiftY>None<\/CompressionMethod>75<\/CompressionQuality>0.010000<\/CompressionTolerance>Bilinear<\/SamplingMethod><\/ImageServiceProperties><\/ImageServer>",
 "allowedFields": "",
 "hasMultidimensions": false,
 "pixelSizeX": 0.04999823966879721,
 "pixelSizeY": 0.04999823966878483,
 "meanPixelSize": 0.04999823966879102,
 "datasetFormat": "Cache/LERC2D",
 "uncompressedSize": 2631774336,
 "blockWidth": 256,
 "blockHeight": 256,
 "compressionType": "LERC2D",
 "bandNames": [
  "red",
  "green",
  "blue",
  "Band_4"
 ],
 "allowCopy": true,
 "allowAnalysis": true,
 "itemAccess": false,
 "inspectionCapabilities": "",
 "minPixelSize": 0,
 "maxPixelSize": 0,
 "copyrightText": "",
 "serviceDataType": "esriImageServiceDataTypeGeneric",
 "serviceSourceType": "esriImageServiceSourceTypeDataset",
 "objectIdField": "",
 "fields": [],
 "capabilities": "Image, Metadata",
 "defaultMosaicMethod": "Center",
 "allowedMosaicMethods": "",
 "sortField": "",
 "sortValue": null,
 "sortAscending": true,
 "mosaicOperator": "First",
 "defaultCompressionQuality": 75,
 "defaultResamplingMethod": "Bilinear",
 "maxImageHeight": 4100,
 "maxImageWidth": 15000,
 "singleFusedMapCache": true,
 "tileInfo": {
  "rows": 256,
  "cols": 256,
  "dpi": 96,
  "format": "LERC2D",
  "compressionQuality": 100000,
  "lercError": 0.1,
  "origin": {
   "x": -8053838.4351745825,
   "y": 2103418.5176921114
  },
  "spatialReference": {
   "wkid": 102100,
   "latestWkid": 3857
  },
  "lods": [
   {
    "level": 0,
    "resolution": 6.399774677604459,
    "scale": 24188.0763894996
   },
   {
    "level": 1,
    "resolution": 3.1998873388022293,
    "scale": 12094.0381947498
   },
   {
    "level": 2,
    "resolution": 1.5999436694011147,
    "scale": 6047.0190973749
   },
   {
    "level": 3,
    "resolution": 0.7999718347005573,
    "scale": 3023.50954868745
   },
   {
    "level": 4,
    "resolution": 0.39998591735027866,
    "scale": 1511.754774343725
   },
   {
    "level": 5,
    "resolution": 0.19999295867513933,
    "scale": 755.8773871718626
   },
   {
    "level": 6,
    "resolution": 0.09999647933756967,
    "scale": 377.9386935859313
   },
   {
    "level": 7,
    "resolution": 0.04999823966878483,
    "scale": 188.96934679296564
   }
  ]
 },
 "storageInfo": {
  "storageFormat": "esriMapCacheStorageModeCompactV2",
  "packetSize": 16
 },
 "cacheType": "Raster",
 "allowRasterFunction": true,
 "rasterFunctionInfos": [
  {
   "name": "None",
   "description": "",
   "help": ""
  }
 ],
 "rasterTypeInfos": [
  {
   "name": "Raster Dataset",
   "description": "Supports all ArcGIS Raster Datasets",
   "help": ""
  }
 ],
 "mensurationCapabilities": "Basic",
 "hasHistograms": true,
 "hasColormap": false,
 "hasRasterAttributeTable": false,
 "minScale": 0,
 "maxScale": 0,
 "exportTilesAllowed": false,
 "supportsStatistics": false,
 "supportsAdvancedQueries": false,
 "editFieldsInfo": null,
 "ownershipBasedAccessControlForRasters": null,
 "allowComputeTiePoints": false,
 "useStandardizedQueries": true,
 "advancedQueryCapabilities": {
  "useStandardizedQueries": true,
  "supportsStatistics": false,
  "supportsOrderBy": false,
  "supportsDistinct": false,
  "supportsPagination": false
 },
 "spatialReference": {
  "wkid": 102100,
  "latestWkid": 3857
 }
}
