{
 "currentVersion": 11.5,
 "serviceDescription": "Hosted/HTI_Drone_StAntoine",
 "serviceItemId": "5a42cdbff5914d97bd5cf24467b4a909",
 "name": "Hosted/HTI_Drone_StAntoine",
 "description": "",
 "extent": {
  "xmin": -8051946.61831118,
  "ymin": 2100185.6127833356,
  "xmax": -8048861.304214838,
  "ymax": 2102935.481244641,
  "spatialReference": {
   "wkid": 102100,
   "latestWkid": 3857
  }
 },
 "initialExtent": {
  "xmin": -8051946.61831118,
  "ymin": 2100185.6127833356,
  "xmax": -8048861.304214838,
  "ymax": 2102935.481244641,
  "spatialReference": {
   "wkid": 102100,
   "latestWkid": 3857
  }
 },
 "fullExtent": {
  "xmin": -8051946.61831118,
  "ymin": 2100185.6127833356,
  "xmax": -8048861.304214838,
  "ymax": 2102935.481244641,
  "spatialReference": {
   "wkid": 102100,
   "latestWkid": 3857
  }
 },
 "sortableFields": "",
 "bandCount": 4,
 "pixelType": "U8",
 "minValues": [
  1,
  1,
  1,
  255
 ],
 "maxValues": [
  255,
  255,
  255,
  255
 ],
 "meanValues": [
  120.75869169510862,
  119.92769069863178,
  113.26850185592288,
  255
 ],
 "stdvValues": [
  59.40718718944235,
  57.07946865298949,
  59.518817864676656,
  0
 ],
 "serviceProperties": "Center<\/MosaicMethod>First<\/MosaicOperator>true<\/SortAscending><\/LockImageID><\/TileOrderField>0<\/TileOrderBase>0.000000<\/AvgImageSpacingX>0.000000<\/AvgImageSpacingY>0.0<\/ViewPointX>0.0<\/ViewPointY>0.0<\/ViewPointDefShiftX>0.0<\/ViewPointDefShiftY>None<\/CompressionMethod>75<\/CompressionQuality>0.010000<\/CompressionTolerance>Bilinear<\/SamplingMethod><\/ImageServiceProperties><\/ImageServer>",
 "allowedFields": "",
 "hasMultidimensions": false,
 "pixelSizeX": 0.04850283907408846,
 "pixelSizeY": 0.048502839074085466,
 "meanPixelSize": 0.048502839074086965,
 "datasetFormat": "Cache/LERC2D",
 "uncompressedSize": 14425702580,
 "blockWidth": 256,
 "blockHeight": 256,
 "compressionType": "LERC2D",
 "bandNames": [
  "Band_1",
  "Band_2",
  "Band_3",
  "Band_4"
 ],
 "allowCopy": true,
 "allowAnalysis": true,
 "itemAccess": false,
 "inspectionCapabilities": "",
 "minPixelSize": 0,
 "maxPixelSize": 0,
 "copyrightText": "",
 "serviceDataType": "esriImageServiceDataTypeGeneric",
 "serviceSourceType": "esriImageServiceSourceTypeDataset",
 "objectIdField": "",
 "fields": [],
 "capabilities": "Image, Metadata",
 "defaultMosaicMethod": "Center",
 "allowedMosaicMethods": "",
 "sortField": "",
 "sortValue": null,
 "sortAscending": true,
 "mosaicOperator": "First",
 "defaultCompressionQuality": 75,
 "defaultResamplingMethod": "Bilinear",
 "maxImageHeight": 4100,
 "maxImageWidth": 15000,
 "singleFusedMapCache": true,
 "tileInfo": {
  "rows": 256,
  "cols": 256,
  "dpi": 96,
  "format": "LERC2D",
  "compressionQuality": 100000,
  "lercError": 0.1,
  "origin": {
   "x": -8051946.61831118,
   "y": 2102935.481244641
  },
  "spatialReference": {
   "wkid": 102100,
   "latestWkid": 3857
  },
  "lods": [
   {
    "level": 0,
    "resolution": 12.41672680296588,
    "scale": 46929.267286345595
   },
   {
    "level": 1,
    "resolution": 6.20836340148294,
    "scale": 23464.633643172798
   },
   {
    "level": 2,
    "resolution": 3.10418170074147,
    "scale": 11732.316821586399
   },
   {
    "level": 3,
    "resolution": 1.552090850370735,
    "scale": 5866.158410793199
   },
   {
    "level": 4,
    "resolution": 0.7760454251853675,
    "scale": 2933.0792053965997
   },
   {
    "level": 5,
    "resolution": 0.3880227125926837,
    "scale": 1466.5396026982999
   },
   {
    "level": 6,
    "resolution": 0.19401135629634186,
    "scale": 733.2698013491499
   },
   {
    "level": 7,
    "resolution": 0.09700567814817093,
    "scale": 366.63490067457496
   },
   {
    "level": 8,
    "resolution": 0.048502839074085466,
    "scale": 183.31745033728748
   }
  ]
 },
 "storageInfo": {
  "storageFormat": "esriMapCacheStorageModeCompactV2",
  "packetSize": 16
 },
 "cacheType": "Raster",
 "allowRasterFunction": true,
 "rasterFunctionInfos": [
  {
   "name": "None",
   "description": "",
   "help": ""
  }
 ],
 "rasterTypeInfos": [
  {
   "name": "Raster Dataset",
   "description": "Supports all ArcGIS Raster Datasets",
   "help": ""
  }
 ],
 "mensurationCapabilities": "Basic",
 "hasHistograms": true,
 "hasColormap": false,
 "hasRasterAttributeTable": false,
 "minScale": 0,
 "maxScale": 0,
 "exportTilesAllowed": false,
 "supportsStatistics": false,
 "supportsAdvancedQueries": false,
 "editFieldsInfo": null,
 "ownershipBasedAccessControlForRasters": null,
 "allowComputeTiePoints": false,
 "useStandardizedQueries": true,
 "advancedQueryCapabilities": {
  "useStandardizedQueries": true,
  "supportsStatistics": false,
  "supportsOrderBy": false,
  "supportsDistinct": false,
  "supportsPagination": false
 },
 "spatialReference": {
  "wkid": 102100,
  "latestWkid": 3857
 }
}
