{
 "currentVersion": 11.5,
 "serviceDescription": "Hosted/HTI_Drone_StGerard",
 "serviceItemId": "49bbd3b1c660480c93c6770c6273f122",
 "name": "Hosted/HTI_Drone_StGerard",
 "description": "",
 "extent": {
  "xmin": -8053209.42736478,
  "ymin": 2098937.44494047,
  "xmax": -8050544.857172596,
  "ymax": 2100394.1829012996,
  "spatialReference": {
   "wkid": 102100,
   "latestWkid": 3857
  }
 },
 "initialExtent": {
  "xmin": -8053209.42736478,
  "ymin": 2098937.44494047,
  "xmax": -8050544.857172596,
  "ymax": 2100394.1829012996,
  "spatialReference": {
   "wkid": 102100,
   "latestWkid": 3857
  }
 },
 "fullExtent": {
  "xmin": -8053209.42736478,
  "ymin": 2098937.44494047,
  "xmax": -8050544.857172596,
  "ymax": 2100394.1829012996,
  "spatialReference": {
   "wkid": 102100,
   "latestWkid": 3857
  }
 },
 "sortableFields": "",
 "bandCount": 4,
 "pixelType": "U8",
 "minValues": [
  1,
  1,
  1,
  255
 ],
 "maxValues": [
  255,
  255,
  255,
  255
 ],
 "meanValues": [
  119.8377836053443,
  120.01740996259608,
  107.8297961944516,
  255
 ],
 "stdvValues": [
  57.6206817659097,
  54.3863662606245,
  57.436030692025064,
  0
 ],
 "serviceProperties": "Center<\/MosaicMethod>First<\/MosaicOperator>true<\/SortAscending><\/LockImageID><\/TileOrderField>0<\/TileOrderBase>0.000000<\/AvgImageSpacingX>0.000000<\/AvgImageSpacingY>0.0<\/ViewPointX>0.0<\/ViewPointY>0.0<\/ViewPointDefShiftX>0.0<\/ViewPointDefShiftY>None<\/CompressionMethod>75<\/CompressionQuality>0.010000<\/CompressionTolerance>Bilinear<\/SamplingMethod><\/ImageServiceProperties><\/ImageServer>",
 "allowedFields": "",
 "hasMultidimensions": false,
 "pixelSizeX": 0.0477196567245132,
 "pixelSizeY": 0.04771965672451926,
 "meanPixelSize": 0.04771965672451623,
 "datasetFormat": "Cache/LERC2D",
 "uncompressedSize": 6818266504,
 "blockWidth": 256,
 "blockHeight": 256,
 "compressionType": "LERC2D",
 "bandNames": [
  "Band_1",
  "Band_2",
  "Band_3",
  "Band_4"
 ],
 "allowCopy": true,
 "allowAnalysis": true,
 "itemAccess": false,
 "inspectionCapabilities": "",
 "minPixelSize": 0,
 "maxPixelSize": 0,
 "copyrightText": "",
 "serviceDataType": "esriImageServiceDataTypeGeneric",
 "serviceSourceType": "esriImageServiceSourceTypeDataset",
 "objectIdField": "",
 "fields": [],
 "capabilities": "Image, Metadata",
 "defaultMosaicMethod": "Center",
 "allowedMosaicMethods": "",
 "sortField": "",
 "sortValue": null,
 "sortAscending": true,
 "mosaicOperator": "First",
 "defaultCompressionQuality": 75,
 "defaultResamplingMethod": "Bilinear",
 "maxImageHeight": 4100,
 "maxImageWidth": 15000,
 "singleFusedMapCache": true,
 "tileInfo": {
  "rows": 256,
  "cols": 256,
  "dpi": 96,
  "format": "LERC2D",
  "compressionQuality": 100000,
  "lercError": 0.1,
  "origin": {
   "x": -8053209.42736478,
   "y": 2100394.1829012996
  },
  "spatialReference": {
   "wkid": 102100,
   "latestWkid": 3857
  },
  "lods": [
   {
    "level": 0,
    "resolution": 6.108116060737689,
    "scale": 23085.746813879312
   },
   {
    "level": 1,
    "resolution": 3.0540580303688447,
    "scale": 11542.873406939656
   },
   {
    "level": 2,
    "resolution": 1.5270290151844224,
    "scale": 5771.436703469828
   },
   {
    "level": 3,
    "resolution": 0.7635145075922112,
    "scale": 2885.718351734914
   },
   {
    "level": 4,
    "resolution": 0.3817572537961056,
    "scale": 1442.859175867457
   },
   {
    "level": 5,
    "resolution": 0.1908786268980528,
    "scale": 721.4295879337285
   },
   {
    "level": 6,
    "resolution": 0.0954393134490264,
    "scale": 360.71479396686425
   },
   {
    "level": 7,
    "resolution": 0.0477196567245132,
    "scale": 180.35739698343212
   }
  ]
 },
 "storageInfo": {
  "storageFormat": "esriMapCacheStorageModeCompactV2",
  "packetSize": 16
 },
 "cacheType": "Raster",
 "allowRasterFunction": true,
 "rasterFunctionInfos": [
  {
   "name": "None",
   "description": "",
   "help": ""
  }
 ],
 "rasterTypeInfos": [
  {
   "name": "Raster Dataset",
   "description": "Supports all ArcGIS Raster Datasets",
   "help": ""
  }
 ],
 "mensurationCapabilities": "Basic",
 "hasHistograms": true,
 "hasColormap": false,
 "hasRasterAttributeTable": false,
 "minScale": 0,
 "maxScale": 0,
 "exportTilesAllowed": false,
 "supportsStatistics": false,
 "supportsAdvancedQueries": false,
 "editFieldsInfo": null,
 "ownershipBasedAccessControlForRasters": null,
 "allowComputeTiePoints": false,
 "useStandardizedQueries": true,
 "advancedQueryCapabilities": {
  "useStandardizedQueries": true,
  "supportsStatistics": false,
  "supportsOrderBy": false,
  "supportsDistinct": false,
  "supportsPagination": false
 },
 "spatialReference": {
  "wkid": 102100,
  "latestWkid": 3857
 }
}
