{
 "currentVersion": 11.5,
 "serviceDescription": "Hosted/HTI_Drone_SylvioCator",
 "serviceItemId": "e26d5335b9104fbfba4f8725b03ad7d8",
 "name": "Hosted/HTI_Drone_SylvioCator",
 "description": "",
 "extent": {
  "xmin": -8053891.803550625,
  "ymin": 2100097.011774582,
  "xmax": -8052929.500145112,
  "ymax": 2100781.530936072,
  "spatialReference": {
   "wkid": 102100,
   "latestWkid": 3857
  }
 },
 "initialExtent": {
  "xmin": -8053891.803550625,
  "ymin": 2100097.011774582,
  "xmax": -8052929.500145112,
  "ymax": 2100781.530936072,
  "spatialReference": {
   "wkid": 102100,
   "latestWkid": 3857
  }
 },
 "fullExtent": {
  "xmin": -8053891.803550625,
  "ymin": 2100097.011774582,
  "xmax": -8052929.500145112,
  "ymax": 2100781.530936072,
  "spatialReference": {
   "wkid": 102100,
   "latestWkid": 3857
  }
 },
 "sortableFields": "",
 "bandCount": 4,
 "pixelType": "U8",
 "minValues": [
  1,
  1,
  1,
  255
 ],
 "maxValues": [
  255,
  255,
  255,
  255
 ],
 "meanValues": [
  112.80885893758467,
  109.75775187432248,
  103.40937157941904,
  255
 ],
 "stdvValues": [
  61.418451102631884,
  58.29664025825311,
  57.96077717261885,
  0
 ],
 "serviceProperties": "Center<\/MosaicMethod>First<\/MosaicOperator>true<\/SortAscending><\/LockImageID><\/TileOrderField>0<\/TileOrderBase>0.000000<\/AvgImageSpacingX>0.000000<\/AvgImageSpacingY>0.0<\/ViewPointX>0.0<\/ViewPointY>0.0<\/ViewPointDefShiftX>0.0<\/ViewPointDefShiftY>None<\/CompressionMethod>75<\/CompressionQuality>0.010000<\/CompressionTolerance>Bilinear<\/SamplingMethod><\/ImageServiceProperties><\/ImageServer>",
 "allowedFields": "",
 "hasMultidimensions": false,
 "pixelSizeX": 0.048026321580728434,
 "pixelSizeY": 0.04802632158073794,
 "meanPixelSize": 0.04802632158073319,
 "datasetFormat": "Cache/LERC2D",
 "uncompressedSize": 1142349444,
 "blockWidth": 256,
 "blockHeight": 256,
 "compressionType": "LERC2D",
 "bandNames": [
  "Band_1",
  "Band_2",
  "Band_3",
  "Band_4"
 ],
 "allowCopy": true,
 "allowAnalysis": true,
 "itemAccess": false,
 "inspectionCapabilities": "",
 "minPixelSize": 0,
 "maxPixelSize": 0,
 "copyrightText": "",
 "serviceDataType": "esriImageServiceDataTypeGeneric",
 "serviceSourceType": "esriImageServiceSourceTypeDataset",
 "objectIdField": "",
 "fields": [],
 "capabilities": "Image, Metadata",
 "defaultMosaicMethod": "Center",
 "allowedMosaicMethods": "",
 "sortField": "",
 "sortValue": null,
 "sortAscending": true,
 "mosaicOperator": "First",
 "defaultCompressionQuality": 75,
 "defaultResamplingMethod": "Bilinear",
 "maxImageHeight": 4100,
 "maxImageWidth": 15000,
 "singleFusedMapCache": true,
 "tileInfo": {
  "rows": 256,
  "cols": 256,
  "dpi": 96,
  "format": "LERC2D",
  "compressionQuality": 100000,
  "lercError": 0.1,
  "origin": {
   "x": -8053891.803550625,
   "y": 2100781.530936072
  },
  "spatialReference": {
   "wkid": 102100,
   "latestWkid": 3857
  },
  "lods": [
   {
    "level": 0,
    "resolution": 3.073684581167228,
    "scale": 11617.052348213161
   },
   {
    "level": 1,
    "resolution": 1.536842290583614,
    "scale": 5808.526174106581
   },
   {
    "level": 2,
    "resolution": 0.768421145291807,
    "scale": 2904.2630870532903
   },
   {
    "level": 3,
    "resolution": 0.3842105726459035,
    "scale": 1452.1315435266451
   },
   {
    "level": 4,
    "resolution": 0.19210528632295176,
    "scale": 726.0657717633226
   },
   {
    "level": 5,
    "resolution": 0.09605264316147588,
    "scale": 363.0328858816613
   },
   {
    "level": 6,
    "resolution": 0.04802632158073794,
    "scale": 181.51644294083064
   }
  ]
 },
 "storageInfo": {
  "storageFormat": "esriMapCacheStorageModeCompactV2",
  "packetSize": 16
 },
 "cacheType": "Raster",
 "allowRasterFunction": true,
 "rasterFunctionInfos": [
  {
   "name": "None",
   "description": "",
   "help": ""
  }
 ],
 "rasterTypeInfos": [
  {
   "name": "Raster Dataset",
   "description": "Supports all ArcGIS Raster Datasets",
   "help": ""
  }
 ],
 "mensurationCapabilities": "Basic",
 "hasHistograms": true,
 "hasColormap": false,
 "hasRasterAttributeTable": false,
 "minScale": 0,
 "maxScale": 0,
 "exportTilesAllowed": false,
 "supportsStatistics": false,
 "supportsAdvancedQueries": false,
 "editFieldsInfo": null,
 "ownershipBasedAccessControlForRasters": null,
 "allowComputeTiePoints": false,
 "useStandardizedQueries": true,
 "advancedQueryCapabilities": {
  "useStandardizedQueries": true,
  "supportsStatistics": false,
  "supportsOrderBy": false,
  "supportsDistinct": false,
  "supportsPagination": false
 },
 "spatialReference": {
  "wkid": 102100,
  "latestWkid": 3857
 }
}
