View In:
ArcGIS JavaScript
ArcGIS Online Map Viewer
ArcGIS Earth
Service Description: HTI_17FEB21154923_S3DS_050305942010_01_P001
Name: HTI_17FEB21154923_S3DS_050305942010_01_P001
Description:
Single Fused Map Cache: false
Extent:
XMin: 561329.8252000001
YMin: 2054036.487024
XMax: 562473.9946640001
YMax: 2055101.962048
Spatial Reference: 32618
(32618)
LatestVCSWkid(0)
Initial Extent:
XMin: 561329.8252000001
YMin: 2054036.487024
XMax: 562473.9946640001
YMax: 2055101.962048
Spatial Reference: 32618
(32618)
LatestVCSWkid(0)
Full Extent:
XMin: 561329.8252000001
YMin: 2054036.487024
XMax: 562473.9946640001
YMax: 2055101.962048
Spatial Reference: 32618
(32618)
LatestVCSWkid(0)
Pixel Size X: 0.4769360000000146
Pixel Size Y: 0.4769360000000193
Band Count: 3
Pixel Type: U8
RasterFunction Infos: {"rasterFunctionInfos": [{
"name": "None",
"description": "",
"help": ""
}]}
Mensuration Capabilities: Basic
Inspection Capabilities:
Has Histograms: true
Has Colormap: false
Has Multi Dimensions : false
Rendering Rule:
Min Scale: 0
Max Scale: 0
Copyright Text:
Service Data Type: esriImageServiceDataTypeRGB
Min Values: 1, 1, 1
Max Values: 255, 255, 255
Mean Values: 85.1109016932646, 95.0141236997956, 92.74837226498218
Standard Deviation Values: 29.03733568333353, 31.269113457606018, 31.180028269164527
Object ID Field:
Fields:
None
Default Mosaic Method: Center
Allowed Mosaic Methods:
SortField:
SortValue: null
Mosaic Operator: First
Default Compression Quality: 75
Default Resampling Method: Bilinear
Max Record Count: null
Max Image Height: 4100
Max Image Width: 15000
Max Download Image Count: null
Max Mosaic Image Count: null
Allow Raster Function: true
Allow Copy: true
Allow Analysis: true
Allow Compute TiePoints: false
Supports Statistics: false
Supports Advanced Queries: false
Use StandardizedQueries: true
Raster Type Infos:
Name: Raster Dataset
Description: Supports all ArcGIS Raster Datasets
Help:
Has Raster Attribute Table: false
Edit Fields Info: null
Ownership Based AccessControl For Rasters: null
Child Resources:
Info
Histograms
Statistics
Key Properties
Legend
Raster Function Infos
Supported Operations:
Export Image
Identify
Measure
Compute Histograms
Compute Statistics Histograms
Get Samples
Compute Class Statistics
Query Boundary
Compute Pixel Location
Compute Angles
Validate
Project