View In:
ArcGIS JavaScript
ArcGIS Online Map Viewer
ArcGIS Earth
Service Description: HTI_19NOV28155348_S3DS_050305941010_01_P001
Name: HTI_19NOV28155348_S3DS_050305941010_01_P001
Description:
Single Fused Map Cache: false
Extent:
XMin: 561329.748901
YMin: 2054036.422915
XMax: 562474.309399
YMax: 2055101.940899
Spatial Reference: 32618
(32618)
LatestVCSWkid(0)
Initial Extent:
XMin: 561329.748901
YMin: 2054036.422915
XMax: 562474.309399
YMax: 2055101.940899
Spatial Reference: 32618
(32618)
LatestVCSWkid(0)
Full Extent:
XMin: 561329.748901
YMin: 2054036.422915
XMax: 562474.309399
YMax: 2055101.940899
Spatial Reference: 32618
(32618)
LatestVCSWkid(0)
Pixel Size X: 0.31119100000000166
Pixel Size Y: 0.3111910000000101
Band Count: 3
Pixel Type: U8
RasterFunction Infos: {"rasterFunctionInfos": [{
"name": "None",
"description": "",
"help": ""
}]}
Mensuration Capabilities: Basic
Inspection Capabilities:
Has Histograms: true
Has Colormap: false
Has Multi Dimensions : false
Rendering Rule:
Min Scale: 0
Max Scale: 0
Copyright Text:
Service Data Type: esriImageServiceDataTypeRGB
Min Values: 1, 1, 1
Max Values: 255, 255, 255
Mean Values: 58.767954234850734, 73.53791280379836, 62.444653116083714
Standard Deviation Values: 33.65503586456885, 36.787634124313996, 34.48738122906636
Object ID Field:
Fields:
None
Default Mosaic Method: Center
Allowed Mosaic Methods:
SortField:
SortValue: null
Mosaic Operator: First
Default Compression Quality: 75
Default Resampling Method: Bilinear
Max Record Count: null
Max Image Height: 4100
Max Image Width: 15000
Max Download Image Count: null
Max Mosaic Image Count: null
Allow Raster Function: true
Allow Copy: true
Allow Analysis: true
Allow Compute TiePoints: false
Supports Statistics: false
Supports Advanced Queries: false
Use StandardizedQueries: true
Raster Type Infos:
Name: Raster Dataset
Description: Supports all ArcGIS Raster Datasets
Help:
Has Raster Attribute Table: false
Edit Fields Info: null
Ownership Based AccessControl For Rasters: null
Child Resources:
Info
Histograms
Statistics
Key Properties
Legend
Raster Function Infos
Supported Operations:
Export Image
Identify
Measure
Compute Histograms
Compute Statistics Histograms
Get Samples
Compute Class Statistics
Query Boundary
Compute Pixel Location
Compute Angles
Validate
Project