View In:
ArcGIS JavaScript
ArcGIS Online Map Viewer
ArcGIS Earth
Service Description: HTI_21DEC09153714_S3DS_050305943010_01_P001
Name: HTI_21DEC09153714_S3DS_050305943010_01_P001
Description:
Single Fused Map Cache: false
Extent:
XMin: 561329.7407239999
YMin: 2054036.41742
XMax: 562474.2097739999
YMax: 2055102.071488
Spatial Reference: 32618
(32618)
LatestVCSWkid(0)
Initial Extent:
XMin: 561329.7407239999
YMin: 2054036.41742
XMax: 562474.2097739999
YMax: 2055102.071488
Spatial Reference: 32618
(32618)
LatestVCSWkid(0)
Full Extent:
XMin: 561329.7407239999
YMin: 2054036.41742
XMax: 562474.2097739999
YMax: 2055102.071488
Spatial Reference: 32618
(32618)
LatestVCSWkid(0)
Pixel Size X: 0.4719459999999819
Pixel Size Y: 0.47194599999996284
Band Count: 3
Pixel Type: U8
RasterFunction Infos: {"rasterFunctionInfos": [{
"name": "None",
"description": "",
"help": ""
}]}
Mensuration Capabilities: Basic
Inspection Capabilities:
Has Histograms: true
Has Colormap: false
Has Multi Dimensions : false
Rendering Rule:
Min Scale: 0
Max Scale: 0
Copyright Text:
Service Data Type: esriImageServiceDataTypeRGB
Min Values: 1, 1, 1
Max Values: 255, 255, 255
Mean Values: 73.70713217622615, 87.74010580063243, 85.76098199471879
Standard Deviation Values: 27.94254119599499, 32.05607476081907, 29.69664100616213
Object ID Field:
Fields:
None
Default Mosaic Method: Center
Allowed Mosaic Methods:
SortField:
SortValue: null
Mosaic Operator: First
Default Compression Quality: 75
Default Resampling Method: Bilinear
Max Record Count: null
Max Image Height: 4100
Max Image Width: 15000
Max Download Image Count: null
Max Mosaic Image Count: null
Allow Raster Function: true
Allow Copy: true
Allow Analysis: true
Allow Compute TiePoints: false
Supports Statistics: false
Supports Advanced Queries: false
Use StandardizedQueries: true
Raster Type Infos:
Name: Raster Dataset
Description: Supports all ArcGIS Raster Datasets
Help:
Has Raster Attribute Table: false
Edit Fields Info: null
Ownership Based AccessControl For Rasters: null
Child Resources:
Info
Histograms
Statistics
Key Properties
Legend
Raster Function Infos
Supported Operations:
Export Image
Identify
Measure
Compute Histograms
Compute Statistics Histograms
Get Samples
Compute Class Statistics
Query Boundary
Compute Pixel Location
Compute Angles
Validate
Project