View In:
ArcGIS JavaScript
ArcGIS Online Map Viewer
ArcGIS Earth
Service Description: HTI_23JUL11154417_S3DS_050305939010_01_P001
Name: HTI_23JUL11154417_S3DS_050305939010_01_P001
Description:
Single Fused Map Cache: false
Extent:
XMin: 561329.595176
YMin: 2054036.508958
XMax: 562474.3216540001
YMax: 2055101.981534
Spatial Reference: 32618
(32618)
LatestVCSWkid(0)
Initial Extent:
XMin: 561329.595176
YMin: 2054036.508958
XMax: 562474.3216540001
YMax: 2055101.981534
Spatial Reference: 32618
(32618)
LatestVCSWkid(0)
Full Extent:
XMin: 561329.595176
YMin: 2054036.508958
XMax: 562474.3216540001
YMax: 2055101.981534
Spatial Reference: 32618
(32618)
LatestVCSWkid(0)
Pixel Size X: 0.4689580000000226
Pixel Size Y: 0.46895800000001286
Band Count: 3
Pixel Type: U8
RasterFunction Infos: {"rasterFunctionInfos": [{
"name": "None",
"description": "",
"help": ""
}]}
Mensuration Capabilities: Basic
Inspection Capabilities:
Has Histograms: true
Has Colormap: false
Has Multi Dimensions : false
Rendering Rule:
Min Scale: 0
Max Scale: 0
Copyright Text:
Service Data Type: esriImageServiceDataTypeRGB
Min Values: 1, 1, 1
Max Values: 255, 255, 255
Mean Values: 99.16407564347506, 101.90436132443739, 101.42681187062098
Standard Deviation Values: 33.35849662211727, 38.28781328779024, 36.9905823549093
Object ID Field:
Fields:
None
Default Mosaic Method: Center
Allowed Mosaic Methods:
SortField:
SortValue: null
Mosaic Operator: First
Default Compression Quality: 75
Default Resampling Method: Bilinear
Max Record Count: null
Max Image Height: 4100
Max Image Width: 15000
Max Download Image Count: null
Max Mosaic Image Count: null
Allow Raster Function: true
Allow Copy: true
Allow Analysis: true
Allow Compute TiePoints: false
Supports Statistics: false
Supports Advanced Queries: false
Use StandardizedQueries: true
Raster Type Infos:
Name: Raster Dataset
Description: Supports all ArcGIS Raster Datasets
Help:
Has Raster Attribute Table: false
Edit Fields Info: null
Ownership Based AccessControl For Rasters: null
Child Resources:
Info
Histograms
Statistics
Key Properties
Legend
Raster Function Infos
Supported Operations:
Export Image
Identify
Measure
Compute Histograms
Compute Statistics Histograms
Get Samples
Compute Class Statistics
Query Boundary
Compute Pixel Location
Compute Angles
Validate
Project