View In:
ArcGIS JavaScript
ArcGIS Online Map Viewer
ArcGIS Earth
Service Description: Hosted/20051013_NER_0m66_QB02_Ngagam_Clip
Name: Hosted/20051013_NER_0m66_QB02_Ngagam_Clip
Description:
Single Fused Map Cache: true
Tile Info:
- Height: 256
- Width: 256
- DPI: 96
-
Levels of Detail: 5
-
Level ID: 0
[ Start Tile, End Tile ]
- Resolution: 9.754764835687572
- Scale: 36868.328791777894
-
Level ID: 1
[ Start Tile, End Tile ]
- Resolution: 4.877382417843786
- Scale: 18434.164395888947
-
Level ID: 2
[ Start Tile, End Tile ]
- Resolution: 2.438691208921893
- Scale: 9217.082197944474
-
Level ID: 3
[ Start Tile, End Tile ]
- Resolution: 1.2193456044609465
- Scale: 4608.541098972237
-
Level ID: 4
[ Start Tile, End Tile ]
- Resolution: 0.6096728022304733
- Scale: 2304.2705494861184
- Format: LERC2D
- Compression Quality: 100000.0
- LERC Error: 0.1
- Origin: X: 1430058.3355421098
Y: 1523767.5050613766
- Spatial Reference: 102100
(3857)
LatestVCSWkid(0)
Storage Info:
- Storage Format: esriMapCacheStorageModeCompactV2
- Packet Size: 16
Extent:
XMin: 1430058.3355421098
YMin: 1522018.3537917773
XMax: 1433813.3103310473
YMax: 1523767.5050613766
Spatial Reference: 102100
(3857)
LatestVCSWkid(0)
Initial Extent:
XMin: 1430058.3355421098
YMin: 1522018.3537917773
XMax: 1433813.3103310473
YMax: 1523767.5050613766
Spatial Reference: 102100
(3857)
LatestVCSWkid(0)
Full Extent:
XMin: 1430058.3355421098
YMin: 1522018.3537917773
XMax: 1433813.3103310473
YMax: 1523767.5050613766
Spatial Reference: 102100
(3857)
LatestVCSWkid(0)
Pixel Size X: 0.6096728022304733
Pixel Size Y: 0.6096728022305088
Band Count: 3
Pixel Type: U8
RasterFunction Infos: {"rasterFunctionInfos": [{
"name": "None",
"description": "",
"help": ""
}]}
Mensuration Capabilities: Basic
Inspection Capabilities:
Has Histograms: true
Has Colormap: false
Has Multi Dimensions : false
Rendering Rule:
Min Scale: 0
Max Scale: 0
Copyright Text:
Service Data Type: esriImageServiceDataTypeRGB
Min Values: 1, 1, 1
Max Values: 255, 255, 255
Mean Values: 198.43818029934246, 190.8502657950847, 184.59538406652777
Standard Deviation Values: 21.51005472522734, 21.06363390852334, 21.29451556028673
Object ID Field:
Fields:
None
Default Mosaic Method: Center
Allowed Mosaic Methods:
SortField:
SortValue: null
Mosaic Operator: First
Default Compression Quality: 75
Default Resampling Method: Bilinear
Max Record Count: null
Max Image Height: 4100
Max Image Width: 15000
Max Download Image Count: null
Max Mosaic Image Count: null
Allow Raster Function: true
Allow Copy: true
Allow Analysis: true
Allow Compute TiePoints: false
Supports Statistics: false
Supports Advanced Queries: false
Use StandardizedQueries: true
Raster Type Infos:
Name: Raster Dataset
Description: Supports all ArcGIS Raster Datasets
Help:
Has Raster Attribute Table: false
Edit Fields Info: null
Ownership Based AccessControl For Rasters: null
Child Resources:
Info
Histograms
Statistics
Key Properties
Legend
Raster Function Infos
Supported Operations:
Export Image
Identify
Compute Histograms
Compute Statistics Histograms
Get Samples
Compute Class Statistics
Query Boundary
Compute Pixel Location
Compute Angles
Validate
Project