View In:
ArcGIS JavaScript
ArcGIS Online Map Viewer
ArcGIS Earth
Service Description: Hosted/20081207_MLI_0m67_QB02_Dandoli_Clip
Name: Hosted/20081207_MLI_0m67_QB02_Dandoli_Clip
Description:
Single Fused Map Cache: true
Tile Info:
- Height: 256
- Width: 256
- DPI: 96
-
Levels of Detail: 5
-
Level ID: 1
[ Start Tile, End Tile ]
- Resolution: 4.8863493561975
- Scale: 18468.055118735574
-
Level ID: 2
[ Start Tile, End Tile ]
- Resolution: 2.44317467809875
- Scale: 9234.027559367787
-
Level ID: 3
[ Start Tile, End Tile ]
- Resolution: 1.221587339049375
- Scale: 4617.0137796838935
-
Level ID: 4
[ Start Tile, End Tile ]
- Resolution: 0.6107936695246875
- Scale: 2308.5068898419468
- Format: LERC2D
- Compression Quality: 100000.0
- LERC Error: 0.1
- Origin: X: -396454.72619234124
Y: 1620787.3185161152
- Spatial Reference: 102100
(3857)
LatestVCSWkid(0)
Storage Info:
- Storage Format: esriMapCacheStorageModeCompactV2
- Packet Size: 16
Extent:
XMin: -396454.72619234124
YMin: 1619038.616240266
XMax: -392632.9902021253
YMax: 1620787.3185161152
Spatial Reference: 102100
(3857)
LatestVCSWkid(0)
Initial Extent:
XMin: -396454.72619234124
YMin: 1619038.616240266
XMax: -392632.9902021253
YMax: 1620787.3185161152
Spatial Reference: 102100
(3857)
LatestVCSWkid(0)
Full Extent:
XMin: -396454.72619234124
YMin: 1619038.616240266
XMax: -392632.9902021253
YMax: 1620787.3185161152
Spatial Reference: 102100
(3857)
LatestVCSWkid(0)
Pixel Size X: 0.6107936695246869
Pixel Size Y: 0.6107936695246875
Band Count: 3
Pixel Type: U8
RasterFunction Infos: {"rasterFunctionInfos": [{
"name": "None",
"description": "",
"help": ""
}]}
Mensuration Capabilities: Basic
Inspection Capabilities:
Has Histograms: true
Has Colormap: false
Has Multi Dimensions : false
Rendering Rule:
Min Scale: 0
Max Scale: 0
Copyright Text:
Service Data Type: esriImageServiceDataTypeRGB
Min Values: 1, 1, 1
Max Values: 255, 255, 255
Mean Values: 189.6462016170984, 141.33459663488915, 98.28762180061055
Standard Deviation Values: 42.23118399254217, 33.479475445819055, 24.23495749485557
Object ID Field:
Fields:
None
Default Mosaic Method: Center
Allowed Mosaic Methods:
SortField:
SortValue: null
Mosaic Operator: First
Default Compression Quality: 75
Default Resampling Method: Bilinear
Max Record Count: null
Max Image Height: 4100
Max Image Width: 15000
Max Download Image Count: null
Max Mosaic Image Count: null
Allow Raster Function: true
Allow Copy: true
Allow Analysis: true
Allow Compute TiePoints: false
Supports Statistics: false
Supports Advanced Queries: false
Use StandardizedQueries: true
Raster Type Infos:
Name: Raster Dataset
Description: Supports all ArcGIS Raster Datasets
Help:
Has Raster Attribute Table: false
Edit Fields Info: null
Ownership Based AccessControl For Rasters: null
Child Resources:
Info
Histograms
Statistics
Key Properties
Legend
Raster Function Infos
Supported Operations:
Export Image
Identify
Compute Histograms
Compute Statistics Histograms
Get Samples
Compute Class Statistics
Query Boundary
Compute Pixel Location
Compute Angles
Validate
Project