View In:
ArcGIS JavaScript
ArcGIS Online Map Viewer
ArcGIS Earth
Service Description: Hosted/20091220_MLI_0m67_QB02_Doucombo_Clip
Name: Hosted/20091220_MLI_0m67_QB02_Doucombo_Clip
Description:
Single Fused Map Cache: true
Tile Info:
- Height: 256
- Width: 256
- DPI: 96
-
Levels of Detail: 5
-
Level ID: 0
[ Start Tile, End Tile ]
- Resolution: 9.771765924107973
- Scale: 36932.584745484564
-
Level ID: 1
[ Start Tile, End Tile ]
- Resolution: 4.885882962053986
- Scale: 18466.292372742282
-
Level ID: 2
[ Start Tile, End Tile ]
- Resolution: 2.442941481026993
- Scale: 9233.146186371141
-
Level ID: 3
[ Start Tile, End Tile ]
- Resolution: 1.2214707405134966
- Scale: 4616.5730931855705
-
Level ID: 4
[ Start Tile, End Tile ]
- Resolution: 0.6107353702567483
- Scale: 2308.2865465927853
- Format: LERC2D
- Compression Quality: 100000.0
- LERC Error: 0.1
- Origin: X: -409229.2388861196
Y: 1615883.4996940284
- Spatial Reference: 102100
(3857)
LatestVCSWkid(0)
Storage Info:
- Storage Format: esriMapCacheStorageModeCompactV2
- Packet Size: 16
Extent:
XMin: -409229.2388861196
YMin: 1614134.9643289833
XMax: -405407.86767442315
YMax: 1615883.4996940284
Spatial Reference: 102100
(3857)
LatestVCSWkid(0)
Initial Extent:
XMin: -409229.2388861196
YMin: 1614134.9643289833
XMax: -405407.86767442315
YMax: 1615883.4996940284
Spatial Reference: 102100
(3857)
LatestVCSWkid(0)
Full Extent:
XMin: -409229.2388861196
YMin: 1614134.9643289833
XMax: -405407.86767442315
YMax: 1615883.4996940284
Spatial Reference: 102100
(3857)
LatestVCSWkid(0)
Pixel Size X: 0.6107353702567483
Pixel Size Y: 0.6107353702567484
Band Count: 3
Pixel Type: U8
RasterFunction Infos: {"rasterFunctionInfos": [{
"name": "None",
"description": "",
"help": ""
}]}
Mensuration Capabilities: Basic
Inspection Capabilities:
Has Histograms: true
Has Colormap: false
Has Multi Dimensions : false
Rendering Rule:
Min Scale: 0
Max Scale: 0
Copyright Text:
Service Data Type: esriImageServiceDataTypeRGB
Min Values: 1, 1, 1
Max Values: 255, 255, 255
Mean Values: 189.99233333692413, 153.83493650227365, 110.85137612691878
Standard Deviation Values: 39.081381102975456, 29.25914641890474, 22.119860710404353
Object ID Field:
Fields:
None
Default Mosaic Method: Center
Allowed Mosaic Methods:
SortField:
SortValue: null
Mosaic Operator: First
Default Compression Quality: 75
Default Resampling Method: Bilinear
Max Record Count: null
Max Image Height: 4100
Max Image Width: 15000
Max Download Image Count: null
Max Mosaic Image Count: null
Allow Raster Function: true
Allow Copy: true
Allow Analysis: true
Allow Compute TiePoints: false
Supports Statistics: false
Supports Advanced Queries: false
Use StandardizedQueries: true
Raster Type Infos:
Name: Raster Dataset
Description: Supports all ArcGIS Raster Datasets
Help:
Has Raster Attribute Table: false
Edit Fields Info: null
Ownership Based AccessControl For Rasters: null
Child Resources:
Info
Histograms
Statistics
Key Properties
Legend
Raster Function Infos
Supported Operations:
Export Image
Identify
Compute Histograms
Compute Statistics Histograms
Get Samples
Compute Class Statistics
Query Boundary
Compute Pixel Location
Compute Angles
Validate
Project