View In:
ArcGIS JavaScript
ArcGIS Online Map Viewer
ArcGIS Earth
Service Description: Hosted/20110324_MLI_0m46_WV02_Dandoli_Clip
Name: Hosted/20110324_MLI_0m46_WV02_Dandoli_Clip
Description:
Single Fused Map Cache: true
Tile Info:
- Height: 256
- Width: 256
- DPI: 96
-
Levels of Detail: 5
-
Level ID: 0
[ Start Tile, End Tile ]
- Resolution: 7.564773998136382
- Scale: 28591.21462143642
-
Level ID: 1
[ Start Tile, End Tile ]
- Resolution: 3.782386999068191
- Scale: 14295.60731071821
-
Level ID: 2
[ Start Tile, End Tile ]
- Resolution: 1.8911934995340955
- Scale: 7147.803655359105
-
Level ID: 3
[ Start Tile, End Tile ]
- Resolution: 0.9455967497670478
- Scale: 3573.9018276795523
-
Level ID: 4
[ Start Tile, End Tile ]
- Resolution: 0.4727983748835239
- Scale: 1786.9509138397761
- Format: LERC2D
- Compression Quality: 100000.0
- LERC Error: 0.1
- Origin: X: -396454.7813022979
Y: 1620787.4868813248
- Spatial Reference: 102100
(3857)
LatestVCSWkid(0)
Storage Info:
- Storage Format: esriMapCacheStorageModeCompactV2
- Packet Size: 16
Extent:
XMin: -396454.7813022979
YMin: 1619038.6056926306
XMax: -392633.1520381144
YMax: 1620787.4868813248
Spatial Reference: 102100
(3857)
LatestVCSWkid(0)
Initial Extent:
XMin: -396454.7813022979
YMin: 1619038.6056926306
XMax: -392633.1520381144
YMax: 1620787.4868813248
Spatial Reference: 102100
(3857)
LatestVCSWkid(0)
Full Extent:
XMin: -396454.7813022979
YMin: 1619038.6056926306
XMax: -392633.1520381144
YMax: 1620787.4868813248
Spatial Reference: 102100
(3857)
LatestVCSWkid(0)
Pixel Size X: 0.4727983748835231
Pixel Size Y: 0.4727983748835239
Band Count: 3
Pixel Type: U8
RasterFunction Infos: {"rasterFunctionInfos": [{
"name": "None",
"description": "",
"help": ""
}]}
Mensuration Capabilities: Basic
Inspection Capabilities:
Has Histograms: true
Has Colormap: false
Has Multi Dimensions : false
Rendering Rule:
Min Scale: 0
Max Scale: 0
Copyright Text:
Service Data Type: esriImageServiceDataTypeRGB
Min Values: 1, 1, 1
Max Values: 255, 255, 255
Mean Values: 199.04222854550824, 161.16062775575512, 112.65776694263886
Standard Deviation Values: 33.982221237631144, 24.65687673003572, 20.009503389008227
Object ID Field:
Fields:
None
Default Mosaic Method: Center
Allowed Mosaic Methods:
SortField:
SortValue: null
Mosaic Operator: First
Default Compression Quality: 75
Default Resampling Method: Bilinear
Max Record Count: null
Max Image Height: 4100
Max Image Width: 15000
Max Download Image Count: null
Max Mosaic Image Count: null
Allow Raster Function: true
Allow Copy: true
Allow Analysis: true
Allow Compute TiePoints: false
Supports Statistics: false
Supports Advanced Queries: false
Use StandardizedQueries: true
Raster Type Infos:
Name: Raster Dataset
Description: Supports all ArcGIS Raster Datasets
Help:
Has Raster Attribute Table: false
Edit Fields Info: null
Ownership Based AccessControl For Rasters: null
Child Resources:
Info
Histograms
Statistics
Key Properties
Legend
Raster Function Infos
Supported Operations:
Export Image
Identify
Compute Histograms
Compute Statistics Histograms
Get Samples
Compute Class Statistics
Query Boundary
Compute Pixel Location
Compute Angles
Validate
Project