View In:
ArcGIS JavaScript
ArcGIS Online Map Viewer
ArcGIS Earth
Service Description: Hosted/20111013_MLI_0m68_QB02_Doucombo_Clip
Name: Hosted/20111013_MLI_0m68_QB02_Doucombo_Clip
Description:
Single Fused Map Cache: true
Tile Info:
- Height: 256
- Width: 256
- DPI: 96
-
Levels of Detail: 5
-
Level ID: 0
[ Start Tile, End Tile ]
- Resolution: 9.771766392626661
- Scale: 36932.586516260315
-
Level ID: 1
[ Start Tile, End Tile ]
- Resolution: 4.885883196313331
- Scale: 18466.293258130157
-
Level ID: 2
[ Start Tile, End Tile ]
- Resolution: 2.4429415981566653
- Scale: 9233.146629065079
-
Level ID: 3
[ Start Tile, End Tile ]
- Resolution: 1.2214707990783327
- Scale: 4616.573314532539
-
Level ID: 4
[ Start Tile, End Tile ]
- Resolution: 0.6107353995391663
- Scale: 2308.2866572662697
- Format: LERC2D
- Compression Quality: 100000.0
- LERC Error: 0.1
- Origin: X: -409225.0310093676
Y: 1615885.9817750205
- Spatial Reference: 102100
(3857)
LatestVCSWkid(0)
Storage Info:
- Storage Format: esriMapCacheStorageModeCompactV2
- Packet Size: 16
Extent:
XMin: -409225.0310093676
YMin: 1614137.4463261398
XMax: -405403.0488790515
YMax: 1615885.9817750205
Spatial Reference: 102100
(3857)
LatestVCSWkid(0)
Initial Extent:
XMin: -409225.0310093676
YMin: 1614137.4463261398
XMax: -405403.0488790515
YMax: 1615885.9817750205
Spatial Reference: 102100
(3857)
LatestVCSWkid(0)
Full Extent:
XMin: -409225.0310093676
YMin: 1614137.4463261398
XMax: -405403.0488790515
YMax: 1615885.9817750205
Spatial Reference: 102100
(3857)
LatestVCSWkid(0)
Pixel Size X: 0.6107353995391637
Pixel Size Y: 0.6107353995391663
Band Count: 3
Pixel Type: U8
RasterFunction Infos: {"rasterFunctionInfos": [{
"name": "None",
"description": "",
"help": ""
}]}
Mensuration Capabilities: Basic
Inspection Capabilities:
Has Histograms: true
Has Colormap: false
Has Multi Dimensions : false
Rendering Rule:
Min Scale: 0
Max Scale: 0
Copyright Text:
Service Data Type: esriImageServiceDataTypeRGB
Min Values: 1, 1, 1
Max Values: 255, 255, 255
Mean Values: 198.08462986448313, 172.15273370797902, 137.2176172515253
Standard Deviation Values: 33.123828076709934, 29.143267683122478, 25.754258003764928
Object ID Field:
Fields:
None
Default Mosaic Method: Center
Allowed Mosaic Methods:
SortField:
SortValue: null
Mosaic Operator: First
Default Compression Quality: 75
Default Resampling Method: Bilinear
Max Record Count: null
Max Image Height: 4100
Max Image Width: 15000
Max Download Image Count: null
Max Mosaic Image Count: null
Allow Raster Function: true
Allow Copy: true
Allow Analysis: true
Allow Compute TiePoints: false
Supports Statistics: false
Supports Advanced Queries: false
Use StandardizedQueries: true
Raster Type Infos:
Name: Raster Dataset
Description: Supports all ArcGIS Raster Datasets
Help:
Has Raster Attribute Table: false
Edit Fields Info: null
Ownership Based AccessControl For Rasters: null
Child Resources:
Info
Histograms
Statistics
Key Properties
Legend
Raster Function Infos
Supported Operations:
Export Image
Identify
Compute Histograms
Compute Statistics Histograms
Get Samples
Compute Class Statistics
Query Boundary
Compute Pixel Location
Compute Angles
Validate
Project