View In:
ArcGIS JavaScript
ArcGIS Online Map Viewer
ArcGIS Earth
Service Description: Hosted/20120117_NGA_0m53_WV02_Damasak_Cilp
Name: Hosted/20120117_NGA_0m53_WV02_Damasak_Cilp
Description:
Single Fused Map Cache: true
Tile Info:
- Height: 256
- Width: 256
- DPI: 96
-
Levels of Detail: 7
-
Level ID: 0
[ Start Tile, End Tile ]
- Resolution: 32.06001335059934
- Scale: 121171.46165885721
-
Level ID: 1
[ Start Tile, End Tile ]
- Resolution: 16.03000667529967
- Scale: 60585.730829428605
-
Level ID: 2
[ Start Tile, End Tile ]
- Resolution: 8.015003337649835
- Scale: 30292.865414714302
-
Level ID: 3
[ Start Tile, End Tile ]
- Resolution: 4.007501668824918
- Scale: 15146.432707357151
-
Level ID: 4
[ Start Tile, End Tile ]
- Resolution: 2.003750834412459
- Scale: 7573.216353678576
-
Level ID: 5
[ Start Tile, End Tile ]
- Resolution: 1.0018754172062294
- Scale: 3786.608176839288
-
Level ID: 6
[ Start Tile, End Tile ]
- Resolution: 0.5009377086031147
- Scale: 1893.304088419644
- Format: LERC2D
- Compression Quality: 100000.0
- LERC Error: 0.1
- Origin: X: 1383768.2848999985
Y: 1474766.4627000007
- Spatial Reference: 102100
(3857)
LatestVCSWkid(0)
Storage Info:
- Storage Format: esriMapCacheStorageModeCompactV2
- Packet Size: 16
Extent:
XMin: 1383768.2848999985
YMin: 1467772.370412484
XMax: 1399055.4009534398
YMax: 1474766.4627000007
Spatial Reference: 102100
(3857)
LatestVCSWkid(0)
Initial Extent:
XMin: 1383768.2848999985
YMin: 1467772.370412484
XMax: 1399055.4009534398
YMax: 1474766.4627000007
Spatial Reference: 102100
(3857)
LatestVCSWkid(0)
Full Extent:
XMin: 1383768.2848999985
YMin: 1467772.370412484
XMax: 1399055.4009534398
YMax: 1474766.4627000007
Spatial Reference: 102100
(3857)
LatestVCSWkid(0)
Pixel Size X: 0.5009377086031165
Pixel Size Y: 0.5009377086031147
Band Count: 3
Pixel Type: U8
RasterFunction Infos: {"rasterFunctionInfos": [{
"name": "None",
"description": "",
"help": ""
}]}
Mensuration Capabilities: Basic
Inspection Capabilities:
Has Histograms: true
Has Colormap: false
Has Multi Dimensions : false
Rendering Rule:
Min Scale: 0
Max Scale: 0
Copyright Text:
Service Data Type: esriImageServiceDataTypeRGB
Min Values: 1, 1, 1
Max Values: 255, 255, 255
Mean Values: 156.14629559074606, 146.34651948250573, 127.39652594222687
Standard Deviation Values: 34.71656640973683, 30.14932023860713, 30.699461699464795
Object ID Field:
Fields:
None
Default Mosaic Method: Center
Allowed Mosaic Methods:
SortField:
SortValue: null
Mosaic Operator: First
Default Compression Quality: 75
Default Resampling Method: Bilinear
Max Record Count: null
Max Image Height: 4100
Max Image Width: 15000
Max Download Image Count: null
Max Mosaic Image Count: null
Allow Raster Function: true
Allow Copy: true
Allow Analysis: true
Allow Compute TiePoints: false
Supports Statistics: false
Supports Advanced Queries: false
Use StandardizedQueries: true
Raster Type Infos:
Name: Raster Dataset
Description: Supports all ArcGIS Raster Datasets
Help:
Has Raster Attribute Table: false
Edit Fields Info: null
Ownership Based AccessControl For Rasters: null
Child Resources:
Info
Histograms
Statistics
Key Properties
Legend
Raster Function Infos
Supported Operations:
Export Image
Identify
Compute Histograms
Compute Statistics Histograms
Get Samples
Compute Class Statistics
Query Boundary
Compute Pixel Location
Compute Angles
Validate
Project