View In:
ArcGIS JavaScript
ArcGIS Online Map Viewer
ArcGIS Earth
Service Description: Hosted/20140226_NER_0m48_WV02_Boula_Clip
Name: Hosted/20140226_NER_0m48_WV02_Boula_Clip
Description:
Single Fused Map Cache: true
Tile Info:
- Height: 256
- Width: 256
- DPI: 96
-
Levels of Detail: 5
-
Level ID: 0
[ Start Tile, End Tile ]
- Resolution: 8.127231294117694
- Scale: 30717.033220743706
-
Level ID: 1
[ Start Tile, End Tile ]
- Resolution: 4.063615647058847
- Scale: 15358.516610371853
-
Level ID: 2
[ Start Tile, End Tile ]
- Resolution: 2.0318078235294235
- Scale: 7679.2583051859265
-
Level ID: 3
[ Start Tile, End Tile ]
- Resolution: 1.0159039117647117
- Scale: 3839.6291525929632
-
Level ID: 4
[ Start Tile, End Tile ]
- Resolution: 0.5079519558823559
- Scale: 1919.8145762964816
- Format: LERC2D
- Compression Quality: 100000.0
- LERC Error: 0.1
- Origin: X: 1423302.7897918802
Y: 1512074.8330777134
- Spatial Reference: 102100
(3857)
LatestVCSWkid(0)
Storage Info:
- Storage Format: esriMapCacheStorageModeCompactV2
- Packet Size: 16
Extent:
XMin: 1423302.7897918802
YMin: 1510325.9544936104
XMax: 1427125.128259895
YMax: 1512074.8330777134
Spatial Reference: 102100
(3857)
LatestVCSWkid(0)
Initial Extent:
XMin: 1423302.7897918802
YMin: 1510325.9544936104
XMax: 1427125.128259895
YMax: 1512074.8330777134
Spatial Reference: 102100
(3857)
LatestVCSWkid(0)
Full Extent:
XMin: 1423302.7897918802
YMin: 1510325.9544936104
XMax: 1427125.128259895
YMax: 1512074.8330777134
Spatial Reference: 102100
(3857)
LatestVCSWkid(0)
Pixel Size X: 0.5079519558823559
Pixel Size Y: 0.5079519558823585
Band Count: 3
Pixel Type: U8
RasterFunction Infos: {"rasterFunctionInfos": [{
"name": "None",
"description": "",
"help": ""
}]}
Mensuration Capabilities: Basic
Inspection Capabilities:
Has Histograms: true
Has Colormap: false
Has Multi Dimensions : false
Rendering Rule:
Min Scale: 0
Max Scale: 0
Copyright Text:
Service Data Type: esriImageServiceDataTypeRGB
Min Values: 1, 1, 1
Max Values: 255, 255, 255
Mean Values: 202.25252905649845, 192.73465703922292, 188.1196235609247
Standard Deviation Values: 26.254804366768912, 25.655955098142567, 24.927081110229064
Object ID Field:
Fields:
None
Default Mosaic Method: Center
Allowed Mosaic Methods:
SortField:
SortValue: null
Mosaic Operator: First
Default Compression Quality: 75
Default Resampling Method: Bilinear
Max Record Count: null
Max Image Height: 4100
Max Image Width: 15000
Max Download Image Count: null
Max Mosaic Image Count: null
Allow Raster Function: true
Allow Copy: true
Allow Analysis: true
Allow Compute TiePoints: false
Supports Statistics: false
Supports Advanced Queries: false
Use StandardizedQueries: true
Raster Type Infos:
Name: Raster Dataset
Description: Supports all ArcGIS Raster Datasets
Help:
Has Raster Attribute Table: false
Edit Fields Info: null
Ownership Based AccessControl For Rasters: null
Child Resources:
Info
Histograms
Statistics
Key Properties
Legend
Raster Function Infos
Supported Operations:
Export Image
Identify
Compute Histograms
Compute Statistics Histograms
Get Samples
Compute Class Statistics
Query Boundary
Compute Pixel Location
Compute Angles
Validate
Project