View In:
ArcGIS JavaScript
ArcGIS Online Map Viewer
ArcGIS Earth
Service Description: Hosted/20160409_NER_0m48_WV02_Ngagam_Clip
Name: Hosted/20160409_NER_0m48_WV02_Ngagam_Clip
Description:
Single Fused Map Cache: true
Tile Info:
- Height: 256
- Width: 256
- DPI: 96
-
Levels of Detail: 7
-
Level ID: 0
[ Start Tile, End Tile ]
- Resolution: 32.06001333926925
- Scale: 121171.4616160349
-
Level ID: 1
[ Start Tile, End Tile ]
- Resolution: 16.030006669634624
- Scale: 60585.73080801745
-
Level ID: 2
[ Start Tile, End Tile ]
- Resolution: 8.015003334817312
- Scale: 30292.865404008724
-
Level ID: 3
[ Start Tile, End Tile ]
- Resolution: 4.007501667408656
- Scale: 15146.432702004362
-
Level ID: 4
[ Start Tile, End Tile ]
- Resolution: 2.003750833704328
- Scale: 7573.216351002181
-
Level ID: 5
[ Start Tile, End Tile ]
- Resolution: 1.001875416852164
- Scale: 3786.6081755010905
-
Level ID: 6
[ Start Tile, End Tile ]
- Resolution: 0.500937708426082
- Scale: 1893.3040877505452
- Format: LERC2D
- Compression Quality: 100000.0
- LERC Error: 0.1
- Origin: X: 1424919.3158
Y: 1525998.4397
- Spatial Reference: 102100
(3857)
LatestVCSWkid(0)
Storage Info:
- Storage Format: esriMapCacheStorageModeCompactV2
- Packet Size: 16
Extent:
XMin: 1424919.3158
YMin: 1519004.347414955
XMax: 1439500.1096791578
YMax: 1525998.4397
Spatial Reference: 102100
(3857)
LatestVCSWkid(0)
Initial Extent:
XMin: 1424919.3158
YMin: 1519004.347414955
XMax: 1439500.1096791578
YMax: 1525998.4397
Spatial Reference: 102100
(3857)
LatestVCSWkid(0)
Full Extent:
XMin: 1424919.3158
YMin: 1519004.347414955
XMax: 1439500.1096791578
YMax: 1525998.4397
Spatial Reference: 102100
(3857)
LatestVCSWkid(0)
Pixel Size X: 0.5009377084260784
Pixel Size Y: 0.500937708426082
Band Count: 3
Pixel Type: U8
RasterFunction Infos: {"rasterFunctionInfos": [{
"name": "None",
"description": "",
"help": ""
}]}
Mensuration Capabilities: Basic
Inspection Capabilities:
Has Histograms: true
Has Colormap: false
Has Multi Dimensions : false
Rendering Rule:
Min Scale: 0
Max Scale: 0
Copyright Text:
Service Data Type: esriImageServiceDataTypeRGB
Min Values: 1, 1, 1
Max Values: 255, 255, 255
Mean Values: 200.31233732319674, 194.0874580394511, 186.80274140825264
Standard Deviation Values: 24.205198049399176, 23.477012838089433, 23.759016635133754
Object ID Field:
Fields:
None
Default Mosaic Method: Center
Allowed Mosaic Methods:
SortField:
SortValue: null
Mosaic Operator: First
Default Compression Quality: 75
Default Resampling Method: Bilinear
Max Record Count: null
Max Image Height: 4100
Max Image Width: 15000
Max Download Image Count: null
Max Mosaic Image Count: null
Allow Raster Function: true
Allow Copy: true
Allow Analysis: true
Allow Compute TiePoints: false
Supports Statistics: false
Supports Advanced Queries: false
Use StandardizedQueries: true
Raster Type Infos:
Name: Raster Dataset
Description: Supports all ArcGIS Raster Datasets
Help:
Has Raster Attribute Table: false
Edit Fields Info: null
Ownership Based AccessControl For Rasters: null
Child Resources:
Info
Histograms
Statistics
Key Properties
Legend
Raster Function Infos
Supported Operations:
Export Image
Identify
Compute Histograms
Compute Statistics Histograms
Get Samples
Compute Class Statistics
Query Boundary
Compute Pixel Location
Compute Angles
Validate
Project