View In:
ArcGIS JavaScript
ArcGIS Online Map Viewer
ArcGIS Earth
Service Description: Hosted/20170130_MLI_Dandoli_0m44_GE01
Name: Hosted/20170130_MLI_Dandoli_0m44_GE01
Description:
Single Fused Map Cache: true
Tile Info:
- Height: 256
- Width: 256
- DPI: 96
-
Levels of Detail: 5
-
Level ID: 0
[ Start Tile, End Tile ]
- Resolution: 7.269429436391813
- Scale: 27474.953943431585
-
Level ID: 1
[ Start Tile, End Tile ]
- Resolution: 3.6347147181959065
- Scale: 13737.476971715792
-
Level ID: 2
[ Start Tile, End Tile ]
- Resolution: 1.8173573590979533
- Scale: 6868.738485857896
-
Level ID: 3
[ Start Tile, End Tile ]
- Resolution: 0.9086786795489766
- Scale: 3434.369242928948
-
Level ID: 4
[ Start Tile, End Tile ]
- Resolution: 0.4543393397744883
- Scale: 1717.184621464474
- Format: LERC2D
- Compression Quality: 100000.0
- LERC Error: 0.1
- Origin: X: -396454.81632446055
Y: 1620787.5039720698
- Spatial Reference: 102100
(3857)
LatestVCSWkid(0)
Storage Info:
- Storage Format: esriMapCacheStorageModeCompactV2
- Packet Size: 16
Extent:
XMin: -396454.81632446055
YMin: 1619038.751853278
XMax: -392632.91379827756
YMax: 1620787.5039720698
Spatial Reference: 102100
(3857)
LatestVCSWkid(0)
Initial Extent:
XMin: -396454.81632446055
YMin: 1619038.751853278
XMax: -392632.91379827756
YMax: 1620787.5039720698
Spatial Reference: 102100
(3857)
LatestVCSWkid(0)
Full Extent:
XMin: -396454.81632446055
YMin: 1619038.751853278
XMax: -392632.91379827756
YMax: 1620787.5039720698
Spatial Reference: 102100
(3857)
LatestVCSWkid(0)
Pixel Size X: 0.4543393397744883
Pixel Size Y: 0.4543393397744659
Band Count: 3
Pixel Type: U8
RasterFunction Infos: {"rasterFunctionInfos": [{
"name": "None",
"description": "",
"help": ""
}]}
Mensuration Capabilities: Basic
Inspection Capabilities:
Has Histograms: true
Has Colormap: false
Has Multi Dimensions : false
Rendering Rule:
Min Scale: 0
Max Scale: 0
Copyright Text:
Service Data Type: esriImageServiceDataTypeRGB
Min Values: 1, 1, 1
Max Values: 255, 255, 255
Mean Values: 155.7853282935803, 131.3339701896868, 104.79355754630345
Standard Deviation Values: 44.558192744043, 29.10819478098304, 22.430401099231418
Object ID Field:
Fields:
None
Default Mosaic Method: Center
Allowed Mosaic Methods:
SortField:
SortValue: null
Mosaic Operator: First
Default Compression Quality: 75
Default Resampling Method: Bilinear
Max Record Count: null
Max Image Height: 4100
Max Image Width: 15000
Max Download Image Count: null
Max Mosaic Image Count: null
Allow Raster Function: true
Allow Copy: true
Allow Analysis: true
Allow Compute TiePoints: false
Supports Statistics: false
Supports Advanced Queries: false
Use StandardizedQueries: true
Raster Type Infos:
Name: Raster Dataset
Description: Supports all ArcGIS Raster Datasets
Help:
Has Raster Attribute Table: false
Edit Fields Info: null
Ownership Based AccessControl For Rasters: null
Child Resources:
Info
Histograms
Statistics
Key Properties
Legend
Raster Function Infos
Supported Operations:
Export Image
Identify
Compute Histograms
Compute Statistics Histograms
Get Samples
Compute Class Statistics
Query Boundary
Compute Pixel Location
Compute Angles
Validate
Project