View In:
ArcGIS JavaScript
ArcGIS Online Map Viewer
ArcGIS Earth
Service Description: Hosted/20190211_MLI_0m44_GE01_Doucombo
Name: Hosted/20190211_MLI_0m44_GE01_Doucombo
Description:
Single Fused Map Cache: true
Tile Info:
- Height: 256
- Width: 256
- DPI: 96
-
Levels of Detail: 5
-
Level ID: 0
[ Start Tile, End Tile ]
- Resolution: 7.122504636783782
- Scale: 26919.648724817038
-
Level ID: 1
[ Start Tile, End Tile ]
- Resolution: 3.561252318391891
- Scale: 13459.824362408519
-
Level ID: 2
[ Start Tile, End Tile ]
- Resolution: 1.7806261591959456
- Scale: 6729.9121812042595
-
Level ID: 3
[ Start Tile, End Tile ]
- Resolution: 0.8903130795979728
- Scale: 3364.9560906021297
-
Level ID: 4
[ Start Tile, End Tile ]
- Resolution: 0.4451565397989864
- Scale: 1682.4780453010649
- Format: LERC2D
- Compression Quality: 100000.0
- LERC Error: 0.1
- Origin: X: -409069.5463815929
Y: 1615936.1692410691
- Spatial Reference: 102100
(3857)
LatestVCSWkid(0)
Storage Info:
- Storage Format: esriMapCacheStorageModeCompactV2
- Packet Size: 16
Extent:
XMin: -409069.5463815929
YMin: 1614187.5943527387
XMax: -405247.4323308788
YMax: 1615936.1692410691
Spatial Reference: 102100
(3857)
LatestVCSWkid(0)
Initial Extent:
XMin: -409069.5463815929
YMin: 1614187.5943527387
XMax: -405247.4323308788
YMax: 1615936.1692410691
Spatial Reference: 102100
(3857)
LatestVCSWkid(0)
Full Extent:
XMin: -409069.5463815929
YMin: 1614187.5943527387
XMax: -405247.4323308788
YMax: 1615936.1692410691
Spatial Reference: 102100
(3857)
LatestVCSWkid(0)
Pixel Size X: 0.44515653979898956
Pixel Size Y: 0.4451565397989864
Band Count: 3
Pixel Type: U8
RasterFunction Infos: {"rasterFunctionInfos": [{
"name": "None",
"description": "",
"help": ""
}]}
Mensuration Capabilities: Basic
Inspection Capabilities:
Has Histograms: true
Has Colormap: false
Has Multi Dimensions : false
Rendering Rule:
Min Scale: 0
Max Scale: 0
Copyright Text:
Service Data Type: esriImageServiceDataTypeRGB
Min Values: 1, 1, 1
Max Values: 255, 255, 255
Mean Values: 211.97540666779622, 172.17332450567426, 125.38731033515843
Standard Deviation Values: 31.430541407567375, 23.60503903834686, 18.07683696941308
Object ID Field:
Fields:
None
Default Mosaic Method: Center
Allowed Mosaic Methods:
SortField:
SortValue: null
Mosaic Operator: First
Default Compression Quality: 75
Default Resampling Method: Bilinear
Max Record Count: null
Max Image Height: 4100
Max Image Width: 15000
Max Download Image Count: null
Max Mosaic Image Count: null
Allow Raster Function: true
Allow Copy: true
Allow Analysis: true
Allow Compute TiePoints: false
Supports Statistics: false
Supports Advanced Queries: false
Use StandardizedQueries: true
Raster Type Infos:
Name: Raster Dataset
Description: Supports all ArcGIS Raster Datasets
Help:
Has Raster Attribute Table: false
Edit Fields Info: null
Ownership Based AccessControl For Rasters: null
Child Resources:
Info
Histograms
Statistics
Key Properties
Legend
Raster Function Infos
Supported Operations:
Export Image
Identify
Compute Histograms
Compute Statistics Histograms
Get Samples
Compute Class Statistics
Query Boundary
Compute Pixel Location
Compute Angles
Validate
Project