View In:
ArcGIS JavaScript
ArcGIS Online Map Viewer
ArcGIS Earth
Service Description: Hosted/20220129_MLI_0m51_WV02_Dandoli
Name: Hosted/20220129_MLI_0m51_WV02_Dandoli
Description:
Single Fused Map Cache: true
Tile Info:
- Height: 256
- Width: 256
- DPI: 96
-
Levels of Detail: 5
-
Level ID: 0
[ Start Tile, End Tile ]
- Resolution: 8.143915618299284
- Scale: 30780.091957674507
-
Level ID: 1
[ Start Tile, End Tile ]
- Resolution: 4.071957809149642
- Scale: 15390.045978837254
-
Level ID: 2
[ Start Tile, End Tile ]
- Resolution: 2.035978904574821
- Scale: 7695.022989418627
-
Level ID: 3
[ Start Tile, End Tile ]
- Resolution: 1.0179894522874104
- Scale: 3847.5114947093134
-
Level ID: 4
[ Start Tile, End Tile ]
- Resolution: 0.5089947261437052
- Scale: 1923.7557473546567
- Format: LERC2D
- Compression Quality: 100000.0
- LERC Error: 0.1
- Origin: X: -396455.12694250804
Y: 1620787.628835492
- Spatial Reference: 102100
(3857)
LatestVCSWkid(0)
Storage Info:
- Storage Format: esriMapCacheStorageModeCompactV2
- Packet Size: 16
Extent:
XMin: -396455.12694250804
YMin: 1619038.7229564623
XMax: -392632.5765491688
YMax: 1620787.628835492
Spatial Reference: 102100
(3857)
LatestVCSWkid(0)
Initial Extent:
XMin: -396455.12694250804
YMin: 1619038.7229564623
XMax: -392632.5765491688
YMax: 1620787.628835492
Spatial Reference: 102100
(3857)
LatestVCSWkid(0)
Full Extent:
XMin: -396455.12694250804
YMin: 1619038.7229564623
XMax: -392632.5765491688
YMax: 1620787.628835492
Spatial Reference: 102100
(3857)
LatestVCSWkid(0)
Pixel Size X: 0.5089947261437079
Pixel Size Y: 0.5089947261437052
Band Count: 3
Pixel Type: U8
RasterFunction Infos: {"rasterFunctionInfos": [{
"name": "None",
"description": "",
"help": ""
}]}
Mensuration Capabilities: Basic
Inspection Capabilities:
Has Histograms: true
Has Colormap: false
Has Multi Dimensions : false
Rendering Rule:
Min Scale: 0
Max Scale: 0
Copyright Text:
Service Data Type: esriImageServiceDataTypeRGB
Min Values: 1, 1, 1
Max Values: 255, 255, 255
Mean Values: 177.5253238859609, 174.64901258712607, 164.20226945520807
Standard Deviation Values: 35.31677470349892, 31.49550948971303, 29.762868431237116
Object ID Field:
Fields:
None
Default Mosaic Method: Center
Allowed Mosaic Methods:
SortField:
SortValue: null
Mosaic Operator: First
Default Compression Quality: 75
Default Resampling Method: Bilinear
Max Record Count: null
Max Image Height: 4100
Max Image Width: 15000
Max Download Image Count: null
Max Mosaic Image Count: null
Allow Raster Function: true
Allow Copy: true
Allow Analysis: true
Allow Compute TiePoints: false
Supports Statistics: false
Supports Advanced Queries: false
Use StandardizedQueries: true
Raster Type Infos:
Name: Raster Dataset
Description: Supports all ArcGIS Raster Datasets
Help:
Has Raster Attribute Table: false
Edit Fields Info: null
Ownership Based AccessControl For Rasters: null
Child Resources:
Info
Histograms
Statistics
Key Properties
Legend
Raster Function Infos
Supported Operations:
Export Image
Identify
Compute Histograms
Compute Statistics Histograms
Get Samples
Compute Class Statistics
Query Boundary
Compute Pixel Location
Compute Angles
Validate
Project