View In:
ArcGIS JavaScript
ArcGIS Online Map Viewer
ArcGIS Earth
Service Description: Hosted/20220712_0m48_GE01_Boula_Clip
Name: Hosted/20220712_0m48_GE01_Boula_Clip
Description:
Single Fused Map Cache: true
Tile Info:
- Height: 256
- Width: 256
- DPI: 96
-
Levels of Detail: 5
-
Level ID: 0
[ Start Tile, End Tile ]
- Resolution: 7.812008082906168
- Scale: 29525.640789505516
-
Level ID: 1
[ Start Tile, End Tile ]
- Resolution: 3.906004041453084
- Scale: 14762.820394752758
-
Level ID: 2
[ Start Tile, End Tile ]
- Resolution: 1.953002020726542
- Scale: 7381.410197376379
-
Level ID: 3
[ Start Tile, End Tile ]
- Resolution: 0.976501010363271
- Scale: 3690.7050986881895
-
Level ID: 4
[ Start Tile, End Tile ]
- Resolution: 0.4882505051816355
- Scale: 1845.3525493440948
- Format: LERC2D
- Compression Quality: 100000.0
- LERC Error: 0.1
- Origin: X: 1423302.9378471791
Y: 1512074.7124264375
- Spatial Reference: 102100
(3857)
LatestVCSWkid(0)
Storage Info:
- Storage Format: esriMapCacheStorageModeCompactV2
- Packet Size: 16
Extent:
XMin: 1423302.9378471791
YMin: 1510326.287367382
XMax: 1427124.962801741
YMax: 1512074.7124264375
Spatial Reference: 102100
(3857)
LatestVCSWkid(0)
Initial Extent:
XMin: 1423302.9378471791
YMin: 1510326.287367382
XMax: 1427124.962801741
YMax: 1512074.7124264375
Spatial Reference: 102100
(3857)
LatestVCSWkid(0)
Full Extent:
XMin: 1423302.9378471791
YMin: 1510326.287367382
XMax: 1427124.962801741
YMax: 1512074.7124264375
Spatial Reference: 102100
(3857)
LatestVCSWkid(0)
Pixel Size X: 0.4882505051816355
Pixel Size Y: 0.4882505051816375
Band Count: 3
Pixel Type: U8
RasterFunction Infos: {"rasterFunctionInfos": [{
"name": "None",
"description": "",
"help": ""
}]}
Mensuration Capabilities: Basic
Inspection Capabilities:
Has Histograms: true
Has Colormap: false
Has Multi Dimensions : false
Rendering Rule:
Min Scale: 0
Max Scale: 0
Copyright Text:
Service Data Type: esriImageServiceDataTypeRGB
Min Values: 1, 1, 1
Max Values: 255, 255, 255
Mean Values: 162.49024152179211, 154.84245474589045, 151.37337489552394
Standard Deviation Values: 35.996851265088814, 35.02211868509897, 32.427624791360294
Object ID Field:
Fields:
None
Default Mosaic Method: Center
Allowed Mosaic Methods:
SortField:
SortValue: null
Mosaic Operator: First
Default Compression Quality: 75
Default Resampling Method: Bilinear
Max Record Count: null
Max Image Height: 4100
Max Image Width: 15000
Max Download Image Count: null
Max Mosaic Image Count: null
Allow Raster Function: true
Allow Copy: true
Allow Analysis: true
Allow Compute TiePoints: false
Supports Statistics: false
Supports Advanced Queries: false
Use StandardizedQueries: true
Raster Type Infos:
Name: Raster Dataset
Description: Supports all ArcGIS Raster Datasets
Help:
Has Raster Attribute Table: false
Edit Fields Info: null
Ownership Based AccessControl For Rasters: null
Child Resources:
Info
Histograms
Statistics
Key Properties
Legend
Raster Function Infos
Supported Operations:
Export Image
Identify
Compute Histograms
Compute Statistics Histograms
Get Samples
Compute Class Statistics
Query Boundary
Compute Pixel Location
Compute Angles
Validate
Project