View In:
ArcGIS JavaScript
ArcGIS Online Map Viewer
ArcGIS Earth
Service Description: Hosted/20240227_MLI_0m42_GE01_Dandoli
Name: Hosted/20240227_MLI_0m42_GE01_Dandoli
Description:
Single Fused Map Cache: true
Tile Info:
- Height: 256
- Width: 256
- DPI: 96
-
Levels of Detail: 5
-
Level ID: 0
[ Start Tile, End Tile ]
- Resolution: 6.993596706992607
- Scale: 26432.438626012696
-
Level ID: 1
[ Start Tile, End Tile ]
- Resolution: 3.4967983534963034
- Scale: 13216.219313006348
-
Level ID: 2
[ Start Tile, End Tile ]
- Resolution: 1.7483991767481517
- Scale: 6608.109656503174
-
Level ID: 3
[ Start Tile, End Tile ]
- Resolution: 0.8741995883740759
- Scale: 3304.054828251587
-
Level ID: 4
[ Start Tile, End Tile ]
- Resolution: 0.4370997941870379
- Scale: 1652.0274141257935
- Format: LERC2D
- Compression Quality: 100000.0
- LERC Error: 0.1
- Origin: X: -396455.0714730225
Y: 1620788.496873907
- Spatial Reference: 102100
(3857)
LatestVCSWkid(0)
Storage Info:
- Storage Format: esriMapCacheStorageModeCompactV2
- Packet Size: 16
Extent:
XMin: -396455.0714730225
YMin: 1619038.7863977763
XMax: -392632.63377285685
YMax: 1620788.496873907
Spatial Reference: 102100
(3857)
LatestVCSWkid(0)
Initial Extent:
XMin: -396455.0714730225
YMin: 1619038.7863977763
XMax: -392632.63377285685
YMax: 1620788.496873907
Spatial Reference: 102100
(3857)
LatestVCSWkid(0)
Full Extent:
XMin: -396455.0714730225
YMin: 1619038.7863977763
XMax: -392632.63377285685
YMax: 1620788.496873907
Spatial Reference: 102100
(3857)
LatestVCSWkid(0)
Pixel Size X: 0.4370997941870404
Pixel Size Y: 0.4370997941870379
Band Count: 3
Pixel Type: U8
RasterFunction Infos: {"rasterFunctionInfos": [{
"name": "None",
"description": "",
"help": ""
}]}
Mensuration Capabilities: Basic
Inspection Capabilities:
Has Histograms: true
Has Colormap: false
Has Multi Dimensions : false
Rendering Rule:
Min Scale: 0
Max Scale: 0
Copyright Text:
Service Data Type: esriImageServiceDataTypeRGB
Min Values: 1, 1, 1
Max Values: 255, 255, 255
Mean Values: 209.7997361504982, 177.45961041937161, 141.28403797100924
Standard Deviation Values: 35.61010338062449, 28.796358044727626, 24.15229718023717
Object ID Field:
Fields:
None
Default Mosaic Method: Center
Allowed Mosaic Methods:
SortField:
SortValue: null
Mosaic Operator: First
Default Compression Quality: 75
Default Resampling Method: Bilinear
Max Record Count: null
Max Image Height: 4100
Max Image Width: 15000
Max Download Image Count: null
Max Mosaic Image Count: null
Allow Raster Function: true
Allow Copy: true
Allow Analysis: true
Allow Compute TiePoints: false
Supports Statistics: false
Supports Advanced Queries: false
Use StandardizedQueries: true
Raster Type Infos:
Name: Raster Dataset
Description: Supports all ArcGIS Raster Datasets
Help:
Has Raster Attribute Table: false
Edit Fields Info: null
Ownership Based AccessControl For Rasters: null
Child Resources:
Info
Histograms
Statistics
Key Properties
Legend
Raster Function Infos
Supported Operations:
Export Image
Identify
Compute Histograms
Compute Statistics Histograms
Get Samples
Compute Class Statistics
Query Boundary
Compute Pixel Location
Compute Angles
Validate
Project