View In:
ArcGIS JavaScript
ArcGIS Online Map Viewer
ArcGIS Earth
Service Description: Hosted/20240227_MLI_0m42_GE01_Doucombo
Name: Hosted/20240227_MLI_0m42_GE01_Doucombo
Description:
Single Fused Map Cache: true
Tile Info:
- Height: 256
- Width: 256
- DPI: 96
-
Levels of Detail: 5
-
Level ID: 0
[ Start Tile, End Tile ]
- Resolution: 6.920620588146408
- Scale: 26156.62392531111
-
Level ID: 1
[ Start Tile, End Tile ]
- Resolution: 3.460310294073204
- Scale: 13078.311962655554
-
Level ID: 2
[ Start Tile, End Tile ]
- Resolution: 1.730155147036602
- Scale: 6539.155981327777
-
Level ID: 3
[ Start Tile, End Tile ]
- Resolution: 0.865077573518301
- Scale: 3269.5779906638886
-
Level ID: 4
[ Start Tile, End Tile ]
- Resolution: 0.4325387867591505
- Scale: 1634.7889953319443
- Format: LERC2D
- Compression Quality: 100000.0
- LERC Error: 0.1
- Origin: X: -408498.14650485484
Y: 1615935.9710921326
- Spatial Reference: 102100
(3857)
LatestVCSWkid(0)
Storage Info:
- Storage Format: esriMapCacheStorageModeCompactV2
- Packet Size: 16
Extent:
XMin: -408498.14650485484
YMin: 1614187.6493160522
XMax: -405247.6175223598
YMax: 1615935.9710921326
Spatial Reference: 102100
(3857)
LatestVCSWkid(0)
Initial Extent:
XMin: -408498.14650485484
YMin: 1614187.6493160522
XMax: -405247.6175223598
YMax: 1615935.9710921326
Spatial Reference: 102100
(3857)
LatestVCSWkid(0)
Full Extent:
XMin: -408498.14650485484
YMin: 1614187.6493160522
XMax: -405247.6175223598
YMax: 1615935.9710921326
Spatial Reference: 102100
(3857)
LatestVCSWkid(0)
Pixel Size X: 0.4325387867591505
Pixel Size Y: 0.4325387867591318
Band Count: 3
Pixel Type: U8
RasterFunction Infos: {"rasterFunctionInfos": [{
"name": "None",
"description": "",
"help": ""
}]}
Mensuration Capabilities: Basic
Inspection Capabilities:
Has Histograms: true
Has Colormap: false
Has Multi Dimensions : false
Rendering Rule:
Min Scale: 0
Max Scale: 0
Copyright Text:
Service Data Type: esriImageServiceDataTypeRGB
Min Values: 1, 1, 1
Max Values: 255, 255, 255
Mean Values: 210.51618388223343, 181.18003155259407, 142.31398557143865
Standard Deviation Values: 36.41056872813568, 31.7583604190359, 26.17789265679483
Object ID Field:
Fields:
None
Default Mosaic Method: Center
Allowed Mosaic Methods:
SortField:
SortValue: null
Mosaic Operator: First
Default Compression Quality: 75
Default Resampling Method: Bilinear
Max Record Count: null
Max Image Height: 4100
Max Image Width: 15000
Max Download Image Count: null
Max Mosaic Image Count: null
Allow Raster Function: true
Allow Copy: true
Allow Analysis: true
Allow Compute TiePoints: false
Supports Statistics: false
Supports Advanced Queries: false
Use StandardizedQueries: true
Raster Type Infos:
Name: Raster Dataset
Description: Supports all ArcGIS Raster Datasets
Help:
Has Raster Attribute Table: false
Edit Fields Info: null
Ownership Based AccessControl For Rasters: null
Child Resources:
Info
Histograms
Statistics
Key Properties
Legend
Raster Function Infos
Supported Operations:
Export Image
Identify
Compute Histograms
Compute Statistics Histograms
Get Samples
Compute Class Statistics
Query Boundary
Compute Pixel Location
Compute Angles
Validate
Project